BEGIN:VCALENDAR
VERSION:2.0
PRODID:-//‍‍‍ POLA I Entdecke das Familienmagazin für Eltern und Kind - ECPv6.15.20//NONSGML v1.0//EN
CALSCALE:GREGORIAN
METHOD:PUBLISH
X-WR-CALNAME:‍‍‍ POLA I Entdecke das Familienmagazin für Eltern und Kind
X-ORIGINAL-URL:https://pola-magazin.de
X-WR-CALDESC:Veranstaltungen für ‍‍‍ POLA I Entdecke das Familienmagazin für Eltern und Kind
REFRESH-INTERVAL;VALUE=DURATION:PT1H
X-Robots-Tag:noindex
X-PUBLISHED-TTL:PT1H
BEGIN:VTIMEZONE
TZID:Europe/Berlin
BEGIN:DAYLIGHT
TZOFFSETFROM:+0100
TZOFFSETTO:+0200
TZNAME:CEST
DTSTART:20240331T010000
END:DAYLIGHT
BEGIN:STANDARD
TZOFFSETFROM:+0200
TZOFFSETTO:+0100
TZNAME:CET
DTSTART:20241027T010000
END:STANDARD
BEGIN:DAYLIGHT
TZOFFSETFROM:+0100
TZOFFSETTO:+0200
TZNAME:CEST
DTSTART:20250330T010000
END:DAYLIGHT
BEGIN:STANDARD
TZOFFSETFROM:+0200
TZOFFSETTO:+0100
TZNAME:CET
DTSTART:20251026T010000
END:STANDARD
BEGIN:DAYLIGHT
TZOFFSETFROM:+0100
TZOFFSETTO:+0200
TZNAME:CEST
DTSTART:20260329T010000
END:DAYLIGHT
BEGIN:STANDARD
TZOFFSETFROM:+0200
TZOFFSETTO:+0100
TZNAME:CET
DTSTART:20261025T010000
END:STANDARD
END:VTIMEZONE
BEGIN:VEVENT
DTSTART;TZID=Europe/Berlin:20250903T100000
DTEND;TZID=Europe/Berlin:20250903T130000
DTSTAMP:20260420T115926
CREATED:20250625T121130Z
LAST-MODIFIED:20250625T121130Z
UID:10004876-1756893600-1756904400@pola-magazin.de
SUMMARY:Ferienkino im Thalia
DESCRIPTION:Immer in den Schulferien werden im Thalia Programmkino mittwochs zwischen 10 Uhr und 11 Uhr bis zu vier Filme für die Kleinen und für die etwas Älteren gezeigt. \n\nDer Eintritt kostet 4 Euro.\nGruppen (ab 6 Personen) können sich unter 0331/74 370 45 anmelden.\nEinzelkarten (bis 6 Personen) könnt ihr ganz regulär online oder an der Kinokasse erwerben.\n\n→ zum Programm
URL:https://pola-magazin.de/veranstaltung/ferienkino-im-thalia/2025-09-03/
LOCATION:Thalia Das Programmkino\, Rudolf Breitscheid Str. 50\, Potsdam\, 14482
CATEGORIES:Ferienprogramm,Kino & Film
END:VEVENT
BEGIN:VEVENT
DTSTART;TZID=Europe/Berlin:20250827T100000
DTEND;TZID=Europe/Berlin:20250827T130000
DTSTAMP:20260420T115926
CREATED:20250625T121130Z
LAST-MODIFIED:20250625T121130Z
UID:10004875-1756288800-1756299600@pola-magazin.de
SUMMARY:Ferienkino im Thalia
DESCRIPTION:Immer in den Schulferien werden im Thalia Programmkino mittwochs zwischen 10 Uhr und 11 Uhr bis zu vier Filme für die Kleinen und für die etwas Älteren gezeigt. \n\nDer Eintritt kostet 4 Euro.\nGruppen (ab 6 Personen) können sich unter 0331/74 370 45 anmelden.\nEinzelkarten (bis 6 Personen) könnt ihr ganz regulär online oder an der Kinokasse erwerben.\n\n→ zum Programm
URL:https://pola-magazin.de/veranstaltung/ferienkino-im-thalia/2025-08-27/
LOCATION:Thalia Das Programmkino\, Rudolf Breitscheid Str. 50\, Potsdam\, 14482
CATEGORIES:Ferienprogramm,Kino & Film
END:VEVENT
BEGIN:VEVENT
DTSTART;TZID=Europe/Berlin:20250820T100000
DTEND;TZID=Europe/Berlin:20250820T130000
DTSTAMP:20260420T115926
CREATED:20250625T121130Z
LAST-MODIFIED:20250625T121130Z
UID:10004874-1755684000-1755694800@pola-magazin.de
SUMMARY:Ferienkino im Thalia
DESCRIPTION:Immer in den Schulferien werden im Thalia Programmkino mittwochs zwischen 10 Uhr und 11 Uhr bis zu vier Filme für die Kleinen und für die etwas Älteren gezeigt. \n\nDer Eintritt kostet 4 Euro.\nGruppen (ab 6 Personen) können sich unter 0331/74 370 45 anmelden.\nEinzelkarten (bis 6 Personen) könnt ihr ganz regulär online oder an der Kinokasse erwerben.\n\n→ zum Programm
URL:https://pola-magazin.de/veranstaltung/ferienkino-im-thalia/2025-08-20/
LOCATION:Thalia Das Programmkino\, Rudolf Breitscheid Str. 50\, Potsdam\, 14482
CATEGORIES:Ferienprogramm,Kino & Film
END:VEVENT
BEGIN:VEVENT
DTSTART;TZID=Europe/Berlin:20250813T100000
DTEND;TZID=Europe/Berlin:20250813T130000
DTSTAMP:20260420T115926
CREATED:20250625T121130Z
LAST-MODIFIED:20250625T121130Z
UID:10004873-1755079200-1755090000@pola-magazin.de
SUMMARY:Ferienkino im Thalia
DESCRIPTION:Immer in den Schulferien werden im Thalia Programmkino mittwochs zwischen 10 Uhr und 11 Uhr bis zu vier Filme für die Kleinen und für die etwas Älteren gezeigt. \n\nDer Eintritt kostet 4 Euro.\nGruppen (ab 6 Personen) können sich unter 0331/74 370 45 anmelden.\nEinzelkarten (bis 6 Personen) könnt ihr ganz regulär online oder an der Kinokasse erwerben.\n\n→ zum Programm
URL:https://pola-magazin.de/veranstaltung/ferienkino-im-thalia/2025-08-13/
LOCATION:Thalia Das Programmkino\, Rudolf Breitscheid Str. 50\, Potsdam\, 14482
CATEGORIES:Ferienprogramm,Kino & Film
END:VEVENT
BEGIN:VEVENT
DTSTART;TZID=Europe/Berlin:20250806T100000
DTEND;TZID=Europe/Berlin:20250806T130000
DTSTAMP:20260420T115926
CREATED:20250625T121130Z
LAST-MODIFIED:20250625T121130Z
UID:10004872-1754474400-1754485200@pola-magazin.de
SUMMARY:Ferienkino im Thalia
DESCRIPTION:Immer in den Schulferien werden im Thalia Programmkino mittwochs zwischen 10 Uhr und 11 Uhr bis zu vier Filme für die Kleinen und für die etwas Älteren gezeigt. \n\nDer Eintritt kostet 4 Euro.\nGruppen (ab 6 Personen) können sich unter 0331/74 370 45 anmelden.\nEinzelkarten (bis 6 Personen) könnt ihr ganz regulär online oder an der Kinokasse erwerben.\n\n→ zum Programm
URL:https://pola-magazin.de/veranstaltung/ferienkino-im-thalia/2025-08-06/
LOCATION:Thalia Das Programmkino\, Rudolf Breitscheid Str. 50\, Potsdam\, 14482
CATEGORIES:Ferienprogramm,Kino & Film
END:VEVENT
BEGIN:VEVENT
DTSTART;TZID=Europe/Berlin:20250730T100000
DTEND;TZID=Europe/Berlin:20250730T130000
DTSTAMP:20260420T115926
CREATED:20250625T121130Z
LAST-MODIFIED:20250625T121130Z
UID:10004871-1753869600-1753880400@pola-magazin.de
SUMMARY:Ferienkino im Thalia
DESCRIPTION:Immer in den Schulferien werden im Thalia Programmkino mittwochs zwischen 10 Uhr und 11 Uhr bis zu vier Filme für die Kleinen und für die etwas Älteren gezeigt. \n\nDer Eintritt kostet 4 Euro.\nGruppen (ab 6 Personen) können sich unter 0331/74 370 45 anmelden.\nEinzelkarten (bis 6 Personen) könnt ihr ganz regulär online oder an der Kinokasse erwerben.\n\n→ zum Programm
URL:https://pola-magazin.de/veranstaltung/ferienkino-im-thalia/2025-07-30/
LOCATION:Thalia Das Programmkino\, Rudolf Breitscheid Str. 50\, Potsdam\, 14482
CATEGORIES:Ferienprogramm,Kino & Film
END:VEVENT
BEGIN:VEVENT
DTSTART;TZID=Europe/Berlin:20250626T160000
DTEND;TZID=Europe/Berlin:20250626T160000
DTSTAMP:20260420T115926
CREATED:20250623T120009Z
LAST-MODIFIED:20250623T120009Z
UID:10004860-1750953600-1750953600@pola-magazin.de
SUMMARY:Lesung: Der kleine Drache Kokusnuss
DESCRIPTION:Der Kokusnuss-Erfolgsautor Ingo Siegner kommt nach Potsdam und liest für euch aus seinem neuesten Werk! \nIm Thalia Programmkino\n​​ \nDer kleine Drache Kokosnuss lebt auf der Dracheninsel\, kann fliegen und Feuer speien. Er besteht zusammen mit seinem Freund Oskar dem Fressdrachen und seiner Freundin Matilda\, einem kleinen Stachelschwein\, lauter spannende Abenteuer. Er trifft z.B. auf Höhlenungeheuer\, Hexen und Zauberer\, auf Piraten\, Gespenster und sogar auf einen Vampir. Und er reist nicht nur nach Ägypten\, sondern auch in die Steinzeit\, zu den Indianern und in den Weltraum! Dabei ist er nicht immer nur mutig\, sondern auch witzig\, neugierig\, manchmal ein bisschen tollpatschig und sogar ängstlich. Aber egal\, wie gefährlich seine Abenteuer sind\, zusammen mit seinen Freunden besteht er sie alle! \n​Kokosnuss\, Oskar und Matilda erhalten von ihrem Freund Zwiebelchen eine Flaschenpost\, die der kleine grüne Drache aus seinem Schiffswrack geschrieben hat. Sein Schiff ist gekentert und er und sein Lehrling\, der Affenjunge Jojo\, konnten sich gerade noch in eine Luftblase im Wrack retten. Nun sitzen Sie auf einem Felsvorsprung direkt über der Tiefsee fest – aber wie lange wird das noch gut gehen? Jetzt hofft Zwiebelchen auf Hilfe durch seine Freunde! Kokosnuss\, Matilda und Oskar laufen gleich zu Trödel\, um die nötige Ausrüstung zu besorgen … Wird die Rettungsaktion erfolgreich sein?
URL:https://pola-magazin.de/veranstaltung/lesung-der-kleine-drache-kokusnuss/
LOCATION:Thalia Das Programmkino\, Rudolf Breitscheid Str. 50\, Potsdam\, 14482
CATEGORIES:Märchen & Geschichten
END:VEVENT
END:VCALENDAR