BEGIN:VCALENDAR
VERSION:2.0
PRODID:-//‍‍‍ POLA I Entdecke das Familienmagazin für Eltern und Kind - ECPv6.15.20//NONSGML v1.0//EN
CALSCALE:GREGORIAN
METHOD:PUBLISH
X-WR-CALNAME:‍‍‍ POLA I Entdecke das Familienmagazin für Eltern und Kind
X-ORIGINAL-URL:https://pola-magazin.de
X-WR-CALDESC:Veranstaltungen für ‍‍‍ POLA I Entdecke das Familienmagazin für Eltern und Kind
REFRESH-INTERVAL;VALUE=DURATION:PT1H
X-Robots-Tag:noindex
X-PUBLISHED-TTL:PT1H
BEGIN:VTIMEZONE
TZID:Europe/Berlin
BEGIN:DAYLIGHT
TZOFFSETFROM:+0100
TZOFFSETTO:+0200
TZNAME:CEST
DTSTART:20250330T010000
END:DAYLIGHT
BEGIN:STANDARD
TZOFFSETFROM:+0200
TZOFFSETTO:+0100
TZNAME:CET
DTSTART:20251026T010000
END:STANDARD
BEGIN:DAYLIGHT
TZOFFSETFROM:+0100
TZOFFSETTO:+0200
TZNAME:CEST
DTSTART:20260329T010000
END:DAYLIGHT
BEGIN:STANDARD
TZOFFSETFROM:+0200
TZOFFSETTO:+0100
TZNAME:CET
DTSTART:20261025T010000
END:STANDARD
BEGIN:DAYLIGHT
TZOFFSETFROM:+0100
TZOFFSETTO:+0200
TZNAME:CEST
DTSTART:20270328T010000
END:DAYLIGHT
BEGIN:STANDARD
TZOFFSETFROM:+0200
TZOFFSETTO:+0100
TZNAME:CET
DTSTART:20271031T010000
END:STANDARD
END:VTIMEZONE
BEGIN:VEVENT
DTSTART;TZID=Europe/Berlin:20260531T130000
DTEND;TZID=Europe/Berlin:20260531T130000
DTSTAMP:20260421T150509
CREATED:20260416T042349Z
LAST-MODIFIED:20260416T042548Z
UID:10004619-1780232400-1780232400@pola-magazin.de
SUMMARY:Wer lebte im Schloss Caputh? (Kinderführung | 6-10 Jahre)
DESCRIPTION:Führung für Kinder von 6 bis 10 Jahren \nKurfürstin Dorothea war die zweite Frau Friedrich Wilhelms von Brandenburg. Aus erster Ehe brachte er drei Jungs mit in die Ehe. Dorothea und Friedrich Wilhelm bekamen zusammen noch weitere sieben Kinder. Wie lebte so eine fürstliche Patchworkfamilie damals? \nIm Schloss gibt es viele schöne Dinge\, wie Gemälde\, Möbel und andere wertvolle Kostbarkeiten zu entdecken. Erwachsene und ältere Geschwister können zeitgleich in einer separaten Führung das Schloss erkunden. \n10 €\, ermäßigt 8 €\nFamilienticket 20 € (2 Erw.\, max. 4 Kinder) \nErmäßigter Eintritt für Inhaber:innen der Jahreskarte Schlösser \nAnmeldung ab 4 Wochen vor dem Termin: 033209.7 03 45 oder schloss-caputh(at)spsg.de
URL:https://pola-magazin.de/veranstaltung/kinderfuehrung-wer-lebte-im-schloss-caputh-6-10-j-2/2026-05-31/
LOCATION:Schloss & Park Caputh\, Straße der Einheit 2\, Schwielowsee\, 14548
CATEGORIES:Ausstellung & Museum
END:VEVENT
BEGIN:VEVENT
DTSTART;TZID=Europe/Berlin:20260628T130000
DTEND;TZID=Europe/Berlin:20260628T130000
DTSTAMP:20260421T150509
CREATED:20260416T042349Z
LAST-MODIFIED:20260416T042548Z
UID:10007161-1782651600-1782651600@pola-magazin.de
SUMMARY:Wer lebte im Schloss Caputh? (Kinderführung | 6-10 Jahre)
DESCRIPTION:Führung für Kinder von 6 bis 10 Jahren \nKurfürstin Dorothea war die zweite Frau Friedrich Wilhelms von Brandenburg. Aus erster Ehe brachte er drei Jungs mit in die Ehe. Dorothea und Friedrich Wilhelm bekamen zusammen noch weitere sieben Kinder. Wie lebte so eine fürstliche Patchworkfamilie damals? \nIm Schloss gibt es viele schöne Dinge\, wie Gemälde\, Möbel und andere wertvolle Kostbarkeiten zu entdecken. Erwachsene und ältere Geschwister können zeitgleich in einer separaten Führung das Schloss erkunden. \n10 €\, ermäßigt 8 €\nFamilienticket 20 € (2 Erw.\, max. 4 Kinder) \nErmäßigter Eintritt für Inhaber:innen der Jahreskarte Schlösser \nAnmeldung ab 4 Wochen vor dem Termin: 033209.7 03 45 oder schloss-caputh(at)spsg.de
URL:https://pola-magazin.de/veranstaltung/kinderfuehrung-wer-lebte-im-schloss-caputh-6-10-j-2/2026-06-28/
LOCATION:Schloss & Park Caputh\, Straße der Einheit 2\, Schwielowsee\, 14548
CATEGORIES:Ausstellung & Museum
END:VEVENT
BEGIN:VEVENT
DTSTART;TZID=Europe/Berlin:20260726T130000
DTEND;TZID=Europe/Berlin:20260726T130000
DTSTAMP:20260421T150509
CREATED:20260416T042349Z
LAST-MODIFIED:20260416T042548Z
UID:10007162-1785070800-1785070800@pola-magazin.de
SUMMARY:Wer lebte im Schloss Caputh? (Kinderführung | 6-10 Jahre)
DESCRIPTION:Führung für Kinder von 6 bis 10 Jahren \nKurfürstin Dorothea war die zweite Frau Friedrich Wilhelms von Brandenburg. Aus erster Ehe brachte er drei Jungs mit in die Ehe. Dorothea und Friedrich Wilhelm bekamen zusammen noch weitere sieben Kinder. Wie lebte so eine fürstliche Patchworkfamilie damals? \nIm Schloss gibt es viele schöne Dinge\, wie Gemälde\, Möbel und andere wertvolle Kostbarkeiten zu entdecken. Erwachsene und ältere Geschwister können zeitgleich in einer separaten Führung das Schloss erkunden. \n10 €\, ermäßigt 8 €\nFamilienticket 20 € (2 Erw.\, max. 4 Kinder) \nErmäßigter Eintritt für Inhaber:innen der Jahreskarte Schlösser \nAnmeldung ab 4 Wochen vor dem Termin: 033209.7 03 45 oder schloss-caputh(at)spsg.de
URL:https://pola-magazin.de/veranstaltung/kinderfuehrung-wer-lebte-im-schloss-caputh-6-10-j-2/2026-07-26/
LOCATION:Schloss & Park Caputh\, Straße der Einheit 2\, Schwielowsee\, 14548
CATEGORIES:Ausstellung & Museum
END:VEVENT
BEGIN:VEVENT
DTSTART;TZID=Europe/Berlin:20260830T130000
DTEND;TZID=Europe/Berlin:20260830T130000
DTSTAMP:20260421T150509
CREATED:20260416T042349Z
LAST-MODIFIED:20260416T042548Z
UID:10007163-1788094800-1788094800@pola-magazin.de
SUMMARY:Wer lebte im Schloss Caputh? (Kinderführung | 6-10 Jahre)
DESCRIPTION:Führung für Kinder von 6 bis 10 Jahren \nKurfürstin Dorothea war die zweite Frau Friedrich Wilhelms von Brandenburg. Aus erster Ehe brachte er drei Jungs mit in die Ehe. Dorothea und Friedrich Wilhelm bekamen zusammen noch weitere sieben Kinder. Wie lebte so eine fürstliche Patchworkfamilie damals? \nIm Schloss gibt es viele schöne Dinge\, wie Gemälde\, Möbel und andere wertvolle Kostbarkeiten zu entdecken. Erwachsene und ältere Geschwister können zeitgleich in einer separaten Führung das Schloss erkunden. \n10 €\, ermäßigt 8 €\nFamilienticket 20 € (2 Erw.\, max. 4 Kinder) \nErmäßigter Eintritt für Inhaber:innen der Jahreskarte Schlösser \nAnmeldung ab 4 Wochen vor dem Termin: 033209.7 03 45 oder schloss-caputh(at)spsg.de
URL:https://pola-magazin.de/veranstaltung/kinderfuehrung-wer-lebte-im-schloss-caputh-6-10-j-2/2026-08-30/
LOCATION:Schloss & Park Caputh\, Straße der Einheit 2\, Schwielowsee\, 14548
CATEGORIES:Ausstellung & Museum
END:VEVENT
BEGIN:VEVENT
DTSTART;TZID=Europe/Berlin:20260927T130000
DTEND;TZID=Europe/Berlin:20260927T130000
DTSTAMP:20260421T150509
CREATED:20260416T042349Z
LAST-MODIFIED:20260416T042548Z
UID:10007164-1790514000-1790514000@pola-magazin.de
SUMMARY:Wer lebte im Schloss Caputh? (Kinderführung | 6-10 Jahre)
DESCRIPTION:Führung für Kinder von 6 bis 10 Jahren \nKurfürstin Dorothea war die zweite Frau Friedrich Wilhelms von Brandenburg. Aus erster Ehe brachte er drei Jungs mit in die Ehe. Dorothea und Friedrich Wilhelm bekamen zusammen noch weitere sieben Kinder. Wie lebte so eine fürstliche Patchworkfamilie damals? \nIm Schloss gibt es viele schöne Dinge\, wie Gemälde\, Möbel und andere wertvolle Kostbarkeiten zu entdecken. Erwachsene und ältere Geschwister können zeitgleich in einer separaten Führung das Schloss erkunden. \n10 €\, ermäßigt 8 €\nFamilienticket 20 € (2 Erw.\, max. 4 Kinder) \nErmäßigter Eintritt für Inhaber:innen der Jahreskarte Schlösser \nAnmeldung ab 4 Wochen vor dem Termin: 033209.7 03 45 oder schloss-caputh(at)spsg.de
URL:https://pola-magazin.de/veranstaltung/kinderfuehrung-wer-lebte-im-schloss-caputh-6-10-j-2/2026-09-27/
LOCATION:Schloss & Park Caputh\, Straße der Einheit 2\, Schwielowsee\, 14548
CATEGORIES:Ausstellung & Museum
END:VEVENT
BEGIN:VEVENT
DTSTART;TZID=Europe/Berlin:20261025T130000
DTEND;TZID=Europe/Berlin:20261025T130000
DTSTAMP:20260421T150509
CREATED:20260416T042349Z
LAST-MODIFIED:20260416T042548Z
UID:10007165-1792933200-1792933200@pola-magazin.de
SUMMARY:Wer lebte im Schloss Caputh? (Kinderführung | 6-10 Jahre)
DESCRIPTION:Führung für Kinder von 6 bis 10 Jahren \nKurfürstin Dorothea war die zweite Frau Friedrich Wilhelms von Brandenburg. Aus erster Ehe brachte er drei Jungs mit in die Ehe. Dorothea und Friedrich Wilhelm bekamen zusammen noch weitere sieben Kinder. Wie lebte so eine fürstliche Patchworkfamilie damals? \nIm Schloss gibt es viele schöne Dinge\, wie Gemälde\, Möbel und andere wertvolle Kostbarkeiten zu entdecken. Erwachsene und ältere Geschwister können zeitgleich in einer separaten Führung das Schloss erkunden. \n10 €\, ermäßigt 8 €\nFamilienticket 20 € (2 Erw.\, max. 4 Kinder) \nErmäßigter Eintritt für Inhaber:innen der Jahreskarte Schlösser \nAnmeldung ab 4 Wochen vor dem Termin: 033209.7 03 45 oder schloss-caputh(at)spsg.de
URL:https://pola-magazin.de/veranstaltung/kinderfuehrung-wer-lebte-im-schloss-caputh-6-10-j-2/2026-10-25/
LOCATION:Schloss & Park Caputh\, Straße der Einheit 2\, Schwielowsee\, 14548
CATEGORIES:Ausstellung & Museum
END:VEVENT
END:VCALENDAR