BEGIN:VCALENDAR
VERSION:2.0
PRODID:-//‍‍‍ POLA I Entdecke das Familienmagazin für Eltern und Kind - ECPv6.15.20//NONSGML v1.0//EN
CALSCALE:GREGORIAN
METHOD:PUBLISH
X-WR-CALNAME:‍‍‍ POLA I Entdecke das Familienmagazin für Eltern und Kind
X-ORIGINAL-URL:https://pola-magazin.de
X-WR-CALDESC:Veranstaltungen für ‍‍‍ POLA I Entdecke das Familienmagazin für Eltern und Kind
REFRESH-INTERVAL;VALUE=DURATION:PT1H
X-Robots-Tag:noindex
X-PUBLISHED-TTL:PT1H
BEGIN:VTIMEZONE
TZID:Europe/Berlin
BEGIN:DAYLIGHT
TZOFFSETFROM:+0100
TZOFFSETTO:+0200
TZNAME:CEST
DTSTART:20230326T010000
END:DAYLIGHT
BEGIN:STANDARD
TZOFFSETFROM:+0200
TZOFFSETTO:+0100
TZNAME:CET
DTSTART:20231029T010000
END:STANDARD
BEGIN:DAYLIGHT
TZOFFSETFROM:+0100
TZOFFSETTO:+0200
TZNAME:CEST
DTSTART:20240331T010000
END:DAYLIGHT
BEGIN:STANDARD
TZOFFSETFROM:+0200
TZOFFSETTO:+0100
TZNAME:CET
DTSTART:20241027T010000
END:STANDARD
BEGIN:DAYLIGHT
TZOFFSETFROM:+0100
TZOFFSETTO:+0200
TZNAME:CEST
DTSTART:20250330T010000
END:DAYLIGHT
BEGIN:STANDARD
TZOFFSETFROM:+0200
TZOFFSETTO:+0100
TZNAME:CET
DTSTART:20251026T010000
END:STANDARD
END:VTIMEZONE
BEGIN:VEVENT
DTSTART;TZID=Europe/Berlin:20240420T150000
DTEND;TZID=Europe/Berlin:20240420T150000
DTSTAMP:20260421T163039
CREATED:20240410T093200Z
LAST-MODIFIED:20240410T093200Z
UID:10003447-1713625200-1713625200@pola-magazin.de
SUMMARY:KAPellina reist ins Weltall
DESCRIPTION:In dieser Saison geht KAPellina auf Reisen. Neugierig erkundet sie die Musik in fernen Ländern – sogar im Weltall! Im ersten Konzert reist sie in den Osten und trifft dabei fremde Melodien und ungewöhnliche Instrumente. Wohin die Reise im zweiten Konzert gehen wird\, darauf dürfen wir alle gespannt sein\, denn dieses Konzert wird maßgeblich von den Stipendiat*innen der KAP konzipiert und gestaltet. Im letzten Konzert der Saison bricht KAPellina sogar ins Weltall zu fernen Planeten auf\, um einem kleinen Roboter zu helfen. \nIn jedem KAPellina-Konzert erklingt passend zu KAPellinas Abenteuern kammermusikalisch besetzte Musik aus verschiedenen Jahrhunderten\, die teilweise von den Musiker*innen selbst arrangiert wird. Keines der Stücke ist länger als drei Minuten\, das KAPellina-Lied\, das Motto-Lied der Reihe\, wird stets gemeinsam gesungen\, zudem nehmen die Kinder durch zahlreiche Mitmach-Aktionen wie Bodypercussion oder kleine Tänze aktiv am Konzert teil. In jedem Konzert wird ein kleines Instrument gebaut\, sodass beim letzten Musikstück alle Kinder zu Mit-Musiker*innen werden. \nMit Bastelaktion während des Konzerts \nEmpfohlen für Familien mit Kindern von 3 bis 6 Jahren
URL:https://pola-magazin.de/veranstaltung/kapellina-reist-ins-weltall/
LOCATION:oskar. Begegnungszentrum\, Oskar-Meßter-Straße 4-6\, Potsdam\, 14480
CATEGORIES:Konzert, Musik & Musical
ORGANIZER;CN="Kammerakademie Potsdam gGmbH":MAILTO:info@kammerakademie-potsdam.de
END:VEVENT
END:VCALENDAR