BEGIN:VCALENDAR
VERSION:2.0
PRODID:-//‍‍‍ POLA I Entdecke das Familienmagazin für Eltern und Kind - ECPv6.15.20//NONSGML v1.0//EN
CALSCALE:GREGORIAN
METHOD:PUBLISH
X-WR-CALNAME:‍‍‍ POLA I Entdecke das Familienmagazin für Eltern und Kind
X-ORIGINAL-URL:https://pola-magazin.de
X-WR-CALDESC:Veranstaltungen für ‍‍‍ POLA I Entdecke das Familienmagazin für Eltern und Kind
REFRESH-INTERVAL;VALUE=DURATION:PT1H
X-Robots-Tag:noindex
X-PUBLISHED-TTL:PT1H
BEGIN:VTIMEZONE
TZID:Europe/Berlin
BEGIN:DAYLIGHT
TZOFFSETFROM:+0100
TZOFFSETTO:+0200
TZNAME:CEST
DTSTART:20220327T010000
END:DAYLIGHT
BEGIN:STANDARD
TZOFFSETFROM:+0200
TZOFFSETTO:+0100
TZNAME:CET
DTSTART:20221030T010000
END:STANDARD
BEGIN:DAYLIGHT
TZOFFSETFROM:+0100
TZOFFSETTO:+0200
TZNAME:CEST
DTSTART:20230326T010000
END:DAYLIGHT
BEGIN:STANDARD
TZOFFSETFROM:+0200
TZOFFSETTO:+0100
TZNAME:CET
DTSTART:20231029T010000
END:STANDARD
BEGIN:DAYLIGHT
TZOFFSETFROM:+0100
TZOFFSETTO:+0200
TZNAME:CEST
DTSTART:20240331T010000
END:DAYLIGHT
BEGIN:STANDARD
TZOFFSETFROM:+0200
TZOFFSETTO:+0100
TZNAME:CET
DTSTART:20241027T010000
END:STANDARD
BEGIN:DAYLIGHT
TZOFFSETFROM:+0100
TZOFFSETTO:+0200
TZNAME:CEST
DTSTART:20250330T010000
END:DAYLIGHT
BEGIN:STANDARD
TZOFFSETFROM:+0200
TZOFFSETTO:+0100
TZNAME:CET
DTSTART:20251026T010000
END:STANDARD
BEGIN:DAYLIGHT
TZOFFSETFROM:+0100
TZOFFSETTO:+0200
TZNAME:CEST
DTSTART:20260329T010000
END:DAYLIGHT
BEGIN:STANDARD
TZOFFSETFROM:+0200
TZOFFSETTO:+0100
TZNAME:CET
DTSTART:20261025T010000
END:STANDARD
BEGIN:DAYLIGHT
TZOFFSETFROM:+0100
TZOFFSETTO:+0200
TZNAME:CEST
DTSTART:20270328T010000
END:DAYLIGHT
BEGIN:STANDARD
TZOFFSETFROM:+0200
TZOFFSETTO:+0100
TZNAME:CET
DTSTART:20271031T010000
END:STANDARD
END:VTIMEZONE
BEGIN:VEVENT
DTSTART;TZID=Europe/Berlin:20260309T200000
DTEND;TZID=Europe/Berlin:20260309T220000
DTSTAMP:20260419T225613
CREATED:20251218T090224Z
LAST-MODIFIED:20260109T154454Z
UID:10005495-1773086400-1773093600@pola-magazin.de
SUMMARY:Online-Eltern-Workshop: Empathisch und gewaltfrei reden in der Familie
DESCRIPTION:Die Familie ist ein sicherer Ort für Groß und Klein. Dazu gehört\, dass wir in der Familie mit Respekt miteinander reden. Gewalt hat dabei keinen Platz. Doch wie geht das eigentlich? Darüber sprechen wir gemeinsam in diesem Workshop und probieren gewaltfreies Reden auch gleich aus. \nWas bedeutet Gewalt in der Sprache?\nSo kann ein Gespräch gut gelingen.\nWie geht über Gefühle reden?\nRichtig streiten verbindet\nIch-Botschaften und Grenzen kennenlernen\nVertrauen ist gut\, Kontrolle ist … leider nicht besser\nDas ist das Ziel von diesem Workshop: \nEigentlich wissen wir alle\, wie sich ein gutes Gespräch anfühlt. Trotzdem endet ein harmloser Satz schnell mit einem Streit. Nach diesem Workshop kommen Sie in Ihrer Familie ganz bestimmt besser miteinander ins Gespräch. \nWir freuen uns auf Ihre Teilnahme! \nAnmeldung per Mail an buero-kindermut@awo-potsdam.de oder TEL: 0331. 200 76 310
URL:https://pola-magazin.de/veranstaltung/online-eltern-workshop-empathisch-und-gewaltfrei-reden-in-der-familie/
LOCATION:online
CATEGORIES:Eintritt frei,Für Eltern
END:VEVENT
BEGIN:VEVENT
DTSTART;TZID=Europe/Berlin:20260113T200000
DTEND;TZID=Europe/Berlin:20260113T220000
DTSTAMP:20260419T225613
CREATED:20251218T090005Z
LAST-MODIFIED:20260109T154512Z
UID:10005493-1768334400-1768341600@pola-magazin.de
SUMMARY:Online-Eltern-Workshop: So funktioniert das Schulsystem in Deutschland
DESCRIPTION:Das Thema Schule beginnt für jede Familie lange vor dem ersten Schultag. In diesem Eltern-Workshop erklären wir alle wichtigen Themen dazu: \nMit der richtigen Schulwahl in die Einschulung\nAlltag in der Schule – von Ausflug bis Sexualkunde\nInklusion und Förderung für besondere oder geflüchtete Kinder\nDer Wechsel in die Weiterführende Schule – Was ist das Ü5/Ü7-Verfahren?\nDemokratie in der Schule\nSchule kostet – hier gibt es Hilfe.\nDas ist das Ziel von diesem Workshop: \nWir möchten\, dass Sie sich beim Thema Schule sicher fühlen. So können Sie gemeinsam mit Ihrem Kind gut in die wichtige Schulzeit starten. \nWir freuen uns auf Ihre Teilnahme! \nAnmeldung per Mail an buero-kindermut@awo-potsdam.de oder TEL: 0331. 200 76 310
URL:https://pola-magazin.de/veranstaltung/online-eltern-workshop-so-funktioniert-das-schulsystem-in-deutschland/
LOCATION:online
CATEGORIES:Eintritt frei,Für Eltern
END:VEVENT
BEGIN:VEVENT
DTSTART;TZID=Europe/Berlin:20250408T200000
DTEND;TZID=Europe/Berlin:20250408T220000
DTSTAMP:20260419T225613
CREATED:20250213T141541Z
LAST-MODIFIED:20250213T141554Z
UID:10004334-1744142400-1744149600@pola-magazin.de
SUMMARY:Eltern-Workshop: Handy weg! Was Medienkonsum mit unserer Gehirnentwicklung zu tun hat.
DESCRIPTION:Eltern-Workshop für ein entspanntes Familienleben \n\nonline via Zoom\n8. April 2025\, 20.00-22.00 Uhr\nmit Kursleiterin Inge Naundorf\n\nFür Wen? Eltern\, Großeltern\, Babysitter …\, Erzieher:innen \nWorum geht’s? Dein Kind ist süchtig nach Handy\, Tablet\, Computer\, Fernseher. Bei der Einschränkung des Medienkonsums hängt jedes Mal der Haussegen schief. Dieser Workshop zeigt Dir\, wie Du mit gemeinsam verhandelten Regeln der Digital-Falle entkommst und wieder mehr gemeinsame Zeit entstehen kann. Oder gar die Urlaubsplanung mit digitaler Auszeit … \nEltern oder andere Privatpersonen\nFür die Teilnahme bitte wir um eine Spende. Entscheide selbst\, wieviel dir unsere ehrenamtliche Arbeit wert ist. Du kannst entweder über den Paypal-Spendenbutton weiter unten spenden oder per Überweisung auf unser Konto. Schreibe in den Betreff deine E-Mail-Adresse und den gewünschten Kurs\, damit wir dir am Veranstaltungstag den Zoom-Link senden können. \nPädagog:innen/berufliche Teilnahme\nDie Kursgebühr beträgt 33\,- Euro \n 
URL:https://pola-magazin.de/veranstaltung/eltern-workshop-handy-weg-was-medienkonsum-mit-unserer-gehirnentwicklung-zu-tun-hat/
LOCATION:online
CATEGORIES:Für Eltern
END:VEVENT
BEGIN:VEVENT
DTSTART;TZID=Europe/Berlin:20250311T200000
DTEND;TZID=Europe/Berlin:20250311T220000
DTSTAMP:20260419T225613
CREATED:20250213T141349Z
LAST-MODIFIED:20250213T141349Z
UID:10004333-1741723200-1741730400@pola-magazin.de
SUMMARY:Eltern-Workshop: Ab morgen geht mein Baby in die Kita! So gelingt ein guter Übergang
DESCRIPTION:Eltern-Workshop für ein entspanntes Familienleben \n\nOnline via Zoom\n11. März 2025\, 20-22 Uhr\nmit Kursleiterin Katja Lehmann\n\nFür wen? Eltern und Großeltern von Kindern 2-5 Jahre\, Pädagog:innen Tagespflege/Kitas \nWorum geht’s? Für viele Eltern ist der Übergang in die Kita oder zur Tagesmutter mit sorgenvollen Fragen verbunden: Klappt denn alles gut\, wenn ich nicht bei meinem Kind bin? Wird es schlafen können\, die Erzieher:innen mögen? Dazu kommt der Zeitdruck\, die Arbeit ruft. Nach diesem Workshop schaffen alle den Spagat zwischen Loslassen und Selbständigwerden. \nDas brauchst Du für den Workshop: Internet-Zugang über PC\, Tablet oder Smartphone\, Kamera und Mikrofon \n\nDu kannst gerne vorab Deine Themen oder Fragen senden an katja@potsdam-bildung.de\nAnmeldung: Privat (Eltern usw.): Spende erbeten\, über den gelben Paypal-Button oder per Überweisung\nBeruflich: Kursgebühr 33\,- Euro überweisen\, Ihr bekommt eine Rechnung & Teilnahmebestätigung
URL:https://pola-magazin.de/veranstaltung/eltern-workshop-ab-morgen-geht-mein-baby-in-die-kita-so-gelingt-ein-guter-uebergang/
LOCATION:online
CATEGORIES:Für Eltern
END:VEVENT
BEGIN:VEVENT
DTSTART;TZID=Europe/Berlin:20241105T190000
DTEND;TZID=Europe/Berlin:20241105T203000
DTSTAMP:20260419T225613
CREATED:20240905T100628Z
LAST-MODIFIED:20240905T100628Z
UID:10003881-1730833200-1730838600@pola-magazin.de
SUMMARY:Elternwissen: "Elternburnout"- Online
DESCRIPTION:mehr
URL:https://pola-magazin.de/veranstaltung/elternwissen-elternburnout-online/
LOCATION:online
CATEGORIES:Eintritt frei,Für Eltern
END:VEVENT
BEGIN:VEVENT
DTSTART;TZID=Europe/Berlin:20241015T190000
DTEND;TZID=Europe/Berlin:20241015T200000
DTSTAMP:20260419T225613
CREATED:20240905T095612Z
LAST-MODIFIED:20240905T095612Z
UID:10003880-1729018800-1729022400@pola-magazin.de
SUMMARY:Stressmanagement- Balance im Alltag
DESCRIPTION:Die heutige Zeit verändert sich rasant schnell und verlangt eine Menge Selbstorganisation und Disziplin von uns. \nEs ist mehr denn je wichtiger geworden bei all den Anforderungen ein gutes Gefühl zwischen Belastbarkeit und Harmonie zu spüren – das innere Gleichgewicht spielt dabei eine große Rolle. Führt eine vermehrte Anspannung dazu\, dass sich der Körper nicht mehr regenerieren und entspannen kann\, führt es zum Dauerstress\, welcher gesundheitsschädigende Folgen mit sich tragen kann. \nUm es erst gar nicht zum Dauerstress kommen zu lassen\, bietet der Workshop ein paar Möglichkeiten und Ideen an\, die eigenen Reserven wieder auffüllen zu können. Neben theoretischer Wissensvermittlung werden auch wenige praktische Übungen durchgeführt. Ziel dieses Workshops ist es die Bedeutung von Stresssituationen kennenzulernen\, die eigenen Stressoren zu reflektieren und die Selbstwahrnehmung zu fördern. \nDozentin: Linda Schmidt von AOK Nordost \nKosten: kostenfrei\nAnmeldeinformationen: unter netzwerkgesundekinder-potsdam@evbsozial.de \nVeranstaltungsort:\nOnline-Veranstaltung Webex\, \, Online-Veranstaltung Webex
URL:https://pola-magazin.de/veranstaltung/stressmanagement-balance-im-alltag/
LOCATION:online
CATEGORIES:Eintritt frei,Für Eltern
END:VEVENT
BEGIN:VEVENT
DTSTART;TZID=Europe/Berlin:20240926T170000
DTEND;TZID=Europe/Berlin:20240926T193000
DTSTAMP:20260419T225613
CREATED:20240923T082854Z
LAST-MODIFIED:20240923T082854Z
UID:10003962-1727370000-1727379000@pola-magazin.de
SUMMARY:In den Feierabend mit Claudia Fröh
DESCRIPTION:Erhaltet Einblicke in die Arbeit von Perspektive:Selbstständigkeit.\nZusammen sammeln wir Ideen und Themen für kommende Veranstaltungen. \nLiebe Frauen*\, \nwir starten nach der Sommerpause mit einem neuen\, einzigartigen Format für euch Frauen* und Mütter! Ab dem 26.09.2024 beginnt die Veranstaltungsreihe „In den Feierabend mit…“ – perfekt abgestimmt auf den Abend\, mit Fokus auf eure Ideen und Talente. Diese Serie richtet sich speziell an Frauen* und Mütter im Land Brandenburg\, die gegründet haben\, sich für Selbstständigkeit interessieren oder ihre Expertise und Erfahrungen\, nach Feierabend\, mit anderen teilen möchten. \nFür wen ist das Format „In den Feierabend mit…“ gedacht? \n\nFrauen* und Mütter in Brandenburg: Besonders für diejenigen\, die eine Selbstständigkeit anstreben oder gegründet haben\nIdeengeberinnen und Expertinnen: Frauen*\, die ihr Wissen weitergeben möchten\, zum Beispiel in Form eines eigenen Workshops.\nNetzwerkerinnen und Teamplayerinnen: Neugierige Frauen*\, die nach inspirierenden\, mutigen Partnerinnen suchen – sei es für eine Teamgründung oder zum Austausch.\n\nDas erwartet euch bei „In den Feierabend mit…“ \n\nEin wiederkehrendes Highlight: Jeden Monat von 17:00 – 19:30 Uhr\, mit abwechselnden Themen rund um Information\, Empowerment und vielseitige Wissensvermittlung. Ob digital\, bei uns im Lab oder unterwegs bei spannenden Partner:innen – wir erkunden gemeinsam verschiedene Wege.\nTeile deine Expertise: Wir bieten Expertinnen die Bühne\, ihr Wissen zu teilen. Du bist bereits selbstständig und möchtest einen Workshop leiten oder über dein Business berichten? Dann bist du herzlich eingeladen\, dich aktiv einzubringen!\nVernetze dich und gestalte mit: Triff andere Frauen*\, denke groß und bringe deine Ideen ein\, um das Format ab 2025 mitzugestalten – wir freuen uns auf euren Input!\n\nStart der Veranstaltungsreihe „In den Feierabend mit…“ \nDer Auftakt findet am 26.09.2024 um 17:00 Uhr online statt. Im Fokus stehen Informationen zum Projekt „Perspektive: Selbstständigkeit“ für (alleinerziehende) Frauen* sowie Ideensammlungen für die Weiterentwicklung ab 2025. \nMelde dich jetzt an und sichere dir deinen Platz. \nWir freuen uns auf dich! \nTermin: 26.09.2024\, 17:00 – 19:30 Uhr | Ort: Online
URL:https://pola-magazin.de/veranstaltung/in-den-feierabend-mit-claudia-froeh/
LOCATION:online
CATEGORIES:Eintritt frei,Für Eltern
ATTACH;FMTTYPE=image/jpeg:https://pola-magazin.de/wp-content/uploads/2024/09/perspektive-selbststaendigkeit.jpg
END:VEVENT
BEGIN:VEVENT
DTSTART;TZID=Europe/Berlin:20240618T190000
DTEND;TZID=Europe/Berlin:20240618T203000
DTSTAMP:20260419T225613
CREATED:20240410T101347Z
LAST-MODIFIED:20240410T101347Z
UID:10003459-1718737200-1718742600@pola-magazin.de
SUMMARY:Bindungs- und beziehungsorientierte Begleitung bei Kindern
DESCRIPTION:​​​​​​Wenn wir neue Wege gehen und unsere Kinder Bindungs- und Beziehungsorientiert begleiten\, kommen wir oft an unsere Grenzen. Viele Fragen tuen sich auf und oft sind wir verunsichert\, wie diese Begleitung anders geht. \nWir haben Raum für Fragen und werden uns diesen Themen widmen: \nWas ist Bindungs- und Beziehungsorientiert überhaupt?\nUm welche Bedürfnisse geht es dabei?\nWie zeige ich mich in meinen Grenzen?\nWie setze ich eine Bindungs- und Beziehungsorientiert Begleitung im Alltag um? \nDer gemeinsame Austausch findet als Online-Veranstaltung am 18.06.2024 statt. Die Zugangsdaten erhalten Sie nach erfolgreicher Anmeldung.
URL:https://pola-magazin.de/veranstaltung/bindungs-und-beziehungsorientierte-begleitung-bei-kindern/
LOCATION:online
CATEGORIES:Eintritt frei,Für Eltern
END:VEVENT
BEGIN:VEVENT
DTSTART;TZID=Europe/Berlin:20240423T190000
DTEND;TZID=Europe/Berlin:20240423T203000
DTSTAMP:20260419T225613
CREATED:20240410T100257Z
LAST-MODIFIED:20240410T100257Z
UID:10003456-1713898800-1713904200@pola-magazin.de
SUMMARY:Medien in der frühen Kindheit
DESCRIPTION:Kinder werden in die digitale Welt geboren. Vom 1. Tag an sind sie umgeben von diversen Medien\, die unseren Alltag prägen. Mit zunehmenden Alter wächst schnell die Faszination für Smartphone\, Tablet & TV. \nWir haben Raum für Fragen und werden uns diesen Themen widmen: \nWas macht das Umgebensein von Medien mit den Jüngsten und worauf sollten wir als Eltern achten?\nWieviel Nutzung ist ok? Wo finde ich gute Angebote?\nUnd wie lässt sich die Mediennutzung gut gemeinsam regeln? \nDer gemeinsame Austausch findet als Online-Veranstaltung am 23.04.2024 statt. Die Zugangsdaten erhalten Sie nach erfolgreicher Anmeldung.
URL:https://pola-magazin.de/veranstaltung/medien-in-der-fruehen-kindheit/
LOCATION:online
CATEGORIES:Für Eltern
END:VEVENT
BEGIN:VEVENT
DTSTART;TZID=Europe/Berlin:20230628T200000
DTEND;TZID=Europe/Berlin:20230628T220000
DTSTAMP:20260419T225613
CREATED:20230116T133851Z
LAST-MODIFIED:20230116T133851Z
UID:10002337-1687982400-1687989600@pola-magazin.de
SUMMARY:Eltern-Workshops für ein entspanntes Familienleben (online)
DESCRIPTION:Kursleiterin Katja Lehmann bringt Euch im Eltern-Sein wieder auf die Spur\, wenn es im Familienalltag knirscht. Teilnehmen könnt ihr bequem online via Zoom. \nThemen und Termine: \n\n20. März: Gewaltfrei & empathisch kommunizieren – wie geht das?\n24. April: Geschwisterliebe – Geschwisterzoff\n24. Mai: Ab morgen geht mein Baby in die Kita! So gelingt ein guter Übergang\n28. Juni: Kleiner Tyrann & kleine Prinzessin\n\nDie Anmeldung ist drei Wochen vor der Veranstaltung über die Website von “Potsdam bewegt Bildung e.V.” möglich. \n\nEltern (privat): gegen eine Spende\nPädagog:innen (beruflich): 33\,- Euro mit Teilnahmezertifikat\nEinzelberatung und Termine in Kitas oder Familienzentren auf Anfrage unter katja@potsdam-bildung.de
URL:https://pola-magazin.de/veranstaltung/eltern-workshops-fuer-ein-entspanntes-familienleben-online/2023-06-28/
LOCATION:online
CATEGORIES:Für Eltern
END:VEVENT
BEGIN:VEVENT
DTSTART;TZID=Europe/Berlin:20230524T200000
DTEND;TZID=Europe/Berlin:20230524T220000
DTSTAMP:20260419T225613
CREATED:20230116T133851Z
LAST-MODIFIED:20230116T133851Z
UID:10002336-1684958400-1684965600@pola-magazin.de
SUMMARY:Eltern-Workshops für ein entspanntes Familienleben (online)
DESCRIPTION:Kursleiterin Katja Lehmann bringt Euch im Eltern-Sein wieder auf die Spur\, wenn es im Familienalltag knirscht. Teilnehmen könnt ihr bequem online via Zoom. \nThemen und Termine: \n\n20. März: Gewaltfrei & empathisch kommunizieren – wie geht das?\n24. April: Geschwisterliebe – Geschwisterzoff\n24. Mai: Ab morgen geht mein Baby in die Kita! So gelingt ein guter Übergang\n28. Juni: Kleiner Tyrann & kleine Prinzessin\n\nDie Anmeldung ist drei Wochen vor der Veranstaltung über die Website von “Potsdam bewegt Bildung e.V.” möglich. \n\nEltern (privat): gegen eine Spende\nPädagog:innen (beruflich): 33\,- Euro mit Teilnahmezertifikat\nEinzelberatung und Termine in Kitas oder Familienzentren auf Anfrage unter katja@potsdam-bildung.de
URL:https://pola-magazin.de/veranstaltung/eltern-workshops-fuer-ein-entspanntes-familienleben-online/2023-05-24/
LOCATION:online
CATEGORIES:Für Eltern
END:VEVENT
BEGIN:VEVENT
DTSTART;TZID=Europe/Berlin:20230424T200000
DTEND;TZID=Europe/Berlin:20230424T220000
DTSTAMP:20260419T225613
CREATED:20230116T133851Z
LAST-MODIFIED:20230116T133851Z
UID:10002335-1682366400-1682373600@pola-magazin.de
SUMMARY:Eltern-Workshops für ein entspanntes Familienleben (online)
DESCRIPTION:Kursleiterin Katja Lehmann bringt Euch im Eltern-Sein wieder auf die Spur\, wenn es im Familienalltag knirscht. Teilnehmen könnt ihr bequem online via Zoom. \nThemen und Termine: \n\n20. März: Gewaltfrei & empathisch kommunizieren – wie geht das?\n24. April: Geschwisterliebe – Geschwisterzoff\n24. Mai: Ab morgen geht mein Baby in die Kita! So gelingt ein guter Übergang\n28. Juni: Kleiner Tyrann & kleine Prinzessin\n\nDie Anmeldung ist drei Wochen vor der Veranstaltung über die Website von “Potsdam bewegt Bildung e.V.” möglich. \n\nEltern (privat): gegen eine Spende\nPädagog:innen (beruflich): 33\,- Euro mit Teilnahmezertifikat\nEinzelberatung und Termine in Kitas oder Familienzentren auf Anfrage unter katja@potsdam-bildung.de
URL:https://pola-magazin.de/veranstaltung/eltern-workshops-fuer-ein-entspanntes-familienleben-online/2023-04-24/
LOCATION:online
CATEGORIES:Für Eltern
END:VEVENT
BEGIN:VEVENT
DTSTART;TZID=Europe/Berlin:20230327T193000
DTEND;TZID=Europe/Berlin:20230327T213000
DTSTAMP:20260419T225613
CREATED:20230228T153322Z
LAST-MODIFIED:20230228T155048Z
UID:10002497-1679945400-1679952600@pola-magazin.de
SUMMARY:Bei uns doch nicht! Wir hatten und haben Mut zur Existenzgründung / Teil 2
DESCRIPTION:Unternehmerinnen mit Kindern sprechen offen über Ihre Erfahrungen als Existenzgründerinnen und bieten gründungsinteressierten Frauen die Möglichkeit zum Erfahrungsaustausch. \nDu stellst dir Fragen wie:\n• Wie gelingt eine berufliche Selbstständigkeit als (alleinerziehende) Frau?\n• Wie haben es Gründerinnen neben Care-Arbeit und/oder anderen Herausforderungen geschafft?\n• Wer kann mich in Brandenburg unterstützen?\n• Und was ist…wenn mich mal der Mut verlässt? \nDann bist du in der Online-Kooperationsveranstaltung „Bei uns doch nicht! Wir hatten und haben Mut zur Existenzgründung!“ genau richtig\, denn hier dreht es sich um Mut zur beruflichen Selbstständigkeit als Frau. \nJeweils eine alleinerziehende Gründerin\, sowie eine selbstständige Frau mit Kindern in Partner:innenschaft berichten über ihren Mut zur Existenzgründung\, geben Impulse und stehen für Fragen und offenen Austausch zur Verfügung. \n• Nutze diese Gelegenheit auch zur Vernetzung mit anderen\, gründungsinteressierten Frauen.\n• Erfahre wo du kostenfreie Beratungsangebote für deine individuelle Lebenssituation bekommst und…\n• wie du eine selbstständige Tätigkeit als berufliche Chance für dich nutzen kannst! \nEingeladene Unternehmerinnen aus Brandenburg sind: \n\nAnja Meckschrat (Hatha Yoga\, physiotherapeutische Behandlungen und Massagen)\nAngelina Fontana (“Powerfrauen” Personal Training von Frau zu Frau)\n\nLass dich inspirieren\, mitreißen und empowern! Neugierig geworden? Dann melde dich bis zum 08.03.\, 11:30 Uhr HIER an. \nDie Veranstaltung ist ein kooperatives Format\, welches durch das Projekt Perspektive:Selbstständigkeit für (alleinerziehende) Frauen\, dem SHIA Landesverband Brandenburg e.V. dem VAMV Landesverband Brandenburg e.V.\, sowie dem Demokratischen Frauenbund Landesverband Brandenburg e.V. realisiert wird.
URL:https://pola-magazin.de/veranstaltung/bei-uns-doch-nicht-wir-hatten-und-haben-mut-zur-existenzgruendung-teil-2/
LOCATION:online
CATEGORIES:Für Eltern
ATTACH;FMTTYPE=image/jpeg:https://pola-magazin.de/wp-content/uploads/2023/02/perspektive-selbststaendigkeit-potsdam-logo.jpg
END:VEVENT
BEGIN:VEVENT
DTSTART;TZID=Europe/Berlin:20230320T200000
DTEND;TZID=Europe/Berlin:20230320T220000
DTSTAMP:20260419T225613
CREATED:20230116T133851Z
LAST-MODIFIED:20230116T133851Z
UID:10002334-1679342400-1679349600@pola-magazin.de
SUMMARY:Eltern-Workshops für ein entspanntes Familienleben (online)
DESCRIPTION:Kursleiterin Katja Lehmann bringt Euch im Eltern-Sein wieder auf die Spur\, wenn es im Familienalltag knirscht. Teilnehmen könnt ihr bequem online via Zoom. \nThemen und Termine: \n\n20. März: Gewaltfrei & empathisch kommunizieren – wie geht das?\n24. April: Geschwisterliebe – Geschwisterzoff\n24. Mai: Ab morgen geht mein Baby in die Kita! So gelingt ein guter Übergang\n28. Juni: Kleiner Tyrann & kleine Prinzessin\n\nDie Anmeldung ist drei Wochen vor der Veranstaltung über die Website von “Potsdam bewegt Bildung e.V.” möglich. \n\nEltern (privat): gegen eine Spende\nPädagog:innen (beruflich): 33\,- Euro mit Teilnahmezertifikat\nEinzelberatung und Termine in Kitas oder Familienzentren auf Anfrage unter katja@potsdam-bildung.de
URL:https://pola-magazin.de/veranstaltung/eltern-workshops-fuer-ein-entspanntes-familienleben-online/2023-03-20/
LOCATION:online
CATEGORIES:Für Eltern
END:VEVENT
BEGIN:VEVENT
DTSTART;TZID=Europe/Berlin:20230309T100000
DTEND;TZID=Europe/Berlin:20230309T120000
DTSTAMP:20260419T225613
CREATED:20230228T152958Z
LAST-MODIFIED:20230228T153500Z
UID:10002496-1678356000-1678363200@pola-magazin.de
SUMMARY:Bei uns doch nicht! Wir hatten und haben Mut zur Existenzgründung / Teil 1
DESCRIPTION:Unternehmerinnen mit Kindern sprechen offen über Ihre Erfahrungen als Existenzgründerinnen und bieten gründungsinteressierten Frauen die Möglichkeit zum Erfahrungsaustausch. \nDu stellst dir Fragen wie:\n• Wie gelingt eine berufliche Selbstständigkeit als (alleinerziehende) Frau?\n• Wie haben es Gründerinnen neben Care-Arbeit und/oder anderen Herausforderungen geschafft?\n• Wer kann mich in Brandenburg unterstützen?\n• Und was ist…wenn mich mal der Mut verlässt? \nDann bist du in der Online-Kooperationsveranstaltung „Bei uns doch nicht! Wir hatten und haben Mut zur Existenzgründung!“ genau richtig\, denn hier dreht es sich um Mut zur beruflichen Selbstständigkeit als Frau. \nJeweils eine alleinerziehende Gründerin\, sowie eine selbstständige Frau mit Kindern in Partner:innenschaft berichten über ihren Mut zur Existenzgründung\, geben Impulse und stehen für Fragen und offenen Austausch zur Verfügung. \n• Nutze diese Gelegenheit auch zur Vernetzung mit anderen\, gründungsinteressierten Frauen.\n• Erfahre wo du kostenfreie Beratungsangebote für deine individuelle Lebenssituation bekommst und…\n• wie du eine selbstständige Tätigkeit als berufliche Chance für dich nutzen kannst! \nEingeladene Unternehmerinnen aus Brandenburg sind: \n\nBeate Wein (Freiberufliche Pianistin & Sängerin)\nJulia Krohse (Vegane Ernährungsberaterin und Gründerin von “Vegan gesund mit Grund”)\n\nLass dich inspirieren\, mitreißen und empowern! Neugierig geworden? Dann melde dich bis zum 08.03.\, 11:30 Uhr HIER an. \nDie Veranstaltung ist ein kooperatives Format\, welches durch das Projekt Perspektive:Selbstständigkeit für (alleinerziehende) Frauen\, dem SHIA Landesverband Brandenburg e.V. dem VAMV Landesverband Brandenburg e.V.\, sowie dem Demokratischen Frauenbund Landesverband Brandenburg e.V. realisiert wird.
URL:https://pola-magazin.de/veranstaltung/wir-hatten-und-haben-mut-zur-existenzgruendung-teil-1/
LOCATION:online
CATEGORIES:Für Eltern
ATTACH;FMTTYPE=image/jpeg:https://pola-magazin.de/wp-content/uploads/2023/02/perspektive-selbststaendigkeit-potsdam-logo.jpg
END:VEVENT
BEGIN:VEVENT
DTSTART;TZID=Europe/Berlin:20230123T180000
DTEND;TZID=Europe/Berlin:20230123T180000
DTSTAMP:20260419T225613
CREATED:20230116T143124Z
LAST-MODIFIED:20230116T143124Z
UID:10002351-1674496800-1674496800@pola-magazin.de
SUMMARY:Elternabend: Das erste Smartphone (online)
DESCRIPTION:Kinder brauchen Unterstützung und klare Regeln\, wenn sie mit dem ersten Handy starten. Wann ist das Kind reif für ein Handy? Welche Risiken sollten Sie als Eltern kennen\, wie lässt sich das Gerät sicher einstellen\, welche Regelungen bieten sich an? Zu diesen und weiteren Fragen erhalten Sie im Rahmen des digitalen Elternabends Informationen und praktische Tipps.
URL:https://pola-magazin.de/veranstaltung/elternabend-das-erste-smartphone-online/
LOCATION:online
CATEGORIES:Eintritt frei,Für Eltern
END:VEVENT
END:VCALENDAR