BEGIN:VCALENDAR
VERSION:2.0
PRODID:-//‍‍‍ POLA I Entdecke das Familienmagazin für Eltern und Kind - ECPv6.15.20//NONSGML v1.0//EN
CALSCALE:GREGORIAN
METHOD:PUBLISH
X-WR-CALNAME:‍‍‍ POLA I Entdecke das Familienmagazin für Eltern und Kind
X-ORIGINAL-URL:https://pola-magazin.de
X-WR-CALDESC:Veranstaltungen für ‍‍‍ POLA I Entdecke das Familienmagazin für Eltern und Kind
REFRESH-INTERVAL;VALUE=DURATION:PT1H
X-Robots-Tag:noindex
X-PUBLISHED-TTL:PT1H
BEGIN:VTIMEZONE
TZID:Europe/Berlin
BEGIN:DAYLIGHT
TZOFFSETFROM:+0100
TZOFFSETTO:+0200
TZNAME:CEST
DTSTART:20240331T010000
END:DAYLIGHT
BEGIN:STANDARD
TZOFFSETFROM:+0200
TZOFFSETTO:+0100
TZNAME:CET
DTSTART:20241027T010000
END:STANDARD
BEGIN:DAYLIGHT
TZOFFSETFROM:+0100
TZOFFSETTO:+0200
TZNAME:CEST
DTSTART:20250330T010000
END:DAYLIGHT
BEGIN:STANDARD
TZOFFSETFROM:+0200
TZOFFSETTO:+0100
TZNAME:CET
DTSTART:20251026T010000
END:STANDARD
BEGIN:DAYLIGHT
TZOFFSETFROM:+0100
TZOFFSETTO:+0200
TZNAME:CEST
DTSTART:20260329T010000
END:DAYLIGHT
BEGIN:STANDARD
TZOFFSETFROM:+0200
TZOFFSETTO:+0100
TZNAME:CET
DTSTART:20261025T010000
END:STANDARD
END:VTIMEZONE
BEGIN:VEVENT
DTSTART;VALUE=DATE:20251102
DTEND;VALUE=DATE:20251103
DTSTAMP:20260423T211239
CREATED:20250902T145612Z
LAST-MODIFIED:20250902T145612Z
UID:10005089-1762041600-1762041600@pola-magazin.de
SUMMARY:Brandenburger Kreativtage
DESCRIPTION:Die Brandenburger Kreativtage sind ein Muss für alle\, die Bastel- und Handwerkskunst lieben!\nLassen Sie sich von Basteltrends inspirieren\, sammeln Sie kreative Ideen\, profitieren Sie von der fachkundigen Beratung durch erfahrene Experten oder schlendern Sie durch die vielen Fachhändler vor Ort. \nZahlreiche Workshops laden dazu ein\, selbst aktiv zu werden und neue Techniken auszuprobieren. Egal ob Einsteiger oder erfahrener Hobbyist\, hier findet jeder die passenden Anregungen\, um seine Kreativität voll auszuleben und auf Gleichgesinnte zu treffen. \nVorverkauf über ticketbro oder an der Tageskasse. \nErwachsene: 7\,00 €\nKinder bis 14 Jahre 5\,00 €\n(in Begleitung eines Erwachsenen)
URL:https://pola-magazin.de/veranstaltung/brandenburger-kreativtage/2025-11-02/
LOCATION:MAFZ Erlebnispark Paaren\, Gartenstraße 1-3\, Schönwalde Glien\, 14621
CATEGORIES:Für Eltern,Kreatives & Workshops
END:VEVENT
BEGIN:VEVENT
DTSTART;VALUE=DATE:20251101
DTEND;VALUE=DATE:20251102
DTSTAMP:20260423T211239
CREATED:20250902T145612Z
LAST-MODIFIED:20250902T145612Z
UID:10005088-1761955200-1762041599@pola-magazin.de
SUMMARY:Brandenburger Kreativtage
DESCRIPTION:Die Brandenburger Kreativtage sind ein Muss für alle\, die Bastel- und Handwerkskunst lieben!\nLassen Sie sich von Basteltrends inspirieren\, sammeln Sie kreative Ideen\, profitieren Sie von der fachkundigen Beratung durch erfahrene Experten oder schlendern Sie durch die vielen Fachhändler vor Ort. \nZahlreiche Workshops laden dazu ein\, selbst aktiv zu werden und neue Techniken auszuprobieren. Egal ob Einsteiger oder erfahrener Hobbyist\, hier findet jeder die passenden Anregungen\, um seine Kreativität voll auszuleben und auf Gleichgesinnte zu treffen. \nVorverkauf über ticketbro oder an der Tageskasse. \nErwachsene: 7\,00 €\nKinder bis 14 Jahre 5\,00 €\n(in Begleitung eines Erwachsenen)
URL:https://pola-magazin.de/veranstaltung/brandenburger-kreativtage/2025-11-01/
LOCATION:MAFZ Erlebnispark Paaren\, Gartenstraße 1-3\, Schönwalde Glien\, 14621
CATEGORIES:Für Eltern,Kreatives & Workshops
END:VEVENT
BEGIN:VEVENT
DTSTART;TZID=Europe/Berlin:20250928T100000
DTEND;TZID=Europe/Berlin:20250928T170000
DTSTAMP:20260423T211239
CREATED:20250902T145738Z
LAST-MODIFIED:20250902T145738Z
UID:10005091-1759053600-1759078800@pola-magazin.de
SUMMARY:Schmiedefest
DESCRIPTION:Erleben Sie traditionelles Handwerk hautnah!\nWenn Feuer auf Eisen trifft\, wird es heiß im Erlebnispark Paaren: Auch dieses Jahr laden die Schmiede zum großen Schmiedefest ein – mit spektakulären Vorführungen\, Mitmach-Aktionen und vielen weiteren Attraktionen für die ganze Familie. \nDas erwartet Euch:\nSchmiede-Kunst live – Vom Pferdebeschlag bis zu Schmiededemonstrationen am Amboss.\nSelber Hand anlegen – Probieren Sie sich mit Hammer & Amboss beim Schmiedeclub Weltersburg.\nDas Riesenfahrrad „Kleine Johanna“ – über 5 Meter lang\, fast 2 Meter hoch und über 2 Tonnen schwer. Ein Highlight zum Staunen – und vielleicht auch zum Mitfahren!\nTraditionelles Handwerk – u. a. mit Miniatur-Dampfmaschinen der Modellbauer.\nFalkner-Show – Greifvögel zum Greifen nah.\nAction für Kinder – Feuer machen\, alte Spiele\, Pfeil & Bogen\, Spielplätze & Vorlese-Ecke.\nBarock-Feuerwerk am Samstagabend – ein besonderes Schauspiel\, das den Himmel in Flammen taucht. \nÖffnungszeiten & Infos\nSamstag\, 27. September | 10:00 – 21:30 Uhr\nSonntag\, 28. September | 10:00 – 17:00 Uhr \nFür leckeres Essen & Getränke ist natürlich gesorgt! Kommt vorbei und taucht ein in die Welt des traditionellen Schmiedehandwerks – ein Erlebnis für Groß & Klein!
URL:https://pola-magazin.de/veranstaltung/schmiedefest/2025-09-28/
LOCATION:MAFZ Erlebnispark Paaren\, Gartenstraße 1-3\, Schönwalde Glien\, 14621
CATEGORIES:Familienfest,Kreatives & Workshops
END:VEVENT
BEGIN:VEVENT
DTSTART;TZID=Europe/Berlin:20250927T100000
DTEND;TZID=Europe/Berlin:20250927T213000
DTSTAMP:20260423T211239
CREATED:20250902T145738Z
LAST-MODIFIED:20250902T145738Z
UID:10005090-1758967200-1759008600@pola-magazin.de
SUMMARY:Schmiedefest
DESCRIPTION:Erleben Sie traditionelles Handwerk hautnah!\nWenn Feuer auf Eisen trifft\, wird es heiß im Erlebnispark Paaren: Auch dieses Jahr laden die Schmiede zum großen Schmiedefest ein – mit spektakulären Vorführungen\, Mitmach-Aktionen und vielen weiteren Attraktionen für die ganze Familie. \nDas erwartet Euch:\nSchmiede-Kunst live – Vom Pferdebeschlag bis zu Schmiededemonstrationen am Amboss.\nSelber Hand anlegen – Probieren Sie sich mit Hammer & Amboss beim Schmiedeclub Weltersburg.\nDas Riesenfahrrad „Kleine Johanna“ – über 5 Meter lang\, fast 2 Meter hoch und über 2 Tonnen schwer. Ein Highlight zum Staunen – und vielleicht auch zum Mitfahren!\nTraditionelles Handwerk – u. a. mit Miniatur-Dampfmaschinen der Modellbauer.\nFalkner-Show – Greifvögel zum Greifen nah.\nAction für Kinder – Feuer machen\, alte Spiele\, Pfeil & Bogen\, Spielplätze & Vorlese-Ecke.\nBarock-Feuerwerk am Samstagabend – ein besonderes Schauspiel\, das den Himmel in Flammen taucht. \nÖffnungszeiten & Infos\nSamstag\, 27. September | 10:00 – 21:30 Uhr\nSonntag\, 28. September | 10:00 – 17:00 Uhr \nFür leckeres Essen & Getränke ist natürlich gesorgt! Kommt vorbei und taucht ein in die Welt des traditionellen Schmiedehandwerks – ein Erlebnis für Groß & Klein!
URL:https://pola-magazin.de/veranstaltung/schmiedefest/2025-09-27/
LOCATION:MAFZ Erlebnispark Paaren\, Gartenstraße 1-3\, Schönwalde Glien\, 14621
CATEGORIES:Familienfest,Kreatives & Workshops
END:VEVENT
BEGIN:VEVENT
DTSTART;TZID=Europe/Berlin:20250920T170000
DTEND;TZID=Europe/Berlin:20250920T170000
DTSTAMP:20260423T211239
CREATED:20250616T144702Z
LAST-MODIFIED:20250616T144702Z
UID:10004774-1758387600-1758387600@pola-magazin.de
SUMMARY:Brandenburger Feuerwerksmeisterschaft
DESCRIPTION:Am Abend wird’s spektakulär! Zum fünften Mal heißt es: Bühne frei für die besten Feuerwerkskünstler des Landes. Drei Teams treten in der Brandenburger Feuerwerksmeisterschaft gegeneinander an und lassen den Himmel über dem Erlebnispark Paaren in Farben\, Formen und Musik erstrahlen. \nBevor es funkelt und kracht\, könnt ihr tagsüber bis 16 Uhr wie gewohnt den Erlebnispark besuchen. Ab 17 Uhr öffnen sich dann die Tore für das Abendprogramm – mit leckerem Streetfood\, regionalen Spezialitäten\, mitreißender Musik und bester Stimmung auf dem Gelände. \nUnd dann: Showtime! Mit Einbruch der Dunkelheit starten die Feuerwerksshows – eindrucksvoll choreografiert und untermalt mit Musik. Wer schafft es\, die Jury und das Publikum gleichermaßen zu begeistern? Entscheidet selbst\, welches Team euren Himmel am schönsten verzaubert! \nTermin: Samstag\, 20. September 2025\nEinlass zur Meisterschaft: ab 17:00 Uhr\nBeginn der Feuerwerke: nach Einbruch der Dunkelheit\nTagesbesucher: regulärer Parkbetrieb bis 16:00 Uhr \nEintrittspreise:\nVorverkauf (online\, zzgl. Gebühren):\nErwachsene (ab 16 J.): 20 €\nKinder (6–15 J.): 12 € \nVorverkauf (direkt in der Brauereischänke im Erlebnispark\, ohne Gebühren – bis 19.09.2025):\nErwachsene (ab 16 J.): 20 €\nKinder (6–15 J.): 12 € \nAbendkasse:\nErwachsene (ab 16 J.): 25 €\nKinder (6–15 J.): 15 € \nKinder unter 6 Jahren haben freien Eintritt.
URL:https://pola-magazin.de/veranstaltung/brandenburger-feuerwerksmeisterschaft/
LOCATION:MAFZ Erlebnispark Paaren\, Gartenstraße 1-3\, Schönwalde Glien\, 14621
CATEGORIES:Familienfest
END:VEVENT
BEGIN:VEVENT
DTSTART;TZID=Europe/Berlin:20250914T100000
DTEND;TZID=Europe/Berlin:20250914T170000
DTSTAMP:20260423T211239
CREATED:20250616T144550Z
LAST-MODIFIED:20250616T144550Z
UID:10004773-1757844000-1757869200@pola-magazin.de
SUMMARY:Havelländer Erntefest
DESCRIPTION:Zum 15. Mal heißt es: Der Herbst ist da – und das Havelland feiert seine Ernte! In diesem Jahr übernimmt erstmals der Landkreis Havelland das Ruder und lädt herzlich ein zum großen Havelländer Erntefest im Erlebnispark Paaren. Unter dem Motto „Erntezeit im Havelland – Tradition erleben\, Heimat genießen“ erwartet die Besucher ein Fest\, das Brauchtum\, Genuss und jede Menge gute Laune verbindet. \nWas euch erwartet? Ein kunterbuntes Programm für die ganze Familie! Freut euch auf ein vielseitiges Bühnenprogramm\, die feierliche Wahl der 15. Havelländer Erntekönigin\, einen großen Erntewagenumzug\, die Prämierung der schönsten Erntekronen\, einen Fotowettbewerb mit Ausstellung sowie die unterhaltsame Marmeladen-Live-Challenge. \nDazu gibt es ein buntes Markttreiben mit regionalen Produkten\, leckere Spezialitäten aus dem Havelland\, spannende Tierschauen\, Mitmachaktionen und kreative Workshops rund um traditionelles Handwerk. \nBesonders beliebt: die Havelländer Birnen – frisch\, fruchtig und einfach lecker! \nTermin: Samstag\, 14. September 2025\nUhrzeit: 10:00 – 17:00 Uhr\nEintritt: 4\,00 € pro Person
URL:https://pola-magazin.de/veranstaltung/havellaender-erntefest/
LOCATION:MAFZ Erlebnispark Paaren\, Gartenstraße 1-3\, Schönwalde Glien\, 14621
CATEGORIES:Familienfest
END:VEVENT
END:VCALENDAR