BEGIN:VCALENDAR
VERSION:2.0
PRODID:-//‍‍‍ POLA I Entdecke das Familienmagazin für Eltern und Kind - ECPv6.15.20//NONSGML v1.0//EN
CALSCALE:GREGORIAN
METHOD:PUBLISH
X-WR-CALNAME:‍‍‍ POLA I Entdecke das Familienmagazin für Eltern und Kind
X-ORIGINAL-URL:https://pola-magazin.de
X-WR-CALDESC:Veranstaltungen für ‍‍‍ POLA I Entdecke das Familienmagazin für Eltern und Kind
REFRESH-INTERVAL;VALUE=DURATION:PT1H
X-Robots-Tag:noindex
X-PUBLISHED-TTL:PT1H
BEGIN:VTIMEZONE
TZID:Europe/Berlin
BEGIN:DAYLIGHT
TZOFFSETFROM:+0100
TZOFFSETTO:+0200
TZNAME:CEST
DTSTART:20250330T010000
END:DAYLIGHT
BEGIN:STANDARD
TZOFFSETFROM:+0200
TZOFFSETTO:+0100
TZNAME:CET
DTSTART:20251026T010000
END:STANDARD
BEGIN:DAYLIGHT
TZOFFSETFROM:+0100
TZOFFSETTO:+0200
TZNAME:CEST
DTSTART:20260329T010000
END:DAYLIGHT
BEGIN:STANDARD
TZOFFSETFROM:+0200
TZOFFSETTO:+0100
TZNAME:CET
DTSTART:20261025T010000
END:STANDARD
BEGIN:DAYLIGHT
TZOFFSETFROM:+0100
TZOFFSETTO:+0200
TZNAME:CEST
DTSTART:20270328T010000
END:DAYLIGHT
BEGIN:STANDARD
TZOFFSETFROM:+0200
TZOFFSETTO:+0100
TZNAME:CET
DTSTART:20271031T010000
END:STANDARD
END:VTIMEZONE
BEGIN:VEVENT
DTSTART;TZID=Europe/Berlin:20260430T160000
DTEND;TZID=Europe/Berlin:20260430T200000
DTSTAMP:20260423T183445
CREATED:20240315T105333Z
LAST-MODIFIED:20260415T154238Z
UID:10003331-1777564800-1777579200@pola-magazin.de
SUMMARY:Walpurgisnacht für die Familie
DESCRIPTION:Wenn der April endet und der Mai noch nicht begonnen hat\, wartet die WALPURGISNACHT\, um den Winter endgültig zu vertreiben und den Frühling willkommen zu heißen. Traditionell feiern wir dies auch im Lindenpark mit unserem Familienfest “WALPURGISNACHT FÜR DIE FAMILIE”. \nIn alten Zeiten und auch heute noch werden in der Walpurgisnacht Feuer entzündet\, um die Wintergeister zu verjagen. Man sagt\, dass es Glück bringt\, wenn man in der Walpurgisnacht zwischen zwei Feuern tanzt. Und deshalb wird es bei uns reichlich Freudenfeuer und Musik geben. Wir stellen mit Euch kleine Schutzpüppchen und Blumenkränze her\, wir machen mit Euch Musik\, hören Geschichten zu\, tanzen in der HEXENDISKO und wer möchte\, springt am Ende mit der Musik der SAMBA KIDS über das Feuer in den Frühling. \nFür Leckereien und Erfrischungen ist natürlich auch gesorgt. Also\, Ihr kleinen und großen Hexenmeister und Frühlingselfen – eilt herbei und feiert mit uns!
URL:https://pola-magazin.de/veranstaltung/walpurgisnacht-fuer-die-familie-2/
LOCATION:Lindenpark Potsdam\, Stahnsdorfer Straße 76-78\, Potsdam\, 14482
CATEGORIES:Familienfest
END:VEVENT
BEGIN:VEVENT
DTSTART;TZID=Europe/Berlin:20260510T150000
DTEND;TZID=Europe/Berlin:20260510T180000
DTSTAMP:20260423T183445
CREATED:20221110T120448Z
LAST-MODIFIED:20260113T152354Z
UID:10005637-1778425200-1778436000@pola-magazin.de
SUMMARY:Familienflohmarkt im Lindenpark
DESCRIPTION:Es ist wieder Zeit\, um neue Schätze zu entdecken und Sachen\, die ihr nicht mehr braucht\, weiterzugeben. Denn wegschmeißen war gestern – heute nutzen wir\, was wir haben. Herzlich willkommen zum Familienflohmarkt im Lindenpark! Im Winter im Saal\, im Sommer draußen \nEine Tischreservierung läuft über einen Ticketverkauf über unsere Website unter der jeweiligen Veranstaltung\, die jeweils nach dem vorangegangen Flohmarkt angelegt wird. Jeder Interessierte kann sich dort ein Ticket pro Tisch kaufen (12 €\, max. 2 Tickets/Person)\, solange der Vorrat reicht. Das Ticket beinhaltet je einen Stellplatz mit einem Biertisch 2m x 50cm und einer dazugehörigen Bank. \nKinder können bei den Outdoor-Terminen kostenfrei auf einer mitgebrachten Decke trödeln (mit Anmeldung).  \nLeckereien und zahlreiche Spielmöglichkeiten auf dem Lindenpark-Gelände sorgen für Stärkung und Spaß. \nTipp: Folgt unserem Instagram-Kanal @flohmarkt.potsdam für aktuelle Termine mit Erinnerungsfunktion!
URL:https://pola-magazin.de/veranstaltung/familienflohmarkt-2/2026-05-10/
LOCATION:Lindenpark Potsdam\, Stahnsdorfer Straße 76-78\, Potsdam\, 14482
CATEGORIES:Flohmarkt
END:VEVENT
BEGIN:VEVENT
DTSTART;TZID=Europe/Berlin:20260601T160000
DTEND;TZID=Europe/Berlin:20260601T160000
DTSTAMP:20260423T183445
CREATED:20250312T113607Z
LAST-MODIFIED:20260415T154427Z
UID:10004499-1780329600-1780329600@pola-magazin.de
SUMMARY:Kindertag im Lindenpark
DESCRIPTION:KINDERTAG UNTER DEN LINDEN\nDer große Tag für kleine Leute ist wie immer ein ganz besonderer Festtag im Lindenpark. Wir feiern mit Euch den Kindertag und dazu gibt Theater\, Spaß und Eis! Ab 16 Uhr könnt in unserem grünen Außengelände auf unserer Freiluft-Bühne das Theater anschauen. \nLasst uns gemeinsam die Kinder feiern! \nLIVE AUF DER BÜHNE\nWer hat den Salat geklaut?\nvom MORPHtheater \nDer Prenzl-Knirps hat einen Salat gefunden! Voller Stolz und Neugier will er mit den Kindern zusammen überlegen\, was das ist und was man damit anfangen kann. Ein grüner Fußball? Doch als er einmal kurz die Bühne verlässt\, kommt ein Hase vorbei und stibitzt den Salat… Als der Prenzl-Knirps zurückkommt\, kann er es gar nicht glauben: Sein toller Fund ist verschwunden! Wer hat den Salat geklaut? \nEr lässt sich von den Kindern erzählen\, wohin sein Salat verschwunden ist. Wütend läuft er dem Hasen hinterher – der sogleich von der anderen Seite zurückkommt und als Wiedergutmachung eine Karotte mitbringt. Diese wird\, bevor der Prenzl-Knirps sie genießen kann\, allerdings von einem Schaf entwendet… Und wieder muss sich der Prenzl-Knirps erzählen lassen\, was in seiner Abwesenheit passiert ist. So geht es immer weiter: Immer\, wenn der Junge gerade nicht auf der Bühne ist\, kommt eine andere Figur vorbei und bringt seine Pläne durcheinander. \nSo entfaltet sich ein bunter Reigen von Figuren\, die alle von einem Schauspieler dargestellt werden. Gemeinsam mit den Kindern macht er sich auf die Jagd nach dem verschwundenen Salat – die am Ende natürlich ein gutes Ende findet. \nEine Vielzahl liebenswerter Figuren und Lieder nehmen auch junge Zuschauer auf eine gemeinsame Phantasiereise mit. \nIm Theater muss man still sitzen und zuschauen? Nicht beim MORPHtheater! Durch starke interaktive Elemente und einfache Lieder haben auch die kleinen Zuschauer Spaß an Theater.
URL:https://pola-magazin.de/veranstaltung/kindertag-im-lindenpark/
LOCATION:Lindenpark Potsdam\, Stahnsdorfer Straße 76-78\, Potsdam\, 14482
CATEGORIES:Eintritt frei,Familienfest
END:VEVENT
BEGIN:VEVENT
DTSTART;TZID=Europe/Berlin:20260606T100000
DTEND;TZID=Europe/Berlin:20260606T100000
DTSTAMP:20260423T183445
CREATED:20260415T154640Z
LAST-MODIFIED:20260415T154640Z
UID:10006952-1780740000-1780740000@pola-magazin.de
SUMMARY:66 Jahre Lindenpark
DESCRIPTION:66 Jahre Kultur und Konzerte – Der Lindenpark lädt ein zum Tag der offenen Tür! \nAm 06.06.2026 wird gefeiert: Der Lindenpark als Veranstaltungshaus wird 66 Jahre alt! Von 10 bis 22 Uhr öffnen wir unsere Türen und laden euch herzlich zu einem bunten Tag der offenen Tür ein. \nFreut euch auf Livemusik\, spannende Workshops und abwechslungsreiche Präsentationen und natürlich auf viele Begegnungen\, die eine oder andere Erinnerung aus unserer Veranstaltungsgeschichte und unzählige spannende neue Eindrücke. Ob Konzerte\, Partys oder kulturelle Highlights: Der Lindenpark steht seit Jahrzehnten für unvergessliche Moment und das wollen wir gemeinsam mit euch feiern! \nKommt vorbei\, bringt Freund*innen und Familie mit – Kinder und Familien sind ausdrücklich willkommen. \nWir freuen uns auf euch!
URL:https://pola-magazin.de/veranstaltung/66-jahre-lindenpark/
LOCATION:Lindenpark Potsdam\, Stahnsdorfer Straße 76-78\, Potsdam\, 14482
CATEGORIES:Eintritt frei,Familienfest
END:VEVENT
BEGIN:VEVENT
DTSTART;TZID=Europe/Berlin:20260614T150000
DTEND;TZID=Europe/Berlin:20260614T150000
DTSTAMP:20260423T183445
CREATED:20220325T103059Z
LAST-MODIFIED:20260415T154816Z
UID:10001748-1781449200-1781449200@pola-magazin.de
SUMMARY:Familienzaubershow mit Felix Wohlfarth
DESCRIPTION:Open Air / Taucht ein in die faszinierende Welt der Zauberei\, mit dem Zauberkünstler Felix Wohlfarth aus Potsdam! Seine interaktive Familienzaubershow ist nicht nur für die Kids ein Highlight\, sondern auch für die gestandenen Erwachsenen und die erfahrenen Großeltern. \nMit einer Prise Humor\, einem Schuss Witz und einer großen Portion Magie sorgt Felix für große Überraschungen und unvergessliche Momente\, bei denen die ganze Familie aus dem Staunen und Lachen nicht mehr herauskommt. \nDas Besondere an dieser Show? Die Kinder schauen nicht nur zu\, sondern werden auch aktiv in sein Programm eingebunden! Sei es als einzelne Person oder auch als ganz Gruppe! Dadurch entsteht viel Situationskomik für Groß und Klein! Hier werden die Kinder zu den Stars der Zaubershow! Freut euch auf eine mitreißende Mischung aus magischer Unterhaltung\, urkomischen Interaktionen und jeder Menge Spaß! \nAltersempfehlung: ab 5 Jahren\nProgrammdauer: ca. 60 Minuten
URL:https://pola-magazin.de/veranstaltung/felix-wohlfarth-2/
LOCATION:Lindenpark Potsdam\, Stahnsdorfer Straße 76-78\, Potsdam\, 14482
CATEGORIES:Zirkus & Zaubershow
END:VEVENT
BEGIN:VEVENT
DTSTART;TZID=Europe/Berlin:20260927T150000
DTEND;TZID=Europe/Berlin:20260927T180000
DTSTAMP:20260423T183445
CREATED:20221110T120448Z
LAST-MODIFIED:20260113T152354Z
UID:10005638-1790521200-1790532000@pola-magazin.de
SUMMARY:Familienflohmarkt im Lindenpark
DESCRIPTION:Es ist wieder Zeit\, um neue Schätze zu entdecken und Sachen\, die ihr nicht mehr braucht\, weiterzugeben. Denn wegschmeißen war gestern – heute nutzen wir\, was wir haben. Herzlich willkommen zum Familienflohmarkt im Lindenpark! Im Winter im Saal\, im Sommer draußen \nEine Tischreservierung läuft über einen Ticketverkauf über unsere Website unter der jeweiligen Veranstaltung\, die jeweils nach dem vorangegangen Flohmarkt angelegt wird. Jeder Interessierte kann sich dort ein Ticket pro Tisch kaufen (12 €\, max. 2 Tickets/Person)\, solange der Vorrat reicht. Das Ticket beinhaltet je einen Stellplatz mit einem Biertisch 2m x 50cm und einer dazugehörigen Bank. \nKinder können bei den Outdoor-Terminen kostenfrei auf einer mitgebrachten Decke trödeln (mit Anmeldung).  \nLeckereien und zahlreiche Spielmöglichkeiten auf dem Lindenpark-Gelände sorgen für Stärkung und Spaß. \nTipp: Folgt unserem Instagram-Kanal @flohmarkt.potsdam für aktuelle Termine mit Erinnerungsfunktion!
URL:https://pola-magazin.de/veranstaltung/familienflohmarkt-2/2026-09-27/
LOCATION:Lindenpark Potsdam\, Stahnsdorfer Straße 76-78\, Potsdam\, 14482
CATEGORIES:Flohmarkt
END:VEVENT
BEGIN:VEVENT
DTSTART;TZID=Europe/Berlin:20261108T150000
DTEND;TZID=Europe/Berlin:20261108T180000
DTSTAMP:20260423T183445
CREATED:20221110T120448Z
LAST-MODIFIED:20260113T152354Z
UID:10005654-1794150000-1794160800@pola-magazin.de
SUMMARY:Familienflohmarkt im Lindenpark
DESCRIPTION:Es ist wieder Zeit\, um neue Schätze zu entdecken und Sachen\, die ihr nicht mehr braucht\, weiterzugeben. Denn wegschmeißen war gestern – heute nutzen wir\, was wir haben. Herzlich willkommen zum Familienflohmarkt im Lindenpark! Im Winter im Saal\, im Sommer draußen \nEine Tischreservierung läuft über einen Ticketverkauf über unsere Website unter der jeweiligen Veranstaltung\, die jeweils nach dem vorangegangen Flohmarkt angelegt wird. Jeder Interessierte kann sich dort ein Ticket pro Tisch kaufen (12 €\, max. 2 Tickets/Person)\, solange der Vorrat reicht. Das Ticket beinhaltet je einen Stellplatz mit einem Biertisch 2m x 50cm und einer dazugehörigen Bank. \nKinder können bei den Outdoor-Terminen kostenfrei auf einer mitgebrachten Decke trödeln (mit Anmeldung).  \nLeckereien und zahlreiche Spielmöglichkeiten auf dem Lindenpark-Gelände sorgen für Stärkung und Spaß. \nTipp: Folgt unserem Instagram-Kanal @flohmarkt.potsdam für aktuelle Termine mit Erinnerungsfunktion!
URL:https://pola-magazin.de/veranstaltung/familienflohmarkt-2/2026-11-08/
LOCATION:Lindenpark Potsdam\, Stahnsdorfer Straße 76-78\, Potsdam\, 14482
CATEGORIES:Flohmarkt
END:VEVENT
END:VCALENDAR