BEGIN:VCALENDAR
VERSION:2.0
PRODID:-//‍‍‍ POLA I Entdecke das Familienmagazin für Eltern und Kind - ECPv6.15.20//NONSGML v1.0//EN
CALSCALE:GREGORIAN
METHOD:PUBLISH
X-WR-CALNAME:‍‍‍ POLA I Entdecke das Familienmagazin für Eltern und Kind
X-ORIGINAL-URL:https://pola-magazin.de
X-WR-CALDESC:Veranstaltungen für ‍‍‍ POLA I Entdecke das Familienmagazin für Eltern und Kind
REFRESH-INTERVAL;VALUE=DURATION:PT1H
X-Robots-Tag:noindex
X-PUBLISHED-TTL:PT1H
BEGIN:VTIMEZONE
TZID:Europe/Berlin
BEGIN:DAYLIGHT
TZOFFSETFROM:+0100
TZOFFSETTO:+0200
TZNAME:CEST
DTSTART:20230326T010000
END:DAYLIGHT
BEGIN:STANDARD
TZOFFSETFROM:+0200
TZOFFSETTO:+0100
TZNAME:CET
DTSTART:20231029T010000
END:STANDARD
BEGIN:DAYLIGHT
TZOFFSETFROM:+0100
TZOFFSETTO:+0200
TZNAME:CEST
DTSTART:20240331T010000
END:DAYLIGHT
BEGIN:STANDARD
TZOFFSETFROM:+0200
TZOFFSETTO:+0100
TZNAME:CET
DTSTART:20241027T010000
END:STANDARD
BEGIN:DAYLIGHT
TZOFFSETFROM:+0100
TZOFFSETTO:+0200
TZNAME:CEST
DTSTART:20250330T010000
END:DAYLIGHT
BEGIN:STANDARD
TZOFFSETFROM:+0200
TZOFFSETTO:+0100
TZNAME:CET
DTSTART:20251026T010000
END:STANDARD
END:VTIMEZONE
BEGIN:VEVENT
DTSTART;TZID=Europe/Berlin:20240602T120000
DTEND;TZID=Europe/Berlin:20240602T120000
DTSTAMP:20260419T204006
CREATED:20240528T095537Z
LAST-MODIFIED:20240528T095615Z
UID:10003656-1717329600-1717329600@pola-magazin.de
SUMMARY:Kinderfilm: Fuchs und Hase retten den Wald
DESCRIPTION:Im Rahmen von Green Visions Potsdam\, dem Filmfestival für nachhaltiges Leben.  \nFuchs\, Hase und Eule sind beste Freunde. Zusammen mit dem Wildschwein\, der Robbe\, dem Pinguin und der Meerjungfrau schmeißen sie eine bunte Party mit köstlichem\, selbstgebackenem Kuchen und mega langer Wasserrutsche. Während später alle schlafen\, bemerkt die ängstliche Eule bei ihrer Nachtwache ein seltsames Plätschern. Und Rinnsale\, die die Waldlichtung ihres Zuhauses langsam fluten. \nEule folgt dem seltsamen Geräusch und gelangt zu einem riesigen Staudamm. Er ist das Werk eines bauwütigen und sehr starken Bibers\, der zwar großartige Spielsachen\, aber keine Freunde hat. Mitten im See hat er einen gigantischen Freizeitpark gebaut und möchte nun endlich von Eule hören\, wie toll er und seine Biber-Arbeit sind. \nAls Fuchs und Hase am nächsten Morgen bemerken\, dass Eule fort ist und ihr Zuhause untergehen könnte\, starten sie eine rasante Rettungsaktion. Zum Glück können sie auf ihre Freunde Wildschwein\, Pinguin\, Robbe und Meerjungfrau zählen. Gemeinsam bestehen sie ein unglaubliches Abenteuer\, überlisten sogar die fiesen Ratten auf ihrem Motorboot und finden heraus\, warum eigentlich ein selbstgebackener Kuchen so verdammt lecker ist. \n→ Tickets\nPräsentiert von der EWP Potsdam. \n \nTitelbild: © Neue Visionen Filmverleih
URL:https://pola-magazin.de/veranstaltung/fuchs-und-hase/
LOCATION:Filmmuseum Potsdam\, Breite Straße 1A\, Marstall\, Potsdam\, 14467
CATEGORIES:Kino & Film
ATTACH;FMTTYPE=image/jpeg:https://pola-magazin.de/wp-content/uploads/2024/05/green-visions-potsdam-kinderfilm.jpg
END:VEVENT
BEGIN:VEVENT
DTSTART;VALUE=DATE:20240530
DTEND;VALUE=DATE:20240603
DTSTAMP:20260419T204006
CREATED:20240528T094630Z
LAST-MODIFIED:20240528T095135Z
UID:10003655-1717027200-1717372799@pola-magazin.de
SUMMARY:Green Visions Potsdam: Filmfestival
DESCRIPTION:Potsdam hat ein neues Filmfestival rund um nachhaltiges Leben: Green Visions Potsdam! An vier Tagen zeigt das Publikumsfestival nationale und internationale Produktionen zu Themen wie Klimaschutz\, Nachhaltigkeit\, Energie\, Landwirtschaft und Ernährung. \nDazu gibt es Wissenschaftsdiskussionen und vor dem Filmmuseum einen Markt für nachhaltiges Leben mit Kulinarischem und Lösungsvorschlägen für euren Alltag. \n→ Programm & Tickets\nTipp: Am Sonntag um 12 Uhr gibt es den Kinderfilm “Fuchs und Hase retten den Wald” (ab 5 Jahre). \nPräsentiert von der EWP Potsdam.
URL:https://pola-magazin.de/veranstaltung/green-visions-potsdam-filmfestival/
LOCATION:Filmmuseum Potsdam\, Breite Straße 1A\, Marstall\, Potsdam\, 14467
CATEGORIES:Für Eltern,Kino & Film
ATTACH;FMTTYPE=image/jpeg:https://pola-magazin.de/wp-content/uploads/2024/05/green-visions-filmfestival-potsdam.jpg
END:VEVENT
END:VCALENDAR