BEGIN:VCALENDAR
VERSION:2.0
PRODID:-//‍‍‍ POLA I Entdecke das Familienmagazin für Eltern und Kind - ECPv6.15.20//NONSGML v1.0//EN
CALSCALE:GREGORIAN
METHOD:PUBLISH
X-WR-CALNAME:‍‍‍ POLA I Entdecke das Familienmagazin für Eltern und Kind
X-ORIGINAL-URL:https://pola-magazin.de
X-WR-CALDESC:Veranstaltungen für ‍‍‍ POLA I Entdecke das Familienmagazin für Eltern und Kind
REFRESH-INTERVAL;VALUE=DURATION:PT1H
X-Robots-Tag:noindex
X-PUBLISHED-TTL:PT1H
BEGIN:VTIMEZONE
TZID:Europe/Berlin
BEGIN:DAYLIGHT
TZOFFSETFROM:+0100
TZOFFSETTO:+0200
TZNAME:CEST
DTSTART:20210328T010000
END:DAYLIGHT
BEGIN:STANDARD
TZOFFSETFROM:+0200
TZOFFSETTO:+0100
TZNAME:CET
DTSTART:20211031T010000
END:STANDARD
BEGIN:DAYLIGHT
TZOFFSETFROM:+0100
TZOFFSETTO:+0200
TZNAME:CEST
DTSTART:20220327T010000
END:DAYLIGHT
BEGIN:STANDARD
TZOFFSETFROM:+0200
TZOFFSETTO:+0100
TZNAME:CET
DTSTART:20221030T010000
END:STANDARD
BEGIN:DAYLIGHT
TZOFFSETFROM:+0100
TZOFFSETTO:+0200
TZNAME:CEST
DTSTART:20230326T010000
END:DAYLIGHT
BEGIN:STANDARD
TZOFFSETFROM:+0200
TZOFFSETTO:+0100
TZNAME:CET
DTSTART:20231029T010000
END:STANDARD
BEGIN:DAYLIGHT
TZOFFSETFROM:+0100
TZOFFSETTO:+0200
TZNAME:CEST
DTSTART:20240331T010000
END:DAYLIGHT
BEGIN:STANDARD
TZOFFSETFROM:+0200
TZOFFSETTO:+0100
TZNAME:CET
DTSTART:20241027T010000
END:STANDARD
END:VTIMEZONE
BEGIN:VEVENT
DTSTART;TZID=Europe/Berlin:20230324T193000
DTEND;TZID=Europe/Berlin:20230324T201000
DTSTAMP:20260421T011146
CREATED:20230120T095835Z
LAST-MODIFIED:20230120T095835Z
UID:10002451-1679686200-1679688600@pola-magazin.de
SUMMARY:Where the Boys are (ab 14 J. - Tanz für junges Publikum)
DESCRIPTION:Zwei gegensätzliche Kräfte kommen zu einem Kampf. Jeder will den anderen besiegen. Doch langsam werden durch wiederholte Zusammenstoße beide Körper weicher. Eine neue Verletzlichkeit entsteht. Sie schafft Platz\, den anderen zu entdecken und eröffnet neue Möglichkeiten der Berührung – mit Sorgfalt und Unterstützung\, die es in Beziehungen zwischen Männern oft nicht gibt. Where the Boys Are erkundet spielerisch die Schnittstelle zwischen Tanz und Kampfsport. Indem sie sich das Vokabular verschiedener Praktiken aneignen\, verwandeln die beiden Performer die Arena in einen sensiblen und intimen Bereich der Performance. \n 
URL:https://pola-magazin.de/veranstaltung/where-the-boys-are-ab-14-j-tanz-fuer-junges-publikum/2023-03-24/
LOCATION:fabrik Potsdam\, Schiffbauergasse 10\, Potsdam\, 14467
CATEGORIES:Jugendliche,Tanz & Ballett
END:VEVENT
BEGIN:VEVENT
DTSTART;TZID=Europe/Berlin:20230319T160000
DTEND;TZID=Europe/Berlin:20230319T170000
DTSTAMP:20260421T011146
CREATED:20230120T095459Z
LAST-MODIFIED:20230120T095554Z
UID:10002450-1679241600-1679245200@pola-magazin.de
SUMMARY:Schwanensee in Sneakers (ab 12)
DESCRIPTION:Die Tänzerin Anna Till begibt sich mit Schwanensee in Sneakers in ein Crossover aus Stilen vom Alltäglichen zum Grotesken\, vom Klassischen zum Populären. Historisches Bewegungsmaterial trifft auf zeitgenössische Form. O-Töne unterschiedlicher Choreograf:innen\, Musik und Sounds erklingen von Schallplatte\, Kassette und Boom-Box. Vergangenes wird mit Gegenwärtigem verwoben. Ist das Warten auf den Bus eigentlich auch Tanz? Diese Solo-Performance öffnet den Blick für die facettenreichen Formen des Tanzes und die Kraft der Verwandlung\, die jedem Körper innewohnt. Das Pop Up-Stück begreift sich als lustvoller und kreativer Wissenstransfer für Jugendliche\, der nicht die Vollständigkeit sucht\, sondern unterschiedliche Perspektiven auf Tanz und Bewegung weitergibt.
URL:https://pola-magazin.de/veranstaltung/schwanensee-in-sneakers-ab-12/
LOCATION:fabrik Potsdam\, Schiffbauergasse 10\, Potsdam\, 14467
CATEGORIES:Jugendliche,Tanz & Ballett
END:VEVENT
BEGIN:VEVENT
DTSTART;TZID=Europe/Berlin:20221203T160000
DTEND;TZID=Europe/Berlin:20221203T160000
DTSTAMP:20260421T011146
CREATED:20221108T145849Z
LAST-MODIFIED:20221108T145849Z
UID:10002172-1670083200-1670083200@pola-magazin.de
SUMMARY:Eine Geschichte der Welt
DESCRIPTION:Tanz für Junges Publikum / ab 6 J. \nLEA MARTINI & DENNIS DETER (BERLIN)\nEXPLORE DANCE – TANZ FÜR JUNGES PUBLIKUM | Tanzaufführung in der fabrik Potsdam \nWoraus ist das Universum entstanden? Aus einer Nussschale\, einer Rippe\, aus Funken von Sternenstaub? Und womit fing das alles an? Manche Fragen sind so grandios\, sie haben mehr als nur eine Antwort verdient. Auf der Suche nach Erklärungen begeben sich drei neugierige Forscher:innen auf eine phantastische Reise und stellen dabei das Theater auf den Kopf. Im Schatten liegt ein ganzes Universum\, in den Falten eines Vorhangs stoßen sie auf die gefährliche Welt gewaltiger Riesenechsen und im Scheinwerferlicht tanzen die Moleküle. Mithilfe von Weichem und Rundem\, von Fingern\, Farben und lauten Geräuschen erfinden die drei das hinzu\, was bisher in den Schulbüchern vergessen wurde. Zusammen mit dem Publikum tauchen sie ein in Geschichten\, die so groß sind\, dass vielleicht doch nur der kleine Zeh unterm Vorhang erscheint. \nTickets und Infos: www.fabrikpotsdam.de
URL:https://pola-magazin.de/veranstaltung/eine-geschichte-der-welt/
LOCATION:fabrik Potsdam\, Schiffbauergasse 10\, Potsdam\, 14467
CATEGORIES:Tanz & Ballett
END:VEVENT
END:VCALENDAR