BEGIN:VCALENDAR
VERSION:2.0
PRODID:-//‍‍‍ POLA I Entdecke das Familienmagazin für Eltern und Kind - ECPv6.15.20//NONSGML v1.0//EN
CALSCALE:GREGORIAN
METHOD:PUBLISH
X-ORIGINAL-URL:https://pola-magazin.de
X-WR-CALDESC:Veranstaltungen für ‍‍‍ POLA I Entdecke das Familienmagazin für Eltern und Kind
REFRESH-INTERVAL;VALUE=DURATION:PT1H
X-Robots-Tag:noindex
X-PUBLISHED-TTL:PT1H
BEGIN:VTIMEZONE
TZID:Europe/Berlin
BEGIN:DAYLIGHT
TZOFFSETFROM:+0100
TZOFFSETTO:+0200
TZNAME:CEST
DTSTART:20240331T010000
END:DAYLIGHT
BEGIN:STANDARD
TZOFFSETFROM:+0200
TZOFFSETTO:+0100
TZNAME:CET
DTSTART:20241027T010000
END:STANDARD
BEGIN:DAYLIGHT
TZOFFSETFROM:+0100
TZOFFSETTO:+0200
TZNAME:CEST
DTSTART:20250330T010000
END:DAYLIGHT
BEGIN:STANDARD
TZOFFSETFROM:+0200
TZOFFSETTO:+0100
TZNAME:CET
DTSTART:20251026T010000
END:STANDARD
BEGIN:DAYLIGHT
TZOFFSETFROM:+0100
TZOFFSETTO:+0200
TZNAME:CEST
DTSTART:20260329T010000
END:DAYLIGHT
BEGIN:STANDARD
TZOFFSETFROM:+0200
TZOFFSETTO:+0100
TZNAME:CET
DTSTART:20261025T010000
END:STANDARD
END:VTIMEZONE
BEGIN:VEVENT
DTSTART;TZID=Europe/Berlin:20251214T130000
DTEND;TZID=Europe/Berlin:20251214T180000
DTSTAMP:20260421T155441
CREATED:20251105T192410Z
LAST-MODIFIED:20251105T192410Z
UID:10005428-1765717200-1765735200@pola-magazin.de
SUMMARY:Weihnachtsmarkt im geheimnisvollen Garten
DESCRIPTION:Wir laden euch herzlich zu unserem Weihnachtsmarkt in gemütlicher Café-Atmosphäre ein. Euch erwartet ein abwechslungsreiches Programm: Weihnachtsspezialitäten\, kreative Bastelangebote sowie ein Marktbereich mit handgemachten Produkten. Eine Gelegenheit\, die Adventszeit in gemütlicher Atmosphäre zu genießen. \nFreut euch auf festliche Leckereien aus unserer Küche\, gemütliches Weihnachtsbasteln für Klein und Groß und einen liebevoll gestalteten Kreativmarkt mit handgemachten Schätzen. \nWerde Teil unseres Weihnachtsmarktes! \nFür unseren Weihnachtsmarkt im Café suchen wir noch kreative Ausstellerinnen und Aussteller!\nWenn du handgemachte Produkte\, kunstvolle Geschenkideen oder weihnachtliche Leckereien anbietest\, freuen wir uns sehr auf dich.\nUnser Kreativmarkt lebt von Vielfalt und liebevoll gestalteten Ständen – ob Deko\, Schmuck\, Textiles\, Köstlichkeiten oder andere kreative Erzeugnisse (gerne mit Weihnachtsbezug). \nHast du Interesse\, Teil unseres Marktes zu werden?\nDann melde dich bei uns – wir freuen uns auf deine Bewerbung und darauf\, gemeinsam eine stimmungsvolle Adventsatmosphäre zu schaffen. \nWenn ihr euch einen Tisch reservieren wollt\, freuen wir uns über eure Nachricht. Ansonsten freuen wir uns auch über euren spontanen Besuch!
URL:https://pola-magazin.de/veranstaltung/weihnachtsmarkt-im-geheimnisvollen-garten/
LOCATION:Der geheimnisvolle Garten\, Seeburger Chaussee 2\, Haus 1\, Groß Glienicke\, 14476
CATEGORIES:Weihnachtsmarkt
END:VEVENT
BEGIN:VEVENT
DTSTART;TZID=Europe/Berlin:20250914T090000
DTEND;TZID=Europe/Berlin:20250914T140000
DTSTAMP:20260421T155441
CREATED:20250227T070144Z
LAST-MODIFIED:20250526T110314Z
UID:10004676-1757840400-1757858400@pola-magazin.de
SUMMARY:Familien-Flohmarkt bei "Der geheimnisvolle Garten" Groß Glienicke
DESCRIPTION:Im neuen Familiencafé und Seminarzentrum in Groß Glienicke gibt es regelmäßig auch Familien-Flohmärkte. Von Kinderkleidung bis Spielzeug\, von Erwachsenenklamotten bis hin zu Haushaltsgegenständen – es ist für alle etwas dabei. Auch für Leseratten und Dekoexperten wird es einiges zu finden geben! Im Café erwartet euch ein Frühstücksangebot\, ein kleiner Mittagstisch oder Snacks sowie natürlich warme und kalte Getränke. \nNächste Termine 2025: \n\n15. Juni\n20. Juli\n14. September\n\nInfo & Anmeldung  (5 € / laufender Meter).
URL:https://pola-magazin.de/veranstaltung/familien-flohmarkt-gross-glienicke/2025-09-14/
LOCATION:Der geheimnisvolle Garten\, Seeburger Chaussee 2\, Haus 1\, Groß Glienicke\, 14476
CATEGORIES:Flohmarkt
END:VEVENT
BEGIN:VEVENT
DTSTART;TZID=Europe/Berlin:20250720T090000
DTEND;TZID=Europe/Berlin:20250720T140000
DTSTAMP:20260421T155441
CREATED:20250227T070144Z
LAST-MODIFIED:20250526T110314Z
UID:10004675-1753002000-1753020000@pola-magazin.de
SUMMARY:Familien-Flohmarkt bei "Der geheimnisvolle Garten" Groß Glienicke
DESCRIPTION:Im neuen Familiencafé und Seminarzentrum in Groß Glienicke gibt es regelmäßig auch Familien-Flohmärkte. Von Kinderkleidung bis Spielzeug\, von Erwachsenenklamotten bis hin zu Haushaltsgegenständen – es ist für alle etwas dabei. Auch für Leseratten und Dekoexperten wird es einiges zu finden geben! Im Café erwartet euch ein Frühstücksangebot\, ein kleiner Mittagstisch oder Snacks sowie natürlich warme und kalte Getränke. \nNächste Termine 2025: \n\n15. Juni\n20. Juli\n14. September\n\nInfo & Anmeldung  (5 € / laufender Meter).
URL:https://pola-magazin.de/veranstaltung/familien-flohmarkt-gross-glienicke/2025-07-20/
LOCATION:Der geheimnisvolle Garten\, Seeburger Chaussee 2\, Haus 1\, Groß Glienicke\, 14476
CATEGORIES:Flohmarkt
END:VEVENT
BEGIN:VEVENT
DTSTART;TZID=Europe/Berlin:20250615T090000
DTEND;TZID=Europe/Berlin:20250615T140000
DTSTAMP:20260421T155441
CREATED:20250227T070144Z
LAST-MODIFIED:20250526T110314Z
UID:10004674-1749978000-1749996000@pola-magazin.de
SUMMARY:Familien-Flohmarkt bei "Der geheimnisvolle Garten" Groß Glienicke
DESCRIPTION:Im neuen Familiencafé und Seminarzentrum in Groß Glienicke gibt es regelmäßig auch Familien-Flohmärkte. Von Kinderkleidung bis Spielzeug\, von Erwachsenenklamotten bis hin zu Haushaltsgegenständen – es ist für alle etwas dabei. Auch für Leseratten und Dekoexperten wird es einiges zu finden geben! Im Café erwartet euch ein Frühstücksangebot\, ein kleiner Mittagstisch oder Snacks sowie natürlich warme und kalte Getränke. \nNächste Termine 2025: \n\n15. Juni\n20. Juli\n14. September\n\nInfo & Anmeldung  (5 € / laufender Meter).
URL:https://pola-magazin.de/veranstaltung/familien-flohmarkt-gross-glienicke/2025-06-15/
LOCATION:Der geheimnisvolle Garten\, Seeburger Chaussee 2\, Haus 1\, Groß Glienicke\, 14476
CATEGORIES:Flohmarkt
END:VEVENT
BEGIN:VEVENT
DTSTART;TZID=Europe/Berlin:20250316T090000
DTEND;TZID=Europe/Berlin:20250316T140000
DTSTAMP:20260421T155441
CREATED:20250227T070144Z
LAST-MODIFIED:20250526T110314Z
UID:10004363-1742115600-1742133600@pola-magazin.de
SUMMARY:Familien-Flohmarkt bei "Der geheimnisvolle Garten" Groß Glienicke
DESCRIPTION:Im neuen Familiencafé und Seminarzentrum in Groß Glienicke gibt es regelmäßig auch Familien-Flohmärkte. Von Kinderkleidung bis Spielzeug\, von Erwachsenenklamotten bis hin zu Haushaltsgegenständen – es ist für alle etwas dabei. Auch für Leseratten und Dekoexperten wird es einiges zu finden geben! Im Café erwartet euch ein Frühstücksangebot\, ein kleiner Mittagstisch oder Snacks sowie natürlich warme und kalte Getränke. \nNächste Termine 2025: \n\n15. Juni\n20. Juli\n14. September\n\nInfo & Anmeldung  (5 € / laufender Meter).
URL:https://pola-magazin.de/veranstaltung/familien-flohmarkt-gross-glienicke/2025-03-16/
LOCATION:Der geheimnisvolle Garten\, Seeburger Chaussee 2\, Haus 1\, Groß Glienicke\, 14476
CATEGORIES:Flohmarkt
END:VEVENT
BEGIN:VEVENT
DTSTART;TZID=Europe/Berlin:20250209T090000
DTEND;TZID=Europe/Berlin:20250209T140000
DTSTAMP:20260421T155441
CREATED:20250227T070144Z
LAST-MODIFIED:20250526T110314Z
UID:10004673-1739091600-1739109600@pola-magazin.de
SUMMARY:Familien-Flohmarkt bei "Der geheimnisvolle Garten" Groß Glienicke
DESCRIPTION:Im neuen Familiencafé und Seminarzentrum in Groß Glienicke gibt es regelmäßig auch Familien-Flohmärkte. Von Kinderkleidung bis Spielzeug\, von Erwachsenenklamotten bis hin zu Haushaltsgegenständen – es ist für alle etwas dabei. Auch für Leseratten und Dekoexperten wird es einiges zu finden geben! Im Café erwartet euch ein Frühstücksangebot\, ein kleiner Mittagstisch oder Snacks sowie natürlich warme und kalte Getränke. \nNächste Termine 2025: \n\n15. Juni\n20. Juli\n14. September\n\nInfo & Anmeldung  (5 € / laufender Meter).
URL:https://pola-magazin.de/veranstaltung/familien-flohmarkt-gross-glienicke/2025-02-09/
LOCATION:Der geheimnisvolle Garten\, Seeburger Chaussee 2\, Haus 1\, Groß Glienicke\, 14476
CATEGORIES:Flohmarkt
END:VEVENT
END:VCALENDAR