BEGIN:VCALENDAR
VERSION:2.0
PRODID:-//‍‍‍ POLA I Entdecke das Familienmagazin für Eltern und Kind - ECPv6.15.20//NONSGML v1.0//EN
CALSCALE:GREGORIAN
METHOD:PUBLISH
X-ORIGINAL-URL:https://pola-magazin.de
X-WR-CALDESC:Veranstaltungen für ‍‍‍ POLA I Entdecke das Familienmagazin für Eltern und Kind
REFRESH-INTERVAL;VALUE=DURATION:PT1H
X-Robots-Tag:noindex
X-PUBLISHED-TTL:PT1H
BEGIN:VTIMEZONE
TZID:Europe/Berlin
BEGIN:DAYLIGHT
TZOFFSETFROM:+0100
TZOFFSETTO:+0200
TZNAME:CEST
DTSTART:20250330T010000
END:DAYLIGHT
BEGIN:STANDARD
TZOFFSETFROM:+0200
TZOFFSETTO:+0100
TZNAME:CET
DTSTART:20251026T010000
END:STANDARD
BEGIN:DAYLIGHT
TZOFFSETFROM:+0100
TZOFFSETTO:+0200
TZNAME:CEST
DTSTART:20260329T010000
END:DAYLIGHT
BEGIN:STANDARD
TZOFFSETFROM:+0200
TZOFFSETTO:+0100
TZNAME:CET
DTSTART:20261025T010000
END:STANDARD
BEGIN:DAYLIGHT
TZOFFSETFROM:+0100
TZOFFSETTO:+0200
TZNAME:CEST
DTSTART:20270328T010000
END:DAYLIGHT
BEGIN:STANDARD
TZOFFSETFROM:+0200
TZOFFSETTO:+0100
TZNAME:CET
DTSTART:20271031T010000
END:STANDARD
END:VTIMEZONE
BEGIN:VEVENT
DTSTART;TZID=Europe/Berlin:20260208T143000
DTEND;TZID=Europe/Berlin:20260208T143000
DTSTAMP:20260424T073359
CREATED:20260113T160211Z
LAST-MODIFIED:20260113T160211Z
UID:10006090-1770561000-1770561000@pola-magazin.de
SUMMARY:Kinderkarneval in der Bismarckhöhe Werder
DESCRIPTION:Seit vielen Jahren zählt der Kinderkarneval in Werder zu den größten Karnevals- und Faschingsveranstaltungen für die Kleinen in der Region. Kinder bieten Kindern ein einstündiges Programm mit Sängern\, Tänzern und vielen Überraschungen. Ein Fest voller Fantasie\, Freundschaft und fröhlicher Erinnerungen – mit Piraten\, Clowns\, Cowboys und den Helden der letzten Jahre! \nDanach wird die Bismarckhöhe zu einem großen Spielplatz. Dabei kann man neben dem Kinderschminken auch bei Spielen mitmachen und tolle Preise gewinnen. Alle sind herzlich willkommen um ein paar ausgelassene Stunden mit uns zu verbringen. \n\nEinlass: ab 13:30 Uhr\nBeginn: ca. 14:30 Uhr\nMotto: “Ein Herz für Kinder – Die kunterbunte Willkommens-Party mit Pippi\, Mickey & Co.”\nEintritt: Kinder 5\,00 EUR\, Erwachsene 8\,00 EUR\nOrt: Bismarckhöhe Werder (Havel)\n\nDie Karten können ausschließlich an der Tageskasse erworben werden.
URL:https://pola-magazin.de/veranstaltung/kinderkarneval-in-der-bismarckhoehe-werder/
LOCATION:Bismarckhöhe Werder (Havel()\, Hoher Weg 150\, Werder (Havel)\, 14542
CATEGORIES:Familienfest
END:VEVENT
END:VCALENDAR