BEGIN:VCALENDAR
VERSION:2.0
PRODID:-//‍‍‍ POLA I Entdecke das Familienmagazin für Eltern und Kind - ECPv6.15.20//NONSGML v1.0//EN
CALSCALE:GREGORIAN
METHOD:PUBLISH
X-WR-CALNAME:‍‍‍ POLA I Entdecke das Familienmagazin für Eltern und Kind
X-ORIGINAL-URL:https://pola-magazin.de
X-WR-CALDESC:Veranstaltungen für ‍‍‍ POLA I Entdecke das Familienmagazin für Eltern und Kind
REFRESH-INTERVAL;VALUE=DURATION:PT1H
X-Robots-Tag:noindex
X-PUBLISHED-TTL:PT1H
BEGIN:VTIMEZONE
TZID:Europe/Berlin
BEGIN:DAYLIGHT
TZOFFSETFROM:+0100
TZOFFSETTO:+0200
TZNAME:CEST
DTSTART:20250330T010000
END:DAYLIGHT
BEGIN:STANDARD
TZOFFSETFROM:+0200
TZOFFSETTO:+0100
TZNAME:CET
DTSTART:20251026T010000
END:STANDARD
BEGIN:DAYLIGHT
TZOFFSETFROM:+0100
TZOFFSETTO:+0200
TZNAME:CEST
DTSTART:20260329T010000
END:DAYLIGHT
BEGIN:STANDARD
TZOFFSETFROM:+0200
TZOFFSETTO:+0100
TZNAME:CET
DTSTART:20261025T010000
END:STANDARD
BEGIN:DAYLIGHT
TZOFFSETFROM:+0100
TZOFFSETTO:+0200
TZNAME:CEST
DTSTART:20270328T010000
END:DAYLIGHT
BEGIN:STANDARD
TZOFFSETFROM:+0200
TZOFFSETTO:+0100
TZNAME:CET
DTSTART:20271031T010000
END:STANDARD
END:VTIMEZONE
BEGIN:VEVENT
DTSTART;TZID=Europe/Berlin:20261111T150000
DTEND;TZID=Europe/Berlin:20261111T190000
DTSTAMP:20260424T163200
CREATED:20220325T160621Z
LAST-MODIFIED:20260113T123618Z
UID:10001813-1794409200-1794423600@pola-magazin.de
SUMMARY:St. Martinsfest
DESCRIPTION:Der festliche Laternenumzug im Volkspark \nFreut euch auf ein stimmungsvolles St. Martinsfest im Volkspark Potsdam! Lauscht bei gemütlichem Kerzenschein der faszinierende Martinsgeschichte\, bastelt farbenfrohe Laternen und genießt gemeinsam die Gemütlichkeit am Lagerfeuer beim Stockbrotbacken – bei uns ist für jeden etwas dabei! \nUm 17 Uhr ist es so weit: St. Martin reitet auf seinem Pferd herbei und führt den im Schein der Laternen leuchtenden Umzug durch das Novemberdunkel des Parks an. Ein zauberhaftes Erlebnis für Groß und Klein! \nUnd wer Lust hat\, kann sich nach dem Umzug noch am Lagerfeuer aufwärmen. \nOrt: Großer Wiesenpark \nEintritt: Parkeintritt
URL:https://pola-magazin.de/veranstaltung/st-martinsfest/
LOCATION:Volkspark Potsdam\, Georg-Hermann-Allee 101\, Potsdam\, 14469
CATEGORIES:Familienfest
ATTACH;FMTTYPE=image/jpeg:https://pola-magazin.de/wp-content/uploads/2018/09/volkspark-st-martin.jpg
ORGANIZER;CN="Volkspark Potsdam":MAILTO:volkspark@ProPotsdam.de
END:VEVENT
END:VCALENDAR