BEGIN:VCALENDAR
VERSION:2.0
PRODID:-//‍‍‍ POLA I Entdecke das Familienmagazin für Eltern und Kind - ECPv6.15.20//NONSGML v1.0//EN
CALSCALE:GREGORIAN
METHOD:PUBLISH
X-ORIGINAL-URL:https://pola-magazin.de
X-WR-CALDESC:Veranstaltungen für ‍‍‍ POLA I Entdecke das Familienmagazin für Eltern und Kind
REFRESH-INTERVAL;VALUE=DURATION:PT1H
X-Robots-Tag:noindex
X-PUBLISHED-TTL:PT1H
BEGIN:VTIMEZONE
TZID:Europe/Berlin
BEGIN:DAYLIGHT
TZOFFSETFROM:+0100
TZOFFSETTO:+0200
TZNAME:CEST
DTSTART:20240331T010000
END:DAYLIGHT
BEGIN:STANDARD
TZOFFSETFROM:+0200
TZOFFSETTO:+0100
TZNAME:CET
DTSTART:20241027T010000
END:STANDARD
BEGIN:DAYLIGHT
TZOFFSETFROM:+0100
TZOFFSETTO:+0200
TZNAME:CEST
DTSTART:20250330T010000
END:DAYLIGHT
BEGIN:STANDARD
TZOFFSETFROM:+0200
TZOFFSETTO:+0100
TZNAME:CET
DTSTART:20251026T010000
END:STANDARD
BEGIN:DAYLIGHT
TZOFFSETFROM:+0100
TZOFFSETTO:+0200
TZNAME:CEST
DTSTART:20260329T010000
END:DAYLIGHT
BEGIN:STANDARD
TZOFFSETFROM:+0200
TZOFFSETTO:+0100
TZNAME:CET
DTSTART:20261025T010000
END:STANDARD
END:VTIMEZONE
BEGIN:VEVENT
DTSTART;TZID=Europe/Berlin:20250915T150000
DTEND;TZID=Europe/Berlin:20250915T170000
DTSTAMP:20260424T182226
CREATED:20250827T131419Z
LAST-MODIFIED:20250827T131419Z
UID:10004998-1757948400-1757955600@pola-magazin.de
SUMMARY:Outdoor Töpfern für Kinder
DESCRIPTION:Lust auf Matschen\, Formen und jede Menge Spaß?  \nBei unserem Outdoor Töpfer-Event können Kinder ihrer Fantasie freien Lauf lassen und mit ihren Händen kleine Kunstwerke erschaffen. Wir arbeiten mit Ton direkt an der frischen Luft – ganz ohne Druck\, dafür mit jeder Menge Freude und Kreativität. \nWas erwartet dein Kind? \n\nEinführung ins Töpfern — spielerisch erklärt\nfreies Gestalten: Becher\, Schalen oder Figuren\nTon\, Werkzeuge\, Schürzen und Handtücher werden gestellt\nZeit zum Matschen\, Ausprobieren und Staunen\n3 Stücke werden gebrannt & glasiert und können nach 4 Wochen am Grünen Wagen abgeholt werden\nEltern sind selbstverständlich willkommene Zuschauer\n\nBei schlechtem Wetter wird die Veranstaltung auf einen zeitnahen Termin verschoben bzw. die Teilnahme erstattet. \nWo: Volkspark Potsdam am Grünen Wagen\nFür wen: Kinder ab 7 Jahren (jünger nur mit erwachsener Begleitung)\nPreis: 45\,00 € zzgl. Parkeintritt \nDer Töpferkurs wird von Happy Time Pottery veranstaltet.\nTickets/Anmeldung unter www.happytimepottery.de  \nBitte mitbringen:\nBitte wählt unempfindliche\, wettergeeignete Kleidung und bringt eigene Getränke und/oder Snacks mit. \nFragen zum Kurs? Schreibt gerne eine E‑Mail an hi@happytimepottery.de
URL:https://pola-magazin.de/veranstaltung/outdoor-toepfern-fuer-kinder/2025-09-15/
LOCATION:Grüner Wagen im Volkspark Potsdam\, Remisenpark\, Potsdam\, 14469
CATEGORIES:Kreatives & Workshops
END:VEVENT
BEGIN:VEVENT
DTSTART;TZID=Europe/Berlin:20250921T103000
DTEND;TZID=Europe/Berlin:20250921T150000
DTSTAMP:20260424T182226
CREATED:20250311T154225Z
LAST-MODIFIED:20250311T154225Z
UID:10004475-1758450600-1758466800@pola-magazin.de
SUMMARY:proWissen-Lauf im Volkspark Potsdam
DESCRIPTION:Laufveranstaltung für Lauffreudige\, Wissensdurstige und die gesamte Familie \nDer Verein proWissen Potsdam lädt gemeinsam mit der Europäischen Sportakademie Land Brandenburg ESAB zum 4. proWissen-Lauf in den Volkspark Potsdam ein und freut sich wieder auf Lauffreudige und Wissensdurstige! \nDer Startschuss für die beiden Hauptläufe (5 und 10 km) fällt im Anschluss an die Eröffnung um 11 Uhr. Auch die kleinen Sportlerinnen und Sportler können sich wieder im Bambini-Lauf über eine Strecke von ca. 800 Metern messen (Start ca. 10:30 Uhr). Für eine Teamwertung werden die Zeiten der jeweils schnellsten 4 Läuferinnen und Läufer einer Organisation\, Schule oder Verein zusammengewertet. \nFür den Gesamtsieger und die Gesamtsiegerin sowie die besten Teams winken Sachpreise. Auch ein buntes Rahmenprogramm für Familien mit Experimenten und Sportangeboten wird angeboten. \nOrt: Start und Ziel sind hinter der Biosphäre
URL:https://pola-magazin.de/veranstaltung/prowissen-lauf-im-volkspark-potsdam/
CATEGORIES:Sport & Spielen
END:VEVENT
BEGIN:VEVENT
DTSTART;TZID=Europe/Berlin:20250927T170000
DTEND;TZID=Europe/Berlin:20250927T210000
DTSTAMP:20260424T182226
CREATED:20250311T154536Z
LAST-MODIFIED:20250311T154536Z
UID:10004476-1758992400-1759006800@pola-magazin.de
SUMMARY:Grüner Abend: Jungs-Abend
DESCRIPTION:Ein Abend ganz im Zeichen von Wildnis\, Survival und Feuer. Wir packen die Schnitzmesser aus\, machen Feuer mal ohne Streichhölzer und stellen unsere eigene Survivalapotheke zusammen. Abgerundet wird der Abend mit Essen überm Lagerfeuer und kühlen Getränken. \nDer Wildnis-Abend am Grünen Wagen für alle Jungs\, Väter\, Onkel und beste Kumpel oder einfach alle\, die Lust auf einen Abend draußen am Feuer haben! \nTreffpunkt: Grüner Wagen/ Remisenpark \nEintritt:\n10.00 € Materialkosten \nAnmeldung:\nAnmeldung erbeten unterinfo@volkspark-potsdam.de
URL:https://pola-magazin.de/veranstaltung/gruener-abend-jungs-abend/
LOCATION:Grüner Wagen im Volkspark Potsdam\, Remisenpark\, Potsdam\, 14469
CATEGORIES:Für Eltern,Jugendliche,Kreatives & Workshops,Natur, Pflanzen & Tiere
ATTACH;FMTTYPE=image/jpeg:https://pola-magazin.de/wp-content/uploads/2019/02/Osterfeuer_Volkspark_Potsdam.jpg
ORGANIZER;CN="Volkspark Potsdam":MAILTO:volkspark@ProPotsdam.de
END:VEVENT
END:VCALENDAR