BEGIN:VCALENDAR
VERSION:2.0
PRODID:-//‍‍‍ POLA I Entdecke das Familienmagazin für Eltern und Kind - ECPv6.15.20//NONSGML v1.0//EN
CALSCALE:GREGORIAN
METHOD:PUBLISH
X-WR-CALNAME:‍‍‍ POLA I Entdecke das Familienmagazin für Eltern und Kind
X-ORIGINAL-URL:https://pola-magazin.de
X-WR-CALDESC:Veranstaltungen für ‍‍‍ POLA I Entdecke das Familienmagazin für Eltern und Kind
REFRESH-INTERVAL;VALUE=DURATION:PT1H
X-Robots-Tag:noindex
X-PUBLISHED-TTL:PT1H
BEGIN:VTIMEZONE
TZID:Europe/Berlin
BEGIN:DAYLIGHT
TZOFFSETFROM:+0100
TZOFFSETTO:+0200
TZNAME:CEST
DTSTART:20250330T010000
END:DAYLIGHT
BEGIN:STANDARD
TZOFFSETFROM:+0200
TZOFFSETTO:+0100
TZNAME:CET
DTSTART:20251026T010000
END:STANDARD
BEGIN:DAYLIGHT
TZOFFSETFROM:+0100
TZOFFSETTO:+0200
TZNAME:CEST
DTSTART:20260329T010000
END:DAYLIGHT
BEGIN:STANDARD
TZOFFSETFROM:+0200
TZOFFSETTO:+0100
TZNAME:CET
DTSTART:20261025T010000
END:STANDARD
BEGIN:DAYLIGHT
TZOFFSETFROM:+0100
TZOFFSETTO:+0200
TZNAME:CEST
DTSTART:20270328T010000
END:DAYLIGHT
BEGIN:STANDARD
TZOFFSETFROM:+0200
TZOFFSETTO:+0100
TZNAME:CET
DTSTART:20271031T010000
END:STANDARD
END:VTIMEZONE
BEGIN:VEVENT
DTSTART;VALUE=DATE:20260719
DTEND;VALUE=DATE:20260720
DTSTAMP:20260424T041030
CREATED:20260416T045312Z
LAST-MODIFIED:20260416T045312Z
UID:10007195-1784419200-1784505599@pola-magazin.de
SUMMARY:Planetarium für die ganze Familie
DESCRIPTION:11:30 Uhr: Lars\, der kleine Eisbär\n14 Uhr: Planetenreise für Kinder\n16 Uhr: Phantom des Universums \nWeitere Informationen und Tickets unter www.urania-planetarium.de
URL:https://pola-magazin.de/veranstaltung/planetarium-fuer-die-ganze-familie-483/
LOCATION:URANIA-Planetarium\, Gutenbergstraße 71-72\, Potsdam\, 14476
CATEGORIES:Wissen & Forschen
END:VEVENT
BEGIN:VEVENT
DTSTART;TZID=Europe/Berlin:20260719T110000
DTEND;TZID=Europe/Berlin:20260719T110000
DTSTAMP:20260424T041030
CREATED:20250312T160928Z
LAST-MODIFIED:20260415T194349Z
UID:10007153-1784458800-1784458800@pola-magazin.de
SUMMARY:Mit Elfe Tana die Pfaueninsel entdecken (Familienführung | ab 6 Jahre)
DESCRIPTION:ab 6 Jahre \nAuf der Berliner Pfaueninsel gibt es nicht nur Pfauen! Hier wohnt auch eine geheimnisvolle Inselelfe mit dem Namen Tana. Tana hilft dabei\, die Geschichte der Insel zu entdecken. An welchen Stellen gab es früher Tiere aus anderen Ländern. Wo befanden sich einst die Lieblingsplätze der Prinzessinnen? Und was haben die Königskinder damals gespielt?
URL:https://pola-magazin.de/veranstaltung/mit-elfe-tana-die-pfaueninsel-entdecken-familienfuehrung/2026-07-19/
LOCATION:Pfaueninsel\, Nikolskoer Weg\, Berlin\, 14109
CATEGORIES:Ausstellung & Museum,Familienführung
END:VEVENT
BEGIN:VEVENT
DTSTART;VALUE=DATE:20260720
DTEND;VALUE=DATE:20260721
DTSTAMP:20260424T041030
CREATED:20260416T045312Z
LAST-MODIFIED:20260416T045312Z
UID:10007196-1784505600-1784591999@pola-magazin.de
SUMMARY:Planetarium für die ganze Familie
DESCRIPTION:14 Uhr: Asteroiden\, Kometen und Sternenstaub\n16 Uhr: Von Merkur bis Neptun – Eine Reise durch das Sonnensystem \nWeitere Informationen und Tickets unter www.urania-planetarium.de
URL:https://pola-magazin.de/veranstaltung/planetarium-fuer-die-ganze-familie-484/
LOCATION:URANIA-Planetarium\, Gutenbergstraße 71-72\, Potsdam\, 14476
CATEGORIES:Wissen & Forschen
END:VEVENT
BEGIN:VEVENT
DTSTART;VALUE=DATE:20260721
DTEND;VALUE=DATE:20260722
DTSTAMP:20260424T041030
CREATED:20260416T045030Z
LAST-MODIFIED:20260416T045030Z
UID:10007197-1784592000-1784678399@pola-magazin.de
SUMMARY:Planetarium für die ganze Familie
DESCRIPTION:11:30 Uhr: Armstrong – Die abenteuerliche Reise einer Maus zum Mond\n14 Uhr: Sternsagen für Kinder\n16 Uhr: Unsere Sonne – Lebendiger Stern \nWeitere Informationen und Tickets unter www.urania-planetarium.de
URL:https://pola-magazin.de/veranstaltung/planetarium-fuer-die-ganze-familie-444/
LOCATION:URANIA-Planetarium\, Gutenbergstraße 71-72\, Potsdam\, 14476
CATEGORIES:Ferienprogramm,Wissen & Forschen
END:VEVENT
BEGIN:VEVENT
DTSTART;TZID=Europe/Berlin:20260721T160000
DTEND;TZID=Europe/Berlin:20260721T163000
DTSTAMP:20260424T041030
CREATED:20240111T115312Z
LAST-MODIFIED:20260113T132625Z
UID:10006082-1784649600-1784651400@pola-magazin.de
SUMMARY:Familienführung: Fischfütterung im Aquarium
DESCRIPTION:Familien erleben die Aquarienfische bei einer Fütterung in Aktion. Welcher Fisch frisst was und warum? Besuchenden wird erklärt\, welche unterschiedlichen Nahrungsvorlieben Fische haben und wie das mit ihrer Anatomie zusammenhängt. Es gibt Großmäuler mit zahlreichen Zähnen sowie zahnlose Staubsauger unter ihnen. Welcher Fisch sich für welche Nahrung in Bewegung setzt\, erfahren die Teilnehmenden vor Ort. \n\nab 5 Jahren geeignet\nFührung ist im Eintritt enthalten
URL:https://pola-magazin.de/veranstaltung/fischfuetterung-im-aquarium-familienfuehrung/2026-07-21/
LOCATION:Naturkundemuseum Potsdam\, Breite Straße 13\, Potsdam\, 14467
CATEGORIES:Ausstellung & Museum,Familienführung,Natur, Pflanzen & Tiere
END:VEVENT
BEGIN:VEVENT
DTSTART;VALUE=DATE:20260722
DTEND;VALUE=DATE:20260723
DTSTAMP:20260424T041030
CREATED:20260416T045031Z
LAST-MODIFIED:20260416T045031Z
UID:10007198-1784678400-1784764799@pola-magazin.de
SUMMARY:Planetarium für die ganze Familie
DESCRIPTION:14 Uhr: Planetenreise für Kinder\n16 Uhr: Geheimnis Dunkle Materie\n18 Uhr: Die größten Sternwarten der Welt: Big Astronomy \nWeitere Informationen und Tickets unter www.urania-planetarium.de
URL:https://pola-magazin.de/veranstaltung/planetarium-fuer-die-ganze-familie-445/
LOCATION:URANIA-Planetarium\, Gutenbergstraße 71-72\, Potsdam\, 14476
CATEGORIES:Ferienprogramm,Wissen & Forschen
END:VEVENT
BEGIN:VEVENT
DTSTART;VALUE=DATE:20260723
DTEND;VALUE=DATE:20260724
DTSTAMP:20260424T041030
CREATED:20260416T045031Z
LAST-MODIFIED:20260416T045031Z
UID:10007199-1784764800-1784851199@pola-magazin.de
SUMMARY:Planetarium für die ganze Familie
DESCRIPTION:11:30 Uhr: Die Olchis – Das große Weltraumabenteuer\n14 Uhr: Das kleine 1×1 der Sterne\n16 Uhr: Eine Reise durch das Universum \nWeitere Informationen und Tickets unter www.urania-planetarium.de
URL:https://pola-magazin.de/veranstaltung/planetarium-fuer-die-ganze-familie-446/
LOCATION:URANIA-Planetarium\, Gutenbergstraße 71-72\, Potsdam\, 14476
CATEGORIES:Ferienprogramm,Wissen & Forschen
END:VEVENT
BEGIN:VEVENT
DTSTART;TZID=Europe/Berlin:20260723T140000
DTEND;TZID=Europe/Berlin:20260723T140000
DTSTAMP:20260424T041030
CREATED:20240905T110216Z
LAST-MODIFIED:20260113T113113Z
UID:10006021-1784815200-1784815200@pola-magazin.de
SUMMARY:Königskinder – Wie das Leben im Schloss wirklich war (Familienführung | 6-10 Jahre)
DESCRIPTION:Bei dieser Führung durch das Schloss Paretz dreht sich alles um das Leben von Prinzen und Prinzessinnen. Durften sie tun\, was sie wollten? Gab es Kitas\, Schulen und Spielplätze? Wie sah ein normaler Tag für sie aus? Welche Kleidung trugen sie? War die eigentlich bequem? \nDie Kinder können sich in der Mode der Zeit verkleiden und bei einer Entdeckungstour viele spannende Geschichten über das Schloss erfahren. Königliche Kostüme liegen für die Kinder bereit. \nTreffpunkt: Schlosskasse \n10 €\, ermäßigt 8 €\nFamilienkarte 23 € (2 Erwachsene\, max. 4 Kinder)\nErmäßigter Eintritt für Inhaber:innen der Jahreskarte Schlösser \nAnmeldung ab 4 Wochen vor dem Termin: 033233.7 36 11 oder schloss-paretz(at)spsg.de
URL:https://pola-magazin.de/veranstaltung/familienfuehrung-koenigskinder-wie-das-leben-im-schloss-wirklich-war-6-10-j/2026-07-23/
LOCATION:Schloss Paretz\, Parkring 1\, Paretz / Ketzin\, 14669
CATEGORIES:Ausstellung & Museum,Ferienprogramm
END:VEVENT
BEGIN:VEVENT
DTSTART;VALUE=DATE:20260724
DTEND;VALUE=DATE:20260725
DTSTAMP:20260424T041030
CREATED:20260416T045032Z
LAST-MODIFIED:20260416T045032Z
UID:10007200-1784851200-1784937599@pola-magazin.de
SUMMARY:Planetarium für die ganze Familie
DESCRIPTION:11:30 Uhr: Der Regenbogenfisch und seine Freunde\n14 Uhr: Planetenreise für Kinder \nWeitere Informationen und Tickets unter www.urania-planetarium.de
URL:https://pola-magazin.de/veranstaltung/planetarium-fuer-die-ganze-familie-447/
LOCATION:URANIA-Planetarium\, Gutenbergstraße 71-72\, Potsdam\, 14476
CATEGORIES:Ferienprogramm,Wissen & Forschen
END:VEVENT
BEGIN:VEVENT
DTSTART;VALUE=DATE:20260725
DTEND;VALUE=DATE:20260726
DTSTAMP:20260424T041030
CREATED:20260416T045032Z
LAST-MODIFIED:20260416T045032Z
UID:10007201-1784937600-1785023999@pola-magazin.de
SUMMARY:Planetarium für die ganze Familie
DESCRIPTION:11:30 Uhr: Lars\, der kleine Eisbär\n14 Uhr: Die Magie der Schwerkraft \nWeitere Informationen und Tickets unter www.urania-planetarium.de
URL:https://pola-magazin.de/veranstaltung/planetarium-fuer-die-ganze-familie-448/
LOCATION:URANIA-Planetarium\, Gutenbergstraße 71-72\, Potsdam\, 14476
CATEGORIES:Ferienprogramm,Wissen & Forschen
END:VEVENT
BEGIN:VEVENT
DTSTART;TZID=Europe/Berlin:20260725T210000
DTEND;TZID=Europe/Berlin:20260725T220000
DTSTAMP:20260424T041030
CREATED:20260113T091204Z
LAST-MODIFIED:20260113T091204Z
UID:10005663-1785013200-1785016800@pola-magazin.de
SUMMARY:Fledermausführung "Abhängen mit Batman"
DESCRIPTION:Treffpunkt: Grüner Wagen im Volkspark
URL:https://pola-magazin.de/veranstaltung/fledermausfuehrung-abhaengen-mit-batman/
LOCATION:Volkspark Potsdam\, Georg-Hermann-Allee 101\, Potsdam\, 14469
CATEGORIES:Natur, Pflanzen & Tiere
END:VEVENT
BEGIN:VEVENT
DTSTART;VALUE=DATE:20260726
DTEND;VALUE=DATE:20260727
DTSTAMP:20260424T041030
CREATED:20260416T045313Z
LAST-MODIFIED:20260416T045313Z
UID:10007202-1785024000-1785110399@pola-magazin.de
SUMMARY:Planetarium für die ganze Familie
DESCRIPTION:11:30 Uhr: Armstrong – Die abenteuerliche Reise einer Maus zum Mond\n14 Uhr: Das kleine 1×1 der Sterne\n16 Uhr: Von Merkur bis Neptun – Eine Reise durch das Sonnensystem \nWeitere Informationen und Tickets unter www.urania-planetarium.de
URL:https://pola-magazin.de/veranstaltung/planetarium-fuer-die-ganze-familie-485/
LOCATION:URANIA-Planetarium\, Gutenbergstraße 71-72\, Potsdam\, 14476
CATEGORIES:Wissen & Forschen
END:VEVENT
BEGIN:VEVENT
DTSTART;TZID=Europe/Berlin:20260726T130000
DTEND;TZID=Europe/Berlin:20260726T130000
DTSTAMP:20260424T041030
CREATED:20260416T042349Z
LAST-MODIFIED:20260416T042548Z
UID:10007162-1785070800-1785070800@pola-magazin.de
SUMMARY:Wer lebte im Schloss Caputh? (Kinderführung | 6-10 Jahre)
DESCRIPTION:Führung für Kinder von 6 bis 10 Jahren \nKurfürstin Dorothea war die zweite Frau Friedrich Wilhelms von Brandenburg. Aus erster Ehe brachte er drei Jungs mit in die Ehe. Dorothea und Friedrich Wilhelm bekamen zusammen noch weitere sieben Kinder. Wie lebte so eine fürstliche Patchworkfamilie damals? \nIm Schloss gibt es viele schöne Dinge\, wie Gemälde\, Möbel und andere wertvolle Kostbarkeiten zu entdecken. Erwachsene und ältere Geschwister können zeitgleich in einer separaten Führung das Schloss erkunden. \n10 €\, ermäßigt 8 €\nFamilienticket 20 € (2 Erw.\, max. 4 Kinder) \nErmäßigter Eintritt für Inhaber:innen der Jahreskarte Schlösser \nAnmeldung ab 4 Wochen vor dem Termin: 033209.7 03 45 oder schloss-caputh(at)spsg.de
URL:https://pola-magazin.de/veranstaltung/kinderfuehrung-wer-lebte-im-schloss-caputh-6-10-j-2/2026-07-26/
LOCATION:Schloss & Park Caputh\, Straße der Einheit 2\, Schwielowsee\, 14548
CATEGORIES:Ausstellung & Museum
END:VEVENT
BEGIN:VEVENT
DTSTART;TZID=Europe/Berlin:20260726T140000
DTEND;TZID=Europe/Berlin:20260726T140000
DTSTAMP:20260424T041030
CREATED:20250312T160928Z
LAST-MODIFIED:20260415T194349Z
UID:10007126-1785074400-1785074400@pola-magazin.de
SUMMARY:Mit Elfe Tana die Pfaueninsel entdecken (Familienführung | ab 6 Jahre)
DESCRIPTION:ab 6 Jahre \nAuf der Berliner Pfaueninsel gibt es nicht nur Pfauen! Hier wohnt auch eine geheimnisvolle Inselelfe mit dem Namen Tana. Tana hilft dabei\, die Geschichte der Insel zu entdecken. An welchen Stellen gab es früher Tiere aus anderen Ländern. Wo befanden sich einst die Lieblingsplätze der Prinzessinnen? Und was haben die Königskinder damals gespielt?
URL:https://pola-magazin.de/veranstaltung/mit-elfe-tana-die-pfaueninsel-entdecken-familienfuehrung/2026-07-26/
LOCATION:Pfaueninsel\, Nikolskoer Weg\, Berlin\, 14109
CATEGORIES:Ausstellung & Museum,Familienführung
END:VEVENT
BEGIN:VEVENT
DTSTART;TZID=Europe/Berlin:20260726T140000
DTEND;TZID=Europe/Berlin:20260726T160000
DTSTAMP:20260424T041030
CREATED:20250902T130145Z
LAST-MODIFIED:20260114T111244Z
UID:10006156-1785074400-1785081600@pola-magazin.de
SUMMARY:MINSKDAY: Drop-In Workshop für Kinder (3-6 Jahre)
DESCRIPTION:Der Eintritt ins MINSK Kunsthaus in Potsdam ist an jedem letzten Sonntag im Monat frei. Von 10 bis 19 Uhr sind alle willkommen\, die Ausstellungen zu besuchen und im Café Hedwig zu verweilen. Zusätzlich finden am MINSKDAY zwei öffentliche Führungen um 14 und 15 Uhr statt\, die für 4 € gebucht werden können. Wir empfehlen\, ein Zeitfenster-Ticket im Voraus zu reservieren und freuen uns auf Ihren Besuch. \nAm MINSKDAY findet von 14 bis 16 Uhr im Foyer unseres Hauses ein Kreativ-Workshop für Kinder ab 3 Jahre statt. Dabei können die Kinder unter Anleitung erfahrener Kunstvermittler:innen basteln\, malen und gestalten. Ob Karten\, Anhänger\, funkelnde Dekorationen oder kleine Geschenke\, jede:r ist eingeladen\, mitzumachen. Dieser Workshop bietet die Möglichkeit\, ohne vorherige Anmeldung oder festgelegte Dauer teilzunehmen. Alle Materialien werden bereitgestellt\, und die Teilnahme ist kostenlos. \nHinweis: Teilnehmer:innen zwischen 3-6 Jahre bitte nur in Begleitung eines Erziehungsberechtigten
URL:https://pola-magazin.de/veranstaltung/minskday-workshop-fuer-kinder-3-6-jahre-2/2026-07-26/
LOCATION:DAS MINSK Kunsthaus in Potsdam\, Max-Planck-Straße 17\, Potsdam\, 14473\, Germany
CATEGORIES:Eintritt frei,Kreatives & Workshops
END:VEVENT
BEGIN:VEVENT
DTSTART;VALUE=DATE:20260728
DTEND;VALUE=DATE:20260729
DTSTAMP:20260424T041030
CREATED:20260416T045314Z
LAST-MODIFIED:20260416T045314Z
UID:10007203-1785196800-1785283199@pola-magazin.de
SUMMARY:Planetarium für die ganze Familie
DESCRIPTION:11:30 Uhr: Die Olchis – Das große Weltraumabenteuer\n14 Uhr: Planetenreise für Kinder\n16 Uhr: Ferne Welten – Fremdes Leben? \nWeitere Informationen und Tickets unter www.urania-planetarium.de
URL:https://pola-magazin.de/veranstaltung/planetarium-fuer-die-ganze-familie-486/
LOCATION:URANIA-Planetarium\, Gutenbergstraße 71-72\, Potsdam\, 14476
CATEGORIES:Wissen & Forschen
END:VEVENT
BEGIN:VEVENT
DTSTART;VALUE=DATE:20260729
DTEND;VALUE=DATE:20260730
DTSTAMP:20260424T041030
CREATED:20260416T045315Z
LAST-MODIFIED:20260416T045315Z
UID:10007204-1785283200-1785369599@pola-magazin.de
SUMMARY:Planetarium für die ganze Familie
DESCRIPTION:14 Uhr: Sternsagen für Kinder\n16 Uhr: Erde – Geburt eines Planeten \nWeitere Informationen und Tickets unter www.urania-planetarium.de
URL:https://pola-magazin.de/veranstaltung/planetarium-fuer-die-ganze-familie-487/
LOCATION:URANIA-Planetarium\, Gutenbergstraße 71-72\, Potsdam\, 14476
CATEGORIES:Wissen & Forschen
END:VEVENT
BEGIN:VEVENT
DTSTART;VALUE=DATE:20260730
DTEND;VALUE=DATE:20260731
DTSTAMP:20260424T041030
CREATED:20260416T045316Z
LAST-MODIFIED:20260416T045316Z
UID:10007205-1785369600-1785455999@pola-magazin.de
SUMMARY:Planetarium für die ganze Familie
DESCRIPTION:11:30 Uhr: Der Regenbogenfisch und seine Freunde\n14 Uhr: Die Magie der Schwerkraft\n16 Uhr: Eine Reise durch das Universum \nWeitere Informationen und Tickets unter www.urania-planetarium.de
URL:https://pola-magazin.de/veranstaltung/planetarium-fuer-die-ganze-familie-488/
LOCATION:URANIA-Planetarium\, Gutenbergstraße 71-72\, Potsdam\, 14476
CATEGORIES:Wissen & Forschen
END:VEVENT
BEGIN:VEVENT
DTSTART;TZID=Europe/Berlin:20260730T140000
DTEND;TZID=Europe/Berlin:20260730T140000
DTSTAMP:20260424T041030
CREATED:20240905T110216Z
LAST-MODIFIED:20260113T113113Z
UID:10006022-1785420000-1785420000@pola-magazin.de
SUMMARY:Königskinder – Wie das Leben im Schloss wirklich war (Familienführung | 6-10 Jahre)
DESCRIPTION:Bei dieser Führung durch das Schloss Paretz dreht sich alles um das Leben von Prinzen und Prinzessinnen. Durften sie tun\, was sie wollten? Gab es Kitas\, Schulen und Spielplätze? Wie sah ein normaler Tag für sie aus? Welche Kleidung trugen sie? War die eigentlich bequem? \nDie Kinder können sich in der Mode der Zeit verkleiden und bei einer Entdeckungstour viele spannende Geschichten über das Schloss erfahren. Königliche Kostüme liegen für die Kinder bereit. \nTreffpunkt: Schlosskasse \n10 €\, ermäßigt 8 €\nFamilienkarte 23 € (2 Erwachsene\, max. 4 Kinder)\nErmäßigter Eintritt für Inhaber:innen der Jahreskarte Schlösser \nAnmeldung ab 4 Wochen vor dem Termin: 033233.7 36 11 oder schloss-paretz(at)spsg.de
URL:https://pola-magazin.de/veranstaltung/familienfuehrung-koenigskinder-wie-das-leben-im-schloss-wirklich-war-6-10-j/2026-07-30/
LOCATION:Schloss Paretz\, Parkring 1\, Paretz / Ketzin\, 14669
CATEGORIES:Ausstellung & Museum,Ferienprogramm
END:VEVENT
BEGIN:VEVENT
DTSTART;VALUE=DATE:20260731
DTEND;VALUE=DATE:20260801
DTSTAMP:20260424T041030
CREATED:20260416T045316Z
LAST-MODIFIED:20260416T045316Z
UID:10007206-1785456000-1785542399@pola-magazin.de
SUMMARY:Planetarium für die ganze Familie
DESCRIPTION:11:30 Uhr: Armstrong – Die abenteuerliche Reise einer Maus zum Mond\n14 Uhr: Planetenreise für Kinder \nWeitere Informationen und Tickets unter www.urania-planetarium.de
URL:https://pola-magazin.de/veranstaltung/planetarium-fuer-die-ganze-familie-489/
LOCATION:URANIA-Planetarium\, Gutenbergstraße 71-72\, Potsdam\, 14476
CATEGORIES:Wissen & Forschen
END:VEVENT
BEGIN:VEVENT
DTSTART;VALUE=DATE:20260801
DTEND;VALUE=DATE:20260802
DTSTAMP:20260424T041030
CREATED:20260416T045033Z
LAST-MODIFIED:20260416T045033Z
UID:10007207-1785542400-1785628799@pola-magazin.de
SUMMARY:Planetarium für die ganze Familie
DESCRIPTION:11:30 Uhr: Lars\, der kleine Eisbär\n14 Uhr: Das kleine 1×1 der Sterne \nWeitere Informationen und Tickets unter www.urania-planetarium.de
URL:https://pola-magazin.de/veranstaltung/planetarium-fuer-die-ganze-familie-449/
LOCATION:URANIA-Planetarium\, Gutenbergstraße 71-72\, Potsdam\, 14476
CATEGORIES:Ferienprogramm,Wissen & Forschen
END:VEVENT
BEGIN:VEVENT
DTSTART;VALUE=DATE:20260802
DTEND;VALUE=DATE:20260803
DTSTAMP:20260424T041030
CREATED:20260416T045033Z
LAST-MODIFIED:20260416T045033Z
UID:10007208-1785628800-1785715199@pola-magazin.de
SUMMARY:Planetarium für die ganze Familie
DESCRIPTION:14 Uhr: Die Olchis – Das große Weltraumabenteuer\n16 Uhr: Von Merkur bis Neptun – Eine Reise durch das Sonnensystem \nWeitere Informationen und Tickets unter www.urania-planetarium.de
URL:https://pola-magazin.de/veranstaltung/planetarium-fuer-die-ganze-familie-450/
LOCATION:URANIA-Planetarium\, Gutenbergstraße 71-72\, Potsdam\, 14476
CATEGORIES:Ferienprogramm,Wissen & Forschen
END:VEVENT
BEGIN:VEVENT
DTSTART;TZID=Europe/Berlin:20260802T110000
DTEND;TZID=Europe/Berlin:20260802T110000
DTSTAMP:20260424T041030
CREATED:20250312T160928Z
LAST-MODIFIED:20260415T194349Z
UID:10007154-1785668400-1785668400@pola-magazin.de
SUMMARY:Mit Elfe Tana die Pfaueninsel entdecken (Familienführung | ab 6 Jahre)
DESCRIPTION:ab 6 Jahre \nAuf der Berliner Pfaueninsel gibt es nicht nur Pfauen! Hier wohnt auch eine geheimnisvolle Inselelfe mit dem Namen Tana. Tana hilft dabei\, die Geschichte der Insel zu entdecken. An welchen Stellen gab es früher Tiere aus anderen Ländern. Wo befanden sich einst die Lieblingsplätze der Prinzessinnen? Und was haben die Königskinder damals gespielt?
URL:https://pola-magazin.de/veranstaltung/mit-elfe-tana-die-pfaueninsel-entdecken-familienfuehrung/2026-08-02/
LOCATION:Pfaueninsel\, Nikolskoer Weg\, Berlin\, 14109
CATEGORIES:Ausstellung & Museum,Familienführung
END:VEVENT
BEGIN:VEVENT
DTSTART;TZID=Europe/Berlin:20260802T110000
DTEND;TZID=Europe/Berlin:20260802T110000
DTSTAMP:20260424T041030
CREATED:20260415T161048Z
LAST-MODIFIED:20260415T161049Z
UID:10006968-1785668400-1785668400@pola-magazin.de
SUMMARY:Familiensonntag (5-8 Jahre)
DESCRIPTION:Am Familiensonntag laden wir Familien ein\, Kunst und Kreativität zu entdecken. Während die Eltern an einer Führung durch die aktuelle Ausstellung teilnehmen\, entdecken die Kinder die Kunst in einem eigenen altersgerechten Rundgang. Anschließend können sie in einem Kreativ-Workshop selbst aktiv werden: Ob malen\, bauen oder gestalten – inspiriert durch die Ausstellung und unter Anleitung erfahrener Kunstvermittler:innen entstehen eigene kleine Werke. \nDer Familiensonntag verbindet entspanntes Kunstvergnügen für Erwachsene mit kreativer Entfaltung für Kinder. Geeignet für Familien mit Kindern zwischen 5 und 8 Jahren. Kosten: für Erwachsene 4\,- €\, zzgl. Eintritt; für Kinder 3\,- € inkl. der Materialien \n→ Tickets
URL:https://pola-magazin.de/veranstaltung/familiensonntag-2/2026-08-02/
LOCATION:DAS MINSK Kunsthaus in Potsdam\, Max-Planck-Straße 17\, Potsdam\, 14473\, Germany
CATEGORIES:Ausstellung & Museum,Kreatives & Workshops
END:VEVENT
BEGIN:VEVENT
DTSTART;TZID=Europe/Berlin:20260802T140000
DTEND;TZID=Europe/Berlin:20260802T140000
DTSTAMP:20260424T041030
CREATED:20240905T110216Z
LAST-MODIFIED:20260113T113113Z
UID:10006023-1785679200-1785679200@pola-magazin.de
SUMMARY:Königskinder – Wie das Leben im Schloss wirklich war (Familienführung | 6-10 Jahre)
DESCRIPTION:Bei dieser Führung durch das Schloss Paretz dreht sich alles um das Leben von Prinzen und Prinzessinnen. Durften sie tun\, was sie wollten? Gab es Kitas\, Schulen und Spielplätze? Wie sah ein normaler Tag für sie aus? Welche Kleidung trugen sie? War die eigentlich bequem? \nDie Kinder können sich in der Mode der Zeit verkleiden und bei einer Entdeckungstour viele spannende Geschichten über das Schloss erfahren. Königliche Kostüme liegen für die Kinder bereit. \nTreffpunkt: Schlosskasse \n10 €\, ermäßigt 8 €\nFamilienkarte 23 € (2 Erwachsene\, max. 4 Kinder)\nErmäßigter Eintritt für Inhaber:innen der Jahreskarte Schlösser \nAnmeldung ab 4 Wochen vor dem Termin: 033233.7 36 11 oder schloss-paretz(at)spsg.de
URL:https://pola-magazin.de/veranstaltung/familienfuehrung-koenigskinder-wie-das-leben-im-schloss-wirklich-war-6-10-j/2026-08-02/
LOCATION:Schloss Paretz\, Parkring 1\, Paretz / Ketzin\, 14669
CATEGORIES:Ausstellung & Museum,Ferienprogramm
END:VEVENT
BEGIN:VEVENT
DTSTART;VALUE=DATE:20260804
DTEND;VALUE=DATE:20260805
DTSTAMP:20260424T041030
CREATED:20260416T045034Z
LAST-MODIFIED:20260416T045034Z
UID:10007209-1785801600-1785887999@pola-magazin.de
SUMMARY:Planetarium für die ganze Familie
DESCRIPTION:11:30 Uhr: Der Regenbogenfisch und seine Freunde\n14 Uhr: Sternsagen für Kinder\n16 Uhr: Eine Reise durch das Universum \nWeitere Informationen und Tickets unter www.urania-planetarium.de
URL:https://pola-magazin.de/veranstaltung/planetarium-fuer-die-ganze-familie-451/
LOCATION:URANIA-Planetarium\, Gutenbergstraße 71-72\, Potsdam\, 14476
CATEGORIES:Ferienprogramm,Wissen & Forschen
END:VEVENT
BEGIN:VEVENT
DTSTART;VALUE=DATE:20260805
DTEND;VALUE=DATE:20260806
DTSTAMP:20260424T041030
CREATED:20260416T045035Z
LAST-MODIFIED:20260416T045035Z
UID:10007210-1785888000-1785974399@pola-magazin.de
SUMMARY:Planetarium für die ganze Familie
DESCRIPTION:14 Uhr: Planetenreise für Kinder\n16 Uhr: Unsere Himmlische Geschichte \nWeitere Informationen und Tickets unter www.urania-planetarium.de
URL:https://pola-magazin.de/veranstaltung/planetarium-fuer-die-ganze-familie-452/
LOCATION:URANIA-Planetarium\, Gutenbergstraße 71-72\, Potsdam\, 14476
CATEGORIES:Ferienprogramm,Wissen & Forschen
END:VEVENT
BEGIN:VEVENT
DTSTART;VALUE=DATE:20260806
DTEND;VALUE=DATE:20260807
DTSTAMP:20260424T041030
CREATED:20260416T045035Z
LAST-MODIFIED:20260416T045035Z
UID:10007211-1785974400-1786060799@pola-magazin.de
SUMMARY:Planetarium für die ganze Familie
DESCRIPTION:11:30 Uhr: Armstrong – Die abenteuerliche Reise einer Maus zum Mond\n14 Uhr: Die Magie der Schwerkraft\n16 Uhr: Von Merkur bis Neptun – Eine Reise durch das Sonnensystem\nWeitere Informationen und Tickets unter www.urania-planetarium.de
URL:https://pola-magazin.de/veranstaltung/planetarium-fuer-die-ganze-familie-453/
LOCATION:URANIA-Planetarium\, Gutenbergstraße 71-72\, Potsdam\, 14476
CATEGORIES:Ferienprogramm,Wissen & Forschen
END:VEVENT
BEGIN:VEVENT
DTSTART;VALUE=DATE:20260807
DTEND;VALUE=DATE:20260808
DTSTAMP:20260424T041030
CREATED:20260416T045036Z
LAST-MODIFIED:20260416T045036Z
UID:10007212-1786060800-1786147199@pola-magazin.de
SUMMARY:Planetarium für die ganze Familie
DESCRIPTION:11:30 Uhr: Die Olchis – Das große Weltraumabenteuer\n14 Uhr: Planetenreise für Kinder \nWeitere Informationen und Tickets unter www.urania-planetarium.de
URL:https://pola-magazin.de/veranstaltung/planetarium-fuer-die-ganze-familie-454/
LOCATION:URANIA-Planetarium\, Gutenbergstraße 71-72\, Potsdam\, 14476
CATEGORIES:Ferienprogramm,Wissen & Forschen
END:VEVENT
BEGIN:VEVENT
DTSTART;VALUE=DATE:20260808
DTEND;VALUE=DATE:20260809
DTSTAMP:20260424T041030
CREATED:20260416T045036Z
LAST-MODIFIED:20260416T045036Z
UID:10007213-1786147200-1786233599@pola-magazin.de
SUMMARY:Planetarium für die ganze Familie
DESCRIPTION:11:30 Uhr: Lars\, der kleine Eisbär \nWeitere Informationen und Tickets unter www.urania-planetarium.de
URL:https://pola-magazin.de/veranstaltung/planetarium-fuer-die-ganze-familie-455/
LOCATION:URANIA-Planetarium\, Gutenbergstraße 71-72\, Potsdam\, 14476
CATEGORIES:Ferienprogramm,Wissen & Forschen
END:VEVENT
END:VCALENDAR