BEGIN:VCALENDAR
VERSION:2.0
PRODID:-//‍‍‍ POLA I Entdecke das Familienmagazin für Eltern und Kind - ECPv6.15.20//NONSGML v1.0//EN
CALSCALE:GREGORIAN
METHOD:PUBLISH
X-WR-CALNAME:‍‍‍ POLA I Entdecke das Familienmagazin für Eltern und Kind
X-ORIGINAL-URL:https://pola-magazin.de
X-WR-CALDESC:Veranstaltungen für ‍‍‍ POLA I Entdecke das Familienmagazin für Eltern und Kind
REFRESH-INTERVAL;VALUE=DURATION:PT1H
X-Robots-Tag:noindex
X-PUBLISHED-TTL:PT1H
BEGIN:VTIMEZONE
TZID:Europe/Berlin
BEGIN:DAYLIGHT
TZOFFSETFROM:+0100
TZOFFSETTO:+0200
TZNAME:CEST
DTSTART:20250330T010000
END:DAYLIGHT
BEGIN:STANDARD
TZOFFSETFROM:+0200
TZOFFSETTO:+0100
TZNAME:CET
DTSTART:20251026T010000
END:STANDARD
BEGIN:DAYLIGHT
TZOFFSETFROM:+0100
TZOFFSETTO:+0200
TZNAME:CEST
DTSTART:20260329T010000
END:DAYLIGHT
BEGIN:STANDARD
TZOFFSETFROM:+0200
TZOFFSETTO:+0100
TZNAME:CET
DTSTART:20261025T010000
END:STANDARD
BEGIN:DAYLIGHT
TZOFFSETFROM:+0100
TZOFFSETTO:+0200
TZNAME:CEST
DTSTART:20270328T010000
END:DAYLIGHT
BEGIN:STANDARD
TZOFFSETFROM:+0200
TZOFFSETTO:+0100
TZNAME:CET
DTSTART:20271031T010000
END:STANDARD
END:VTIMEZONE
BEGIN:VEVENT
DTSTART;VALUE=DATE:20260424
DTEND;VALUE=DATE:20260511
DTSTAMP:20260426T053932
CREATED:20260416T122909Z
LAST-MODIFIED:20260416T123121Z
UID:10007230-1777039200-1778432400@pola-magazin.de
SUMMARY:Start der Ausstellung: Mythen\, Märchen & Legenden
DESCRIPTION:Mit Blitz und Donner zürnen die Götter\, mit List und Tücke siegen die Helden\, der Übermut bringt einen leicht zu Fall und im Labyrinth verliert man schon mal den Überblick. Wie gut\, dass es den Faden der Ariadne gibt\, um alle Irrungen und Wirrungen zu entheddern und Licht ins Dunkle zu bringen. \nMythen\, Märchen und Legenden erzählen von all diesen Phänomenen und versuchen seit jeher\, die Welt zu ordnen und zu erklären. Der Fantasie sind dabei keine Grenzen gesetzt.\nTauchen Sie ein in mystische und märchenhafte Welten\, voll sonderbarer Wesen und unglaublicher Geschichten und lassen Sie sich von den fantasievollen Arbeiten der Schülerinnen und Schüler der Evangelischen Grundschule Potsdam verzaubern. \nMittwochs bis Sonntag von 14 – 17 Uhr
URL:https://pola-magazin.de/veranstaltung/mythen/
LOCATION:Kunsthaus sans titre e.V.\, Französische Str. 18\, Potsdam\, 14467
CATEGORIES:Ausstellung & Museum
END:VEVENT
BEGIN:VEVENT
DTSTART;TZID=Europe/Berlin:20260426T090000
DTEND;TZID=Europe/Berlin:20260426T150000
DTSTAMP:20260426T053932
CREATED:20260421T070111Z
LAST-MODIFIED:20260421T073048Z
UID:10007252-1777194000-1777215600@pola-magazin.de
SUMMARY:Flohmarkt in Glindow
DESCRIPTION:Blütenparty trifft Flohmarkt! 🌸 \nAnlässlich der großen Blütenparty des Glindower Carneval Club erwartet euch in diesem Jahr ein ganz besonderes Highlight:\n👉 Zum ersten Mal findet am Sonntag ein Flohmarkt statt! \nStöbert nach Herzenslust durch ein buntes Angebot:\n👗 Mode für Jung & Alt\n🧸 Spielzeug für kleine Entdecker\n🏠 Praktisches & Schönes für den Haushalt \n✨ Und das absolute Extra:\nEchte Karnevalskostüme von Meistern – einmalige Stücke mit Geschichte und ganz besonderem Charme! \nKommt vorbei\, entdeckt Schätze\, genießt die fröhliche Atmosphäre und macht die Blütenparty zu einem unvergesslichen Erlebnis! 🌷 \n📍 Sonntag – wir freuen uns auf euch! \nOrt: Marktplatz Glindow
URL:https://pola-magazin.de/veranstaltung/flohmarkt-in-glindow/
CATEGORIES:Flohmarkt
END:VEVENT
BEGIN:VEVENT
DTSTART;TZID=Europe/Berlin:20260426T100000
DTEND;TZID=Europe/Berlin:20260426T150000
DTSTAMP:20260426T053932
CREATED:20260417T090532Z
LAST-MODIFIED:20260417T090532Z
UID:10007234-1777197600-1777215600@pola-magazin.de
SUMMARY:Neu Fahrländer Familienflohmarkt
DESCRIPTION:Auf der Birnenplantage\, hinter dem Bürgerhaus
URL:https://pola-magazin.de/veranstaltung/neu-fahrlaender-familienflohmarkt/
CATEGORIES:Flohmarkt
END:VEVENT
BEGIN:VEVENT
DTSTART;TZID=Europe/Berlin:20260426T130000
DTEND;TZID=Europe/Berlin:20260426T170000
DTSTAMP:20260426T053932
CREATED:20250508T074033Z
LAST-MODIFIED:20260303T103931Z
UID:10004660-1777208400-1777222800@pola-magazin.de
SUMMARY:Kiez-Flohmarkt Gewoba Babelsberg eG
DESCRIPTION:So\, 26.4.\, 13-17 Uhr \nPaul-Neumann-Straße 34a
URL:https://pola-magazin.de/veranstaltung/kiez-flohmarkt-gewoba-babelsberg-eg/
CATEGORIES:Flohmarkt
END:VEVENT
BEGIN:VEVENT
DTSTART;TZID=Europe/Berlin:20260426T130000
DTEND;TZID=Europe/Berlin:20260426T170000
DTSTAMP:20260426T053932
CREATED:20250902T160243Z
LAST-MODIFIED:20260415T162521Z
UID:10005684-1777208400-1777222800@pola-magazin.de
SUMMARY:Sonntags in die Bibliothek! Mit Familienangebot
DESCRIPTION:Jeweils von 13-17 Uhr mit Kulturangebot um 14 und 15:30 Uhr. → zum aktuellen Programm \nIn Kooperation mit #KulturMachtPotsdam \nEintritt frei!
URL:https://pola-magazin.de/veranstaltung/sonntags-in-die-bibliothek-mit-familienangebot/2026-04-26/
LOCATION:Stadt- und Landesbibliothek\, Am Kanal 47\, Potsdam\, 14467
CATEGORIES:Eintritt frei,Kreatives & Workshops,Märchen & Geschichten
END:VEVENT
BEGIN:VEVENT
DTSTART;TZID=Europe/Berlin:20260426T130000
DTEND;TZID=Europe/Berlin:20260426T170000
DTSTAMP:20260426T053932
CREATED:20260324T135752Z
LAST-MODIFIED:20260324T135752Z
UID:10006331-1777208400-1777222800@pola-magazin.de
SUMMARY:Nachbarschaftsflohmarkt auf dem Weberplatz
DESCRIPTION:Nachbarschaftsflohmarkt auf dem Weberplatz\nStandanmeldung: Weberplatz.Flohmarkt@gmx.de
URL:https://pola-magazin.de/veranstaltung/nachbarschaftsflohmarkt-auf-dem-weberplatz/
LOCATION:Weberplatz Potsdam Babelsberg\, Potsdam\, 14482
CATEGORIES:Flohmarkt
END:VEVENT
BEGIN:VEVENT
DTSTART;TZID=Europe/Berlin:20260426T140000
DTEND;TZID=Europe/Berlin:20260426T160000
DTSTAMP:20260426T053932
CREATED:20250902T130145Z
LAST-MODIFIED:20260114T111244Z
UID:10006153-1777212000-1777219200@pola-magazin.de
SUMMARY:MINSKDAY: Drop-In Workshop für Kinder (3-6 Jahre)
DESCRIPTION:Der Eintritt ins MINSK Kunsthaus in Potsdam ist an jedem letzten Sonntag im Monat frei. Von 10 bis 19 Uhr sind alle willkommen\, die Ausstellungen zu besuchen und im Café Hedwig zu verweilen. Zusätzlich finden am MINSKDAY zwei öffentliche Führungen um 14 und 15 Uhr statt\, die für 4 € gebucht werden können. Wir empfehlen\, ein Zeitfenster-Ticket im Voraus zu reservieren und freuen uns auf Ihren Besuch. \nAm MINSKDAY findet von 14 bis 16 Uhr im Foyer unseres Hauses ein Kreativ-Workshop für Kinder ab 3 Jahre statt. Dabei können die Kinder unter Anleitung erfahrener Kunstvermittler:innen basteln\, malen und gestalten. Ob Karten\, Anhänger\, funkelnde Dekorationen oder kleine Geschenke\, jede:r ist eingeladen\, mitzumachen. Dieser Workshop bietet die Möglichkeit\, ohne vorherige Anmeldung oder festgelegte Dauer teilzunehmen. Alle Materialien werden bereitgestellt\, und die Teilnahme ist kostenlos. \nHinweis: Teilnehmer:innen zwischen 3-6 Jahre bitte nur in Begleitung eines Erziehungsberechtigten
URL:https://pola-magazin.de/veranstaltung/minskday-workshop-fuer-kinder-3-6-jahre-2/2026-04-26/
LOCATION:DAS MINSK Kunsthaus in Potsdam\, Max-Planck-Straße 17\, Potsdam\, 14473\, Germany
CATEGORIES:Eintritt frei,Kreatives & Workshops
END:VEVENT
BEGIN:VEVENT
DTSTART;TZID=Europe/Berlin:20260426T140000
DTEND;TZID=Europe/Berlin:20260426T170000
DTSTAMP:20260426T053932
CREATED:20260324T135741Z
LAST-MODIFIED:20260324T135741Z
UID:10006330-1777212000-1777222800@pola-magazin.de
SUMMARY:Familienflohmarkt auf der Platte
DESCRIPTION:Familienflohmarkt in Potsdam West \nDer Kinderclub Einsteinkids lädt euch herzlich zu unserem Familienflohmarkt ein! \nAm 26. April 2026\, von 14:00 – 17:00 Uhr\n📍 Auf der Platte\, Potsdam West \nKommt vorbei\, stöbert nach Schätzen oder verkauft eure eigenen Sachen in entspannter Atmosphäre. \nStandmöglichkeiten:\n• Überdachter Marktstand: 8 €\n• Eigener Tisch: 3 € pro Meter\n• Kinder können ihre Sachen kostenlos auf einer Decke anbieten \nAnmeldungen unter: einsteinkids@ejf.de \nWir freuen uns auf einen bunten\, fröhlichen Nachmittag mit euch!
URL:https://pola-magazin.de/veranstaltung/familienflohmarkt-auf-der-platte/
LOCATION:Platte Potsdam West\, Haeckelstraße / Ecke Knobelsdorffstraße\, Potsdam\, 14471
CATEGORIES:Flohmarkt
ORGANIZER;CN="Kinderclub Einsteinkids EJF":MAILTO:einsteinkids@ejf.de
END:VEVENT
BEGIN:VEVENT
DTSTART;TZID=Europe/Berlin:20260426T140000
DTEND;TZID=Europe/Berlin:20260426T170000
DTSTAMP:20260426T053932
CREATED:20260423T121302Z
LAST-MODIFIED:20260423T121302Z
UID:10007272-1777212000-1777222800@pola-magazin.de
SUMMARY:Garagenflohmarkt Wannsee
DESCRIPTION:Die Flohmarkt Saison ist eröffnet\, im Arnold-Knoblauch-Ring in Wannsee wird ein Garagenflohmarkt stattfinden. Die Nachbarn holen ihre Kostbarsten Schätze raus und freuen sich über viele Besucher\, aber auch weitere interessierte aus der Umgebung. Luftballons werden euch den Weg weisen. \nHabt ihr auch zu viel Zeugs im Keller oder in der Garage? Dann schreibt eine SMS oder Whats App an Philipp (01772161265). \nHabt ihr noch nicht genug oder sucht das perfekte Schnäppchen? Dann tragt es euch in den Kalender ein und kommt vorbei!
URL:https://pola-magazin.de/veranstaltung/garagenflohmarkt-wannsee/
CATEGORIES:Flohmarkt
END:VEVENT
BEGIN:VEVENT
DTSTART;TZID=Europe/Berlin:20260426T150000
DTEND;TZID=Europe/Berlin:20260426T160000
DTSTAMP:20260426T053932
CREATED:20260414T081853Z
LAST-MODIFIED:20260414T081853Z
UID:10006829-1777215600-1777219200@pola-magazin.de
SUMMARY:DIE GROSSE ENTWUNDERUNG DES WILBUR WHITTAKER
DESCRIPTION:Das Wunder\, sich wundern\, wundersam\, Wunderung! Als Kind war Wilbur Whittaker ein Meister der Fantasie und keine Galaxie zu entfernt für seine wundersamen Ideen. Er musste nur in die Sterne schauen\, und schon konnte er den Nachthimmel zu einer großen Karte verbinden. Er erfand gleich noch einen Raketenrucksack mit vier Geschwindigkeitsstufen dazu\, um den Weltraum zu bereisen und herauszufinden\, ob Wurmlöcher denn wirklich existieren. All diese Wunderungen verstaute er in einem Karton unter seinem Bett. Doch je älter Wilbur wurde\, desto weniger wunderte er sich und desto mehr geriet der Karton in Vergessenheit. Heute arbeitet Wilbur in einem Büro am Flughafen und stempelt. Tagein\, tagaus. Eines nachts steht plötzlich Barney vom Büro für Wunderungen in seinem Schlafzimmer und nimmt den Karton mit – zum Recycling. Obwohl Wilbur ihn jahrelang nicht mehr geöffnet hat\, ist ihm ganz unwohl dabei. Seine Entwunderung beginnt. Da taucht Prinzessin Fantastic auf und erklärt ihm\, dass mit dem Karton auch sein Stern am Nachthimmel erlöschen wird und von den Wunderungen das Gleichgewicht des gesamten Universums abhängt. Die beiden begeben sich auf eine intergalaktische Reise auf der Suche nach der Recyclingmaschine\, um sich und die ganze Welt vor der Großen Entwunderung zu retten.
URL:https://pola-magazin.de/veranstaltung/die-grosse-entwunderung-des-wilbur-whittaker-2/
LOCATION:Hans Otto Theater\, Schiffbauergasse 16\, Potsdam\, 14467
CATEGORIES:Theater
END:VEVENT
BEGIN:VEVENT
DTSTART;TZID=Europe/Berlin:20260426T150000
DTEND;TZID=Europe/Berlin:20260426T180000
DTSTAMP:20260426T053932
CREATED:20250226T135652Z
LAST-MODIFIED:20260219T095646Z
UID:10006218-1777215600-1777226400@pola-magazin.de
SUMMARY:Flohmarkt im Planetengarten
DESCRIPTION:Im schönen Planetengarten vor dem Treffpunkt Freizeit darf auch in diesem Jahr wieder getrödelt werden! \nTermine 2026: \n\n26. April\n14. Juni\n27. September\n\nJeweils 15-18 Uhr. Stärken könnt ihr euch im Café Midi\, spielen und spazieren könnt ihr hinter dem Haus. → siehe Beitrag “Ein Nachmittag im Neuen Garten” \nFür einen Stand anmelden könnt ihr euch über die Webseite vom Treffpunkt Freizeit\, wo ihr zu den angegebenen Zeiten unter „Aktuelles und Tipps“ zum entsprechenden Anmeldeformular gelangt. Preis je Stand (Biertischgarnitur): Kinder 5 €\, Erwachsene 12 € \nTipp: Folgt unserem Instagram-Kanal @flohmarkt.potsdam für aktuelle Termine mit Erinnerungsfunktion!
URL:https://pola-magazin.de/veranstaltung/flohmarkt-im-planetengarten/2026-04-26/
LOCATION:Treffpunkt Freizeit\, Am Neuen Garten 64\, Potsdam\, 14469
CATEGORIES:Eintritt frei,Flohmarkt
END:VEVENT
END:VCALENDAR