BEGIN:VCALENDAR
VERSION:2.0
PRODID:-//‍‍‍ POLA I Entdecke das Familienmagazin für Eltern und Kind - ECPv6.15.20//NONSGML v1.0//EN
CALSCALE:GREGORIAN
METHOD:PUBLISH
X-WR-CALNAME:‍‍‍ POLA I Entdecke das Familienmagazin für Eltern und Kind
X-ORIGINAL-URL:https://pola-magazin.de
X-WR-CALDESC:Veranstaltungen für ‍‍‍ POLA I Entdecke das Familienmagazin für Eltern und Kind
REFRESH-INTERVAL;VALUE=DURATION:PT1H
X-Robots-Tag:noindex
X-PUBLISHED-TTL:PT1H
BEGIN:VTIMEZONE
TZID:Europe/Berlin
BEGIN:DAYLIGHT
TZOFFSETFROM:+0100
TZOFFSETTO:+0200
TZNAME:CEST
DTSTART:20250330T010000
END:DAYLIGHT
BEGIN:STANDARD
TZOFFSETFROM:+0200
TZOFFSETTO:+0100
TZNAME:CET
DTSTART:20251026T010000
END:STANDARD
BEGIN:DAYLIGHT
TZOFFSETFROM:+0100
TZOFFSETTO:+0200
TZNAME:CEST
DTSTART:20260329T010000
END:DAYLIGHT
BEGIN:STANDARD
TZOFFSETFROM:+0200
TZOFFSETTO:+0100
TZNAME:CET
DTSTART:20261025T010000
END:STANDARD
BEGIN:DAYLIGHT
TZOFFSETFROM:+0100
TZOFFSETTO:+0200
TZNAME:CEST
DTSTART:20270328T010000
END:DAYLIGHT
BEGIN:STANDARD
TZOFFSETFROM:+0200
TZOFFSETTO:+0100
TZNAME:CET
DTSTART:20271031T010000
END:STANDARD
END:VTIMEZONE
BEGIN:VEVENT
DTSTART;TZID=Europe/Berlin:20260424T130000
DTEND;TZID=Europe/Berlin:20260424T180000
DTSTAMP:20260424T150230
CREATED:20260421T144354Z
LAST-MODIFIED:20260421T144354Z
UID:10007256-1777035600-1777053600@pola-magazin.de
SUMMARY:Pop Up Flohmarkt
DESCRIPTION:Komm vorbei zu unserem Pop Up Flohmarkt und erlebe entspanntes Stöbern in gemütlicher Atmosphäre. Neben Kinderkleidung\, Spielzeug\, Damenkleidung und liebevoll ausgewählter Dekoration geht es auch um Begegnung\, Austausch und Networking. Ein Ort zum Entdecken\, Kennenlernen und Verweilen. \nWO? DAS BÜRO\, Charlottenstraße 117\,14467 Potsdam
URL:https://pola-magazin.de/veranstaltung/pop-up-flohmarkt/2026-04-24/
CATEGORIES:Flohmarkt
END:VEVENT
BEGIN:VEVENT
DTSTART;VALUE=DATE:20260424
DTEND;VALUE=DATE:20260511
DTSTAMP:20260424T150230
CREATED:20260416T122909Z
LAST-MODIFIED:20260416T123121Z
UID:10007230-1777039200-1778432400@pola-magazin.de
SUMMARY:Start der Ausstellung: Mythen\, Märchen & Legenden
DESCRIPTION:Mit Blitz und Donner zürnen die Götter\, mit List und Tücke siegen die Helden\, der Übermut bringt einen leicht zu Fall und im Labyrinth verliert man schon mal den Überblick. Wie gut\, dass es den Faden der Ariadne gibt\, um alle Irrungen und Wirrungen zu entheddern und Licht ins Dunkle zu bringen. \nMythen\, Märchen und Legenden erzählen von all diesen Phänomenen und versuchen seit jeher\, die Welt zu ordnen und zu erklären. Der Fantasie sind dabei keine Grenzen gesetzt.\nTauchen Sie ein in mystische und märchenhafte Welten\, voll sonderbarer Wesen und unglaublicher Geschichten und lassen Sie sich von den fantasievollen Arbeiten der Schülerinnen und Schüler der Evangelischen Grundschule Potsdam verzaubern. \nMittwochs bis Sonntag von 14 – 17 Uhr
URL:https://pola-magazin.de/veranstaltung/mythen/
LOCATION:Kunsthaus sans titre e.V.\, Französische Str. 18\, Potsdam\, 14467
CATEGORIES:Ausstellung & Museum
END:VEVENT
BEGIN:VEVENT
DTSTART;TZID=Europe/Berlin:20260424T150000
DTEND;TZID=Europe/Berlin:20260424T150000
DTSTAMP:20260424T150230
CREATED:20260112T161713Z
LAST-MODIFIED:20260112T161713Z
UID:10005651-1777042800-1777042800@pola-magazin.de
SUMMARY:Die große Entwunderung des Wilbur Whittaker
DESCRIPTION:Als Kind war Wilbur Whittaker ein Meister im Wundern und keine Galaxie zu entfernt für seine wilden Ideen. Heute ist Wilbur vierzig Jahre alt und hält den Rekord im Schnell-Abstempeln von Reisepässen. Die Wunderungen seiner Kindheit liegen verschlossen in einer Kiste. Bis eines nachts sogenannte „Beamte“ die Kiste einfach mitnehmen – zum Recycling. Ungläubig beobachtet Wilbur\, wie er langsam beginnt sich aufzulösen. Da taucht Prinzessin Fantastic auf und er – klärt ihm\, dass vom Erhalt der Box nicht nur er selbst abhängt\, sondern auch die Ordnung des gesamten Universums. Und so beginnt für die beiden ein intergalaktisches Abenteuer epischen Ausmaßes\, um sich und die ganze Welt vor der Großen Entwunderung zu retten. Der australische Autor und Theatermacher Dan Giovannoni erzählt eine fulminante Geschichte über die Magie von Träumen und Vorstellungskraft. \nREGIE Krystyn Tuschhoff BÜHNE & KOSTÜME Marcel Franken MUSIK Jan Wilhelm Beyer DRAMATURGIE Jan Pfannenstiel THEATERPÄDAGOGIK Michael Böhnisch \nEMPFOHLENES ALTER 6+ / PREMIERE 24-APR-2026 / REITHALLE
URL:https://pola-magazin.de/veranstaltung/die-grosse-entwunderung-des-wilbur-whittaker/
LOCATION:Hans Otto Theater – Reithalle\, Schiffbauergasse 16\, Potsdam\, 14467
CATEGORIES:Theater
END:VEVENT
BEGIN:VEVENT
DTSTART;TZID=Europe/Berlin:20260424T190000
DTEND;TZID=Europe/Berlin:20260424T200000
DTSTAMP:20260424T150230
CREATED:20260112T155511Z
LAST-MODIFIED:20260112T155511Z
UID:10005643-1777057200-1777060800@pola-magazin.de
SUMMARY:Main Character: Lost (10+)
DESCRIPTION:Explore dance | Tanz für Junges Publikum \nMain Character: Lost beschäftigt sich mit den Erwartungen\, Unsicherheiten und dem Wunsch nach Selbstbestimmung von jungen Menschen. Jugendliche stehen heute unter enormem Druck – von Eltern\, Schule\, sozialen Medien und der Gesellschaft. Kein Wunder\, dass man sich da manchmal einfach… lost fühlt. \nGemeinsam mit drei Tänzer*innen aus Breaking\, Hip-Hop und zeitgenössischem Tanz verwandelt die Kompanie Miller de Nobili dieses innere Chaos in Bewegung: Stress und Stille\, Wut und Hoffnung\, das Gefühl\, allein zu sein oder völlig missverstanden. Wie findet man seinen eigenen Weg in einer Zeit\, die sich ständig verändert? Tanz\, Text und Sound verschmelzen miteinander und werfen Fragen zum Erwachsenwerden in unserer heutigen Zeit auf. Direkt\, ehrlich\, dringlich. \nPop Up in Schulen: Do 23. Apr
URL:https://pola-magazin.de/veranstaltung/main-character-lost-10/
LOCATION:fabrik Potsdam\, Schiffbauergasse 10\, Potsdam\, 14467
CATEGORIES:Tanz & Ballett
END:VEVENT
END:VCALENDAR