BEGIN:VCALENDAR
VERSION:2.0
PRODID:-//‍‍‍ POLA I Entdecke das Familienmagazin für Eltern und Kind - ECPv6.15.20//NONSGML v1.0//EN
CALSCALE:GREGORIAN
METHOD:PUBLISH
X-WR-CALNAME:‍‍‍ POLA I Entdecke das Familienmagazin für Eltern und Kind
X-ORIGINAL-URL:https://pola-magazin.de
X-WR-CALDESC:Veranstaltungen für ‍‍‍ POLA I Entdecke das Familienmagazin für Eltern und Kind
REFRESH-INTERVAL;VALUE=DURATION:PT1H
X-Robots-Tag:noindex
X-PUBLISHED-TTL:PT1H
BEGIN:VTIMEZONE
TZID:Europe/Berlin
BEGIN:DAYLIGHT
TZOFFSETFROM:+0100
TZOFFSETTO:+0200
TZNAME:CEST
DTSTART:20250330T010000
END:DAYLIGHT
BEGIN:STANDARD
TZOFFSETFROM:+0200
TZOFFSETTO:+0100
TZNAME:CET
DTSTART:20251026T010000
END:STANDARD
BEGIN:DAYLIGHT
TZOFFSETFROM:+0100
TZOFFSETTO:+0200
TZNAME:CEST
DTSTART:20260329T010000
END:DAYLIGHT
BEGIN:STANDARD
TZOFFSETFROM:+0200
TZOFFSETTO:+0100
TZNAME:CET
DTSTART:20261025T010000
END:STANDARD
BEGIN:DAYLIGHT
TZOFFSETFROM:+0100
TZOFFSETTO:+0200
TZNAME:CEST
DTSTART:20270328T010000
END:DAYLIGHT
BEGIN:STANDARD
TZOFFSETFROM:+0200
TZOFFSETTO:+0100
TZNAME:CET
DTSTART:20271031T010000
END:STANDARD
END:VTIMEZONE
BEGIN:VEVENT
DTSTART;VALUE=DATE:20260418
DTEND;VALUE=DATE:20260419
DTSTAMP:20260422T121558
CREATED:20260113T104446Z
LAST-MODIFIED:20260113T104446Z
UID:10005963-1776470400-1776556799@pola-magazin.de
SUMMARY:Planetarium für die ganze Familie
DESCRIPTION:11:30 Uhr: Das 1×1 der Sterne\n14 Uhr: Von Merkur bis Neptun\nWeitere Informationen und Tickets unter www.urania-planetarium.de
URL:https://pola-magazin.de/veranstaltung/planetarium-fuer-die-ganze-familie-426/
LOCATION:URANIA-Planetarium\, Gutenbergstraße 71-72\, Potsdam\, 14476
CATEGORIES:Wissen & Forschen
END:VEVENT
BEGIN:VEVENT
DTSTART;TZID=Europe/Berlin:20260418T090000
DTEND;TZID=Europe/Berlin:20260418T130000
DTSTAMP:20260422T121558
CREATED:20260415T184606Z
LAST-MODIFIED:20260415T184606Z
UID:10007096-1776502800-1776517200@pola-magazin.de
SUMMARY:Kinderflohmarkt im Mehrgenerationenhaus Nuthetal
DESCRIPTION:Kinderflohmarkt im Mehrgenerationenhaus Nuthetal \nSchlüterstraße 46\, 14558 Nuthetal
URL:https://pola-magazin.de/veranstaltung/kinderflohmarkt-im-mehrgenerationenhaus-nuthetal/
CATEGORIES:Flohmarkt
END:VEVENT
BEGIN:VEVENT
DTSTART;TZID=Europe/Berlin:20260418T100000
DTEND;TZID=Europe/Berlin:20260418T200000
DTSTAMP:20260422T121558
CREATED:20230327T123223Z
LAST-MODIFIED:20260306T143514Z
UID:10006304-1776506400-1776542400@pola-magazin.de
SUMMARY:Potsdamer Tulpenfest
DESCRIPTION:Das in der größten holländischen Wohnanlage außerhalb der Niederlande u. a. mit vielen Musikern\, Tänzern\, Handwerkern und Händlern organisierte stimmungsvolle Tulpenfest ist einzigartig in Deutschland. \nIm Holländischen Viertel \nEintritt 7 Euro\, Kinder bis 16 Jahre frei
URL:https://pola-magazin.de/veranstaltung/potsdamer-tulpenfest/2026-04-18/
LOCATION:Holländisches Viertel Potsdam\, Potsdam
CATEGORIES:Familienfest
END:VEVENT
BEGIN:VEVENT
DTSTART;TZID=Europe/Berlin:20260418T103000
DTEND;TZID=Europe/Berlin:20260418T123000
DTSTAMP:20260422T121558
CREATED:20240111T113409Z
LAST-MODIFIED:20260113T151909Z
UID:10006053-1776508200-1776515400@pola-magazin.de
SUMMARY:Fantastische Tierwesen und wo sie zu zeichnen sind: Kunstkurs im Museum (8-14 J.)
DESCRIPTION:Fantastische Tierwesen und wo sie zu zeichnen sind \nHier kommen junge Museumsgäste den Tieren künstlerisch ganz nah. Auch scheue Exemplare halten still\, bis das Werk vollendet ist. Der Fantasie sind keine Grenzen gesetzt und vielleicht werden nebenbei ganz neue Arten erfunden! Den spannenden Streifzug mit Papier\, Pinsel und Stift begleitet die Kursleiterin Katrin Neubert aus Potsdam. Skizzenheft und Lieblingsstifte dürfen gern mitgebracht werden. \n\neinzelne Terminbuchung\njeweils Samstag einmal im Monat (außer in den Ferien)\nfür Kinder von 8 bis 14 Jahren geeignet\nKosten: 10 Euro (8 Euro zzgl. 2 Euro Museumseintritt pro Kind)\ninklusive Material\, Skizzenheft und Lieblingsstifte dürfen gerne mitgebracht werden\nAnmeldung im Museumsservice: Telefonisch unter der Nummer: 0331 289-6707 oder per E-Mail: naturkundemuseum@rathaus.potsdam.de\n\nNächste Termine und Themen: \n\n17. Januar | Winterfell zeichnen – wuschelig warm\n21. Februar | Höhlenmalerei – Tiere der Steinzeit\n14. März | Von Bären und Bienen – Druckwerkstatt\n18. April | Kunstvolle Nester – bebrütet\, behütet\, ausgeflogen\n9. Mai | Schillernde Schuppen – Fische als Frottage\n13. Juni | Aborigine Art – Tiere in Australien\n 4. Juli 2026 | Fantastische Tiere auf Wappen und Flaggen\n22. August | Sommer\, Sonne\, Strand – Muschelkunst\n\nweitere Termine: 19. September\, 10. Oktober\, 14. November und 12. Dezember
URL:https://pola-magazin.de/veranstaltung/fantastische-tierwesen-und-wo-sie-zu-zeichnen-sind-kunstkurs-im-museum/2026-04-18/
LOCATION:Naturkundemuseum Potsdam\, Breite Straße 13\, Potsdam\, 14467
CATEGORIES:Ausstellung & Museum,Kreatives & Workshops
END:VEVENT
BEGIN:VEVENT
DTSTART;TZID=Europe/Berlin:20260418T140000
DTEND;TZID=Europe/Berlin:20260418T160000
DTSTAMP:20260422T121558
CREATED:20260410T072709Z
LAST-MODIFIED:20260410T072709Z
UID:10006371-1776520800-1776528000@pola-magazin.de
SUMMARY:Räder-Rummel: Zweiräder aus zweiter Hand
DESCRIPTION:Mit dem Frühling beginnt die Fahrradsaison! Du brauchst noch ein neues gebrauchtes Fahrrad\, Fahrradtaschen\, ein Skateboard oder Zubehör? Dann wirst du auf dem Räder-Rummel sicherlich fündig. Kaffee und Kuchen gibt es natürlich auch. Komm vorbei\, wir freuen uns auf dich! \nUnd wenn du selbst noch funktionsfähige Fahrräder\, Inliner\, Roller\, Einräder\, Dreiräder\, Bobby Cars\, Fahrradtaschen\, Kindersitze\, Helme oder Anhänger im Keller hast\, die sonst nur verstauben würden\, melde dich bei uns als Verkäufer:in! Anders als beim klassischen Flohmarkt\, musst du nicht in der Verkaufszeit vor Ort sein\, sondern gibst deine Artikel vormittags einfach ab und bekommst die unverkauften Artikel samt Einnahmen nachmittags wieder zurück. \nMehr Infos und Anmeldung unter: https://shorturl.at/MYSA5\nCasino an der Fachhochschule Potsdam\, Kiepenheuerallee 5\, 14469 Potsdam
URL:https://pola-magazin.de/veranstaltung/raeder-rummel-zweiraeder-aus-zweiter-hand/
LOCATION:Casino an der Fachhochschule Potsdam\, Kiepenheuerallee 5\, Potsdam\, 14469
CATEGORIES:Flohmarkt
END:VEVENT
BEGIN:VEVENT
DTSTART;TZID=Europe/Berlin:20260418T140000
DTEND;TZID=Europe/Berlin:20260418T170000
DTSTAMP:20260422T121558
CREATED:20260414T082004Z
LAST-MODIFIED:20260414T082004Z
UID:10006839-1776520800-1776531600@pola-magazin.de
SUMMARY:Hof-Flohmarkt Bornstedt
DESCRIPTION:Wir veranstalten einen Flohmarkt im Hof\, wo wir an ein paar Ständen Kleidung\, Spielwaren\, Bücher\, Deko verkaufen. Außerdem gibt es frischen Kaffee und heiße Waffeln.\nOrt: Potsdamer Straße 199\, 14469 Potsdam-Bornstedt
URL:https://pola-magazin.de/veranstaltung/hof-flohmarkt-bornstedt/
CATEGORIES:Eintritt frei,Flohmarkt
END:VEVENT
BEGIN:VEVENT
DTSTART;TZID=Europe/Berlin:20260418T160000
DTEND;TZID=Europe/Berlin:20260418T160000
DTSTAMP:20260422T121558
CREATED:20260113T091858Z
LAST-MODIFIED:20260113T091858Z
UID:10005666-1776528000-1776528000@pola-magazin.de
SUMMARY:Die neue Welt lässt grüßen
DESCRIPTION:Konzept und Moderation: Juri Tetzlaff\nBrandenburgisches Staatsorchester Frankfurt\nLeitung: Steven Sloane \nAntonín Dvorák | Sinfonie Nr. 9 e-Moll op. 95 »Aus der Neuen Welt« \nIm Jahr 1892\, 400 Jahre nach der Entdeckung der »Neuen Welt« durch Kolumbus\, machte sich der böhmische Komponist Antonín Dvořák nach Amerika auf. Das Reisen war inzwischen zwar wesentlich bequemer als zu Kolumbus’ Zeiten\, doch ein Abenteuer war es noch immer. Drei Jahre lang lebte der berühmte Komponist in New York\, fern der Heimat. Hier schrieb er seine berühmte Sinfonie »Aus der Neuen Welt«\, mit der uns nun Juri wiederum zu unserer musikalischen Amerikareise einlädt. Von den großen Städten an der Ostküste geht es durch die Weiten der Prärie – und natürlich auch wieder zurück! \nAb 15.00 Uhr Basteln mit Jacqueline Koschnitzki-Pflanz im Foyer \nVeranstalter: Musikfestspiele Sanssouci und Nikolaisaal Potsdam gGmbH
URL:https://pola-magazin.de/veranstaltung/die-neue-welt-laesst-gruessen/
LOCATION:Nikolaisaal Potsdam\, Wilhelm-Staab-Str. 10/11\, Potsdam\, 14467
CATEGORIES:Konzert, Musik & Musical
END:VEVENT
END:VCALENDAR