BEGIN:VCALENDAR
VERSION:2.0
PRODID:-//‍‍‍ POLA I Entdecke das Familienmagazin für Eltern und Kind - ECPv6.15.20//NONSGML v1.0//EN
CALSCALE:GREGORIAN
METHOD:PUBLISH
X-WR-CALNAME:‍‍‍ POLA I Entdecke das Familienmagazin für Eltern und Kind
X-ORIGINAL-URL:https://pola-magazin.de
X-WR-CALDESC:Veranstaltungen für ‍‍‍ POLA I Entdecke das Familienmagazin für Eltern und Kind
REFRESH-INTERVAL;VALUE=DURATION:PT1H
X-Robots-Tag:noindex
X-PUBLISHED-TTL:PT1H
BEGIN:VTIMEZONE
TZID:Europe/Berlin
BEGIN:DAYLIGHT
TZOFFSETFROM:+0100
TZOFFSETTO:+0200
TZNAME:CEST
DTSTART:20250330T010000
END:DAYLIGHT
BEGIN:STANDARD
TZOFFSETFROM:+0200
TZOFFSETTO:+0100
TZNAME:CET
DTSTART:20251026T010000
END:STANDARD
BEGIN:DAYLIGHT
TZOFFSETFROM:+0100
TZOFFSETTO:+0200
TZNAME:CEST
DTSTART:20260329T010000
END:DAYLIGHT
BEGIN:STANDARD
TZOFFSETFROM:+0200
TZOFFSETTO:+0100
TZNAME:CET
DTSTART:20261025T010000
END:STANDARD
BEGIN:DAYLIGHT
TZOFFSETFROM:+0100
TZOFFSETTO:+0200
TZNAME:CEST
DTSTART:20270328T010000
END:DAYLIGHT
BEGIN:STANDARD
TZOFFSETFROM:+0200
TZOFFSETTO:+0100
TZNAME:CET
DTSTART:20271031T010000
END:STANDARD
END:VTIMEZONE
BEGIN:VEVENT
DTSTART;TZID=Europe/Berlin:20260503T140000
DTEND;TZID=Europe/Berlin:20260503T140000
DTSTAMP:20260421T165809
CREATED:20260415T194217Z
LAST-MODIFIED:20260415T194217Z
UID:10007137-1777816800-1777816800@pola-magazin.de
SUMMARY:Mit Elfe Tana die Pfaueninsel entdecken (Familienführung | ab 6 Jahre)
DESCRIPTION:ab 6 Jahre \nAuf der Berliner Pfaueninsel gibt es nicht nur Pfauen! Hier wohnt auch eine geheimnisvolle Inselelfe mit dem Namen Tana. Tana hilft dabei\, die Geschichte der Insel zu entdecken. An welchen Stellen gab es früher Tiere aus anderen Ländern. Wo befanden sich einst die Lieblingsplätze der Prinzessinnen? Und was haben die Königskinder damals gespielt?
URL:https://pola-magazin.de/veranstaltung/mit-elfe-tana-die-pfaueninsel-entdecken-familienfuehrung-2/
LOCATION:Pfaueninsel\, Nikolskoer Weg\, Berlin\, 14109
CATEGORIES:Ausstellung & Museum,Familienführung
END:VEVENT
BEGIN:VEVENT
DTSTART;TZID=Europe/Berlin:20260510T110000
DTEND;TZID=Europe/Berlin:20260510T110000
DTSTAMP:20260421T165809
CREATED:20250312T160928Z
LAST-MODIFIED:20260415T194349Z
UID:10007159-1778410800-1778410800@pola-magazin.de
SUMMARY:Mit Elfe Tana die Pfaueninsel entdecken (Familienführung | ab 6 Jahre)
DESCRIPTION:ab 6 Jahre \nAuf der Berliner Pfaueninsel gibt es nicht nur Pfauen! Hier wohnt auch eine geheimnisvolle Inselelfe mit dem Namen Tana. Tana hilft dabei\, die Geschichte der Insel zu entdecken. An welchen Stellen gab es früher Tiere aus anderen Ländern. Wo befanden sich einst die Lieblingsplätze der Prinzessinnen? Und was haben die Königskinder damals gespielt?
URL:https://pola-magazin.de/veranstaltung/mit-elfe-tana-die-pfaueninsel-entdecken-familienfuehrung/2026-05-10/
LOCATION:Pfaueninsel\, Nikolskoer Weg\, Berlin\, 14109
CATEGORIES:Ausstellung & Museum,Familienführung
END:VEVENT
BEGIN:VEVENT
DTSTART;TZID=Europe/Berlin:20260517T140000
DTEND;TZID=Europe/Berlin:20260517T140000
DTSTAMP:20260421T165809
CREATED:20250312T160928Z
LAST-MODIFIED:20260415T194349Z
UID:10007114-1779026400-1779026400@pola-magazin.de
SUMMARY:Mit Elfe Tana die Pfaueninsel entdecken (Familienführung | ab 6 Jahre)
DESCRIPTION:ab 6 Jahre \nAuf der Berliner Pfaueninsel gibt es nicht nur Pfauen! Hier wohnt auch eine geheimnisvolle Inselelfe mit dem Namen Tana. Tana hilft dabei\, die Geschichte der Insel zu entdecken. An welchen Stellen gab es früher Tiere aus anderen Ländern. Wo befanden sich einst die Lieblingsplätze der Prinzessinnen? Und was haben die Königskinder damals gespielt?
URL:https://pola-magazin.de/veranstaltung/mit-elfe-tana-die-pfaueninsel-entdecken-familienfuehrung/2026-05-17/
LOCATION:Pfaueninsel\, Nikolskoer Weg\, Berlin\, 14109
CATEGORIES:Ausstellung & Museum,Familienführung
END:VEVENT
BEGIN:VEVENT
DTSTART;TZID=Europe/Berlin:20260524T110000
DTEND;TZID=Europe/Berlin:20260524T110000
DTSTAMP:20260421T165809
CREATED:20250312T160928Z
LAST-MODIFIED:20260415T194349Z
UID:10007149-1779620400-1779620400@pola-magazin.de
SUMMARY:Mit Elfe Tana die Pfaueninsel entdecken (Familienführung | ab 6 Jahre)
DESCRIPTION:ab 6 Jahre \nAuf der Berliner Pfaueninsel gibt es nicht nur Pfauen! Hier wohnt auch eine geheimnisvolle Inselelfe mit dem Namen Tana. Tana hilft dabei\, die Geschichte der Insel zu entdecken. An welchen Stellen gab es früher Tiere aus anderen Ländern. Wo befanden sich einst die Lieblingsplätze der Prinzessinnen? Und was haben die Königskinder damals gespielt?
URL:https://pola-magazin.de/veranstaltung/mit-elfe-tana-die-pfaueninsel-entdecken-familienfuehrung/2026-05-24/
LOCATION:Pfaueninsel\, Nikolskoer Weg\, Berlin\, 14109
CATEGORIES:Ausstellung & Museum,Familienführung
END:VEVENT
BEGIN:VEVENT
DTSTART;TZID=Europe/Berlin:20260531T140000
DTEND;TZID=Europe/Berlin:20260531T140000
DTSTAMP:20260421T165809
CREATED:20250312T160928Z
LAST-MODIFIED:20260415T194349Z
UID:10007115-1780236000-1780236000@pola-magazin.de
SUMMARY:Mit Elfe Tana die Pfaueninsel entdecken (Familienführung | ab 6 Jahre)
DESCRIPTION:ab 6 Jahre \nAuf der Berliner Pfaueninsel gibt es nicht nur Pfauen! Hier wohnt auch eine geheimnisvolle Inselelfe mit dem Namen Tana. Tana hilft dabei\, die Geschichte der Insel zu entdecken. An welchen Stellen gab es früher Tiere aus anderen Ländern. Wo befanden sich einst die Lieblingsplätze der Prinzessinnen? Und was haben die Königskinder damals gespielt?
URL:https://pola-magazin.de/veranstaltung/mit-elfe-tana-die-pfaueninsel-entdecken-familienfuehrung/2026-05-31/
LOCATION:Pfaueninsel\, Nikolskoer Weg\, Berlin\, 14109
CATEGORIES:Ausstellung & Museum,Familienführung
END:VEVENT
BEGIN:VEVENT
DTSTART;TZID=Europe/Berlin:20260607T110000
DTEND;TZID=Europe/Berlin:20260607T110000
DTSTAMP:20260421T165809
CREATED:20250312T160928Z
LAST-MODIFIED:20260415T194349Z
UID:10007150-1780830000-1780830000@pola-magazin.de
SUMMARY:Mit Elfe Tana die Pfaueninsel entdecken (Familienführung | ab 6 Jahre)
DESCRIPTION:ab 6 Jahre \nAuf der Berliner Pfaueninsel gibt es nicht nur Pfauen! Hier wohnt auch eine geheimnisvolle Inselelfe mit dem Namen Tana. Tana hilft dabei\, die Geschichte der Insel zu entdecken. An welchen Stellen gab es früher Tiere aus anderen Ländern. Wo befanden sich einst die Lieblingsplätze der Prinzessinnen? Und was haben die Königskinder damals gespielt?
URL:https://pola-magazin.de/veranstaltung/mit-elfe-tana-die-pfaueninsel-entdecken-familienfuehrung/2026-06-07/
LOCATION:Pfaueninsel\, Nikolskoer Weg\, Berlin\, 14109
CATEGORIES:Ausstellung & Museum,Familienführung
END:VEVENT
BEGIN:VEVENT
DTSTART;TZID=Europe/Berlin:20260614T140000
DTEND;TZID=Europe/Berlin:20260614T140000
DTSTAMP:20260421T165809
CREATED:20250312T160928Z
LAST-MODIFIED:20260415T194349Z
UID:10007117-1781445600-1781445600@pola-magazin.de
SUMMARY:Mit Elfe Tana die Pfaueninsel entdecken (Familienführung | ab 6 Jahre)
DESCRIPTION:ab 6 Jahre \nAuf der Berliner Pfaueninsel gibt es nicht nur Pfauen! Hier wohnt auch eine geheimnisvolle Inselelfe mit dem Namen Tana. Tana hilft dabei\, die Geschichte der Insel zu entdecken. An welchen Stellen gab es früher Tiere aus anderen Ländern. Wo befanden sich einst die Lieblingsplätze der Prinzessinnen? Und was haben die Königskinder damals gespielt?
URL:https://pola-magazin.de/veranstaltung/mit-elfe-tana-die-pfaueninsel-entdecken-familienfuehrung/2026-06-14/
LOCATION:Pfaueninsel\, Nikolskoer Weg\, Berlin\, 14109
CATEGORIES:Ausstellung & Museum,Familienführung
END:VEVENT
BEGIN:VEVENT
DTSTART;TZID=Europe/Berlin:20260621T110000
DTEND;TZID=Europe/Berlin:20260621T110000
DTSTAMP:20260421T165809
CREATED:20250312T160928Z
LAST-MODIFIED:20260415T194349Z
UID:10007151-1782039600-1782039600@pola-magazin.de
SUMMARY:Mit Elfe Tana die Pfaueninsel entdecken (Familienführung | ab 6 Jahre)
DESCRIPTION:ab 6 Jahre \nAuf der Berliner Pfaueninsel gibt es nicht nur Pfauen! Hier wohnt auch eine geheimnisvolle Inselelfe mit dem Namen Tana. Tana hilft dabei\, die Geschichte der Insel zu entdecken. An welchen Stellen gab es früher Tiere aus anderen Ländern. Wo befanden sich einst die Lieblingsplätze der Prinzessinnen? Und was haben die Königskinder damals gespielt?
URL:https://pola-magazin.de/veranstaltung/mit-elfe-tana-die-pfaueninsel-entdecken-familienfuehrung/2026-06-21/
LOCATION:Pfaueninsel\, Nikolskoer Weg\, Berlin\, 14109
CATEGORIES:Ausstellung & Museum,Familienführung
END:VEVENT
BEGIN:VEVENT
DTSTART;TZID=Europe/Berlin:20260628T140000
DTEND;TZID=Europe/Berlin:20260628T140000
DTSTAMP:20260421T165809
CREATED:20250312T160928Z
LAST-MODIFIED:20260415T194349Z
UID:10007120-1782655200-1782655200@pola-magazin.de
SUMMARY:Mit Elfe Tana die Pfaueninsel entdecken (Familienführung | ab 6 Jahre)
DESCRIPTION:ab 6 Jahre \nAuf der Berliner Pfaueninsel gibt es nicht nur Pfauen! Hier wohnt auch eine geheimnisvolle Inselelfe mit dem Namen Tana. Tana hilft dabei\, die Geschichte der Insel zu entdecken. An welchen Stellen gab es früher Tiere aus anderen Ländern. Wo befanden sich einst die Lieblingsplätze der Prinzessinnen? Und was haben die Königskinder damals gespielt?
URL:https://pola-magazin.de/veranstaltung/mit-elfe-tana-die-pfaueninsel-entdecken-familienfuehrung/2026-06-28/
LOCATION:Pfaueninsel\, Nikolskoer Weg\, Berlin\, 14109
CATEGORIES:Ausstellung & Museum,Familienführung
END:VEVENT
BEGIN:VEVENT
DTSTART;TZID=Europe/Berlin:20260705T110000
DTEND;TZID=Europe/Berlin:20260705T110000
DTSTAMP:20260421T165809
CREATED:20250312T160928Z
LAST-MODIFIED:20260415T194349Z
UID:10007152-1783249200-1783249200@pola-magazin.de
SUMMARY:Mit Elfe Tana die Pfaueninsel entdecken (Familienführung | ab 6 Jahre)
DESCRIPTION:ab 6 Jahre \nAuf der Berliner Pfaueninsel gibt es nicht nur Pfauen! Hier wohnt auch eine geheimnisvolle Inselelfe mit dem Namen Tana. Tana hilft dabei\, die Geschichte der Insel zu entdecken. An welchen Stellen gab es früher Tiere aus anderen Ländern. Wo befanden sich einst die Lieblingsplätze der Prinzessinnen? Und was haben die Königskinder damals gespielt?
URL:https://pola-magazin.de/veranstaltung/mit-elfe-tana-die-pfaueninsel-entdecken-familienfuehrung/2026-07-05/
LOCATION:Pfaueninsel\, Nikolskoer Weg\, Berlin\, 14109
CATEGORIES:Ausstellung & Museum,Familienführung
END:VEVENT
BEGIN:VEVENT
DTSTART;TZID=Europe/Berlin:20260712T140000
DTEND;TZID=Europe/Berlin:20260712T140000
DTSTAMP:20260421T165809
CREATED:20250312T160928Z
LAST-MODIFIED:20260415T194349Z
UID:10007124-1783864800-1783864800@pola-magazin.de
SUMMARY:Mit Elfe Tana die Pfaueninsel entdecken (Familienführung | ab 6 Jahre)
DESCRIPTION:ab 6 Jahre \nAuf der Berliner Pfaueninsel gibt es nicht nur Pfauen! Hier wohnt auch eine geheimnisvolle Inselelfe mit dem Namen Tana. Tana hilft dabei\, die Geschichte der Insel zu entdecken. An welchen Stellen gab es früher Tiere aus anderen Ländern. Wo befanden sich einst die Lieblingsplätze der Prinzessinnen? Und was haben die Königskinder damals gespielt?
URL:https://pola-magazin.de/veranstaltung/mit-elfe-tana-die-pfaueninsel-entdecken-familienfuehrung/2026-07-12/
LOCATION:Pfaueninsel\, Nikolskoer Weg\, Berlin\, 14109
CATEGORIES:Ausstellung & Museum,Familienführung
END:VEVENT
BEGIN:VEVENT
DTSTART;TZID=Europe/Berlin:20260719T110000
DTEND;TZID=Europe/Berlin:20260719T110000
DTSTAMP:20260421T165809
CREATED:20250312T160928Z
LAST-MODIFIED:20260415T194349Z
UID:10007153-1784458800-1784458800@pola-magazin.de
SUMMARY:Mit Elfe Tana die Pfaueninsel entdecken (Familienführung | ab 6 Jahre)
DESCRIPTION:ab 6 Jahre \nAuf der Berliner Pfaueninsel gibt es nicht nur Pfauen! Hier wohnt auch eine geheimnisvolle Inselelfe mit dem Namen Tana. Tana hilft dabei\, die Geschichte der Insel zu entdecken. An welchen Stellen gab es früher Tiere aus anderen Ländern. Wo befanden sich einst die Lieblingsplätze der Prinzessinnen? Und was haben die Königskinder damals gespielt?
URL:https://pola-magazin.de/veranstaltung/mit-elfe-tana-die-pfaueninsel-entdecken-familienfuehrung/2026-07-19/
LOCATION:Pfaueninsel\, Nikolskoer Weg\, Berlin\, 14109
CATEGORIES:Ausstellung & Museum,Familienführung
END:VEVENT
BEGIN:VEVENT
DTSTART;TZID=Europe/Berlin:20260726T140000
DTEND;TZID=Europe/Berlin:20260726T140000
DTSTAMP:20260421T165809
CREATED:20250312T160928Z
LAST-MODIFIED:20260415T194349Z
UID:10007126-1785074400-1785074400@pola-magazin.de
SUMMARY:Mit Elfe Tana die Pfaueninsel entdecken (Familienführung | ab 6 Jahre)
DESCRIPTION:ab 6 Jahre \nAuf der Berliner Pfaueninsel gibt es nicht nur Pfauen! Hier wohnt auch eine geheimnisvolle Inselelfe mit dem Namen Tana. Tana hilft dabei\, die Geschichte der Insel zu entdecken. An welchen Stellen gab es früher Tiere aus anderen Ländern. Wo befanden sich einst die Lieblingsplätze der Prinzessinnen? Und was haben die Königskinder damals gespielt?
URL:https://pola-magazin.de/veranstaltung/mit-elfe-tana-die-pfaueninsel-entdecken-familienfuehrung/2026-07-26/
LOCATION:Pfaueninsel\, Nikolskoer Weg\, Berlin\, 14109
CATEGORIES:Ausstellung & Museum,Familienführung
END:VEVENT
BEGIN:VEVENT
DTSTART;TZID=Europe/Berlin:20260802T110000
DTEND;TZID=Europe/Berlin:20260802T110000
DTSTAMP:20260421T165809
CREATED:20250312T160928Z
LAST-MODIFIED:20260415T194349Z
UID:10007154-1785668400-1785668400@pola-magazin.de
SUMMARY:Mit Elfe Tana die Pfaueninsel entdecken (Familienführung | ab 6 Jahre)
DESCRIPTION:ab 6 Jahre \nAuf der Berliner Pfaueninsel gibt es nicht nur Pfauen! Hier wohnt auch eine geheimnisvolle Inselelfe mit dem Namen Tana. Tana hilft dabei\, die Geschichte der Insel zu entdecken. An welchen Stellen gab es früher Tiere aus anderen Ländern. Wo befanden sich einst die Lieblingsplätze der Prinzessinnen? Und was haben die Königskinder damals gespielt?
URL:https://pola-magazin.de/veranstaltung/mit-elfe-tana-die-pfaueninsel-entdecken-familienfuehrung/2026-08-02/
LOCATION:Pfaueninsel\, Nikolskoer Weg\, Berlin\, 14109
CATEGORIES:Ausstellung & Museum,Familienführung
END:VEVENT
BEGIN:VEVENT
DTSTART;TZID=Europe/Berlin:20260809T140000
DTEND;TZID=Europe/Berlin:20260809T140000
DTSTAMP:20260421T165809
CREATED:20250312T160928Z
LAST-MODIFIED:20260415T194349Z
UID:10007128-1786284000-1786284000@pola-magazin.de
SUMMARY:Mit Elfe Tana die Pfaueninsel entdecken (Familienführung | ab 6 Jahre)
DESCRIPTION:ab 6 Jahre \nAuf der Berliner Pfaueninsel gibt es nicht nur Pfauen! Hier wohnt auch eine geheimnisvolle Inselelfe mit dem Namen Tana. Tana hilft dabei\, die Geschichte der Insel zu entdecken. An welchen Stellen gab es früher Tiere aus anderen Ländern. Wo befanden sich einst die Lieblingsplätze der Prinzessinnen? Und was haben die Königskinder damals gespielt?
URL:https://pola-magazin.de/veranstaltung/mit-elfe-tana-die-pfaueninsel-entdecken-familienfuehrung/2026-08-09/
LOCATION:Pfaueninsel\, Nikolskoer Weg\, Berlin\, 14109
CATEGORIES:Ausstellung & Museum,Familienführung
END:VEVENT
BEGIN:VEVENT
DTSTART;TZID=Europe/Berlin:20260816T110000
DTEND;TZID=Europe/Berlin:20260816T110000
DTSTAMP:20260421T165809
CREATED:20250312T160928Z
LAST-MODIFIED:20260415T194349Z
UID:10007155-1786878000-1786878000@pola-magazin.de
SUMMARY:Mit Elfe Tana die Pfaueninsel entdecken (Familienführung | ab 6 Jahre)
DESCRIPTION:ab 6 Jahre \nAuf der Berliner Pfaueninsel gibt es nicht nur Pfauen! Hier wohnt auch eine geheimnisvolle Inselelfe mit dem Namen Tana. Tana hilft dabei\, die Geschichte der Insel zu entdecken. An welchen Stellen gab es früher Tiere aus anderen Ländern. Wo befanden sich einst die Lieblingsplätze der Prinzessinnen? Und was haben die Königskinder damals gespielt?
URL:https://pola-magazin.de/veranstaltung/mit-elfe-tana-die-pfaueninsel-entdecken-familienfuehrung/2026-08-16/
LOCATION:Pfaueninsel\, Nikolskoer Weg\, Berlin\, 14109
CATEGORIES:Ausstellung & Museum,Familienführung
END:VEVENT
BEGIN:VEVENT
DTSTART;TZID=Europe/Berlin:20260823T140000
DTEND;TZID=Europe/Berlin:20260823T140000
DTSTAMP:20260421T165809
CREATED:20250312T160928Z
LAST-MODIFIED:20260415T194349Z
UID:10007130-1787493600-1787493600@pola-magazin.de
SUMMARY:Mit Elfe Tana die Pfaueninsel entdecken (Familienführung | ab 6 Jahre)
DESCRIPTION:ab 6 Jahre \nAuf der Berliner Pfaueninsel gibt es nicht nur Pfauen! Hier wohnt auch eine geheimnisvolle Inselelfe mit dem Namen Tana. Tana hilft dabei\, die Geschichte der Insel zu entdecken. An welchen Stellen gab es früher Tiere aus anderen Ländern. Wo befanden sich einst die Lieblingsplätze der Prinzessinnen? Und was haben die Königskinder damals gespielt?
URL:https://pola-magazin.de/veranstaltung/mit-elfe-tana-die-pfaueninsel-entdecken-familienfuehrung/2026-08-23/
LOCATION:Pfaueninsel\, Nikolskoer Weg\, Berlin\, 14109
CATEGORIES:Ausstellung & Museum,Familienführung
END:VEVENT
BEGIN:VEVENT
DTSTART;TZID=Europe/Berlin:20260830T110000
DTEND;TZID=Europe/Berlin:20260830T110000
DTSTAMP:20260421T165809
CREATED:20250312T160928Z
LAST-MODIFIED:20260415T194349Z
UID:10007156-1788087600-1788087600@pola-magazin.de
SUMMARY:Mit Elfe Tana die Pfaueninsel entdecken (Familienführung | ab 6 Jahre)
DESCRIPTION:ab 6 Jahre \nAuf der Berliner Pfaueninsel gibt es nicht nur Pfauen! Hier wohnt auch eine geheimnisvolle Inselelfe mit dem Namen Tana. Tana hilft dabei\, die Geschichte der Insel zu entdecken. An welchen Stellen gab es früher Tiere aus anderen Ländern. Wo befanden sich einst die Lieblingsplätze der Prinzessinnen? Und was haben die Königskinder damals gespielt?
URL:https://pola-magazin.de/veranstaltung/mit-elfe-tana-die-pfaueninsel-entdecken-familienfuehrung/2026-08-30/
LOCATION:Pfaueninsel\, Nikolskoer Weg\, Berlin\, 14109
CATEGORIES:Ausstellung & Museum,Familienführung
END:VEVENT
BEGIN:VEVENT
DTSTART;TZID=Europe/Berlin:20260906T140000
DTEND;TZID=Europe/Berlin:20260906T140000
DTSTAMP:20260421T165809
CREATED:20250312T160928Z
LAST-MODIFIED:20260415T194349Z
UID:10007132-1788703200-1788703200@pola-magazin.de
SUMMARY:Mit Elfe Tana die Pfaueninsel entdecken (Familienführung | ab 6 Jahre)
DESCRIPTION:ab 6 Jahre \nAuf der Berliner Pfaueninsel gibt es nicht nur Pfauen! Hier wohnt auch eine geheimnisvolle Inselelfe mit dem Namen Tana. Tana hilft dabei\, die Geschichte der Insel zu entdecken. An welchen Stellen gab es früher Tiere aus anderen Ländern. Wo befanden sich einst die Lieblingsplätze der Prinzessinnen? Und was haben die Königskinder damals gespielt?
URL:https://pola-magazin.de/veranstaltung/mit-elfe-tana-die-pfaueninsel-entdecken-familienfuehrung/2026-09-06/
LOCATION:Pfaueninsel\, Nikolskoer Weg\, Berlin\, 14109
CATEGORIES:Ausstellung & Museum,Familienführung
END:VEVENT
BEGIN:VEVENT
DTSTART;TZID=Europe/Berlin:20260913T110000
DTEND;TZID=Europe/Berlin:20260913T110000
DTSTAMP:20260421T165809
CREATED:20250312T160928Z
LAST-MODIFIED:20260415T194349Z
UID:10007157-1789297200-1789297200@pola-magazin.de
SUMMARY:Mit Elfe Tana die Pfaueninsel entdecken (Familienführung | ab 6 Jahre)
DESCRIPTION:ab 6 Jahre \nAuf der Berliner Pfaueninsel gibt es nicht nur Pfauen! Hier wohnt auch eine geheimnisvolle Inselelfe mit dem Namen Tana. Tana hilft dabei\, die Geschichte der Insel zu entdecken. An welchen Stellen gab es früher Tiere aus anderen Ländern. Wo befanden sich einst die Lieblingsplätze der Prinzessinnen? Und was haben die Königskinder damals gespielt?
URL:https://pola-magazin.de/veranstaltung/mit-elfe-tana-die-pfaueninsel-entdecken-familienfuehrung/2026-09-13/
LOCATION:Pfaueninsel\, Nikolskoer Weg\, Berlin\, 14109
CATEGORIES:Ausstellung & Museum,Familienführung
END:VEVENT
BEGIN:VEVENT
DTSTART;TZID=Europe/Berlin:20260920T140000
DTEND;TZID=Europe/Berlin:20260920T140000
DTSTAMP:20260421T165809
CREATED:20250312T160928Z
LAST-MODIFIED:20260415T194349Z
UID:10007135-1789912800-1789912800@pola-magazin.de
SUMMARY:Mit Elfe Tana die Pfaueninsel entdecken (Familienführung | ab 6 Jahre)
DESCRIPTION:ab 6 Jahre \nAuf der Berliner Pfaueninsel gibt es nicht nur Pfauen! Hier wohnt auch eine geheimnisvolle Inselelfe mit dem Namen Tana. Tana hilft dabei\, die Geschichte der Insel zu entdecken. An welchen Stellen gab es früher Tiere aus anderen Ländern. Wo befanden sich einst die Lieblingsplätze der Prinzessinnen? Und was haben die Königskinder damals gespielt?
URL:https://pola-magazin.de/veranstaltung/mit-elfe-tana-die-pfaueninsel-entdecken-familienfuehrung/2026-09-20/
LOCATION:Pfaueninsel\, Nikolskoer Weg\, Berlin\, 14109
CATEGORIES:Ausstellung & Museum,Familienführung
END:VEVENT
BEGIN:VEVENT
DTSTART;TZID=Europe/Berlin:20260927T110000
DTEND;TZID=Europe/Berlin:20260927T110000
DTSTAMP:20260421T165809
CREATED:20250312T160928Z
LAST-MODIFIED:20260415T194349Z
UID:10007158-1790506800-1790506800@pola-magazin.de
SUMMARY:Mit Elfe Tana die Pfaueninsel entdecken (Familienführung | ab 6 Jahre)
DESCRIPTION:ab 6 Jahre \nAuf der Berliner Pfaueninsel gibt es nicht nur Pfauen! Hier wohnt auch eine geheimnisvolle Inselelfe mit dem Namen Tana. Tana hilft dabei\, die Geschichte der Insel zu entdecken. An welchen Stellen gab es früher Tiere aus anderen Ländern. Wo befanden sich einst die Lieblingsplätze der Prinzessinnen? Und was haben die Königskinder damals gespielt?
URL:https://pola-magazin.de/veranstaltung/mit-elfe-tana-die-pfaueninsel-entdecken-familienfuehrung/2026-09-27/
LOCATION:Pfaueninsel\, Nikolskoer Weg\, Berlin\, 14109
CATEGORIES:Ausstellung & Museum,Familienführung
END:VEVENT
END:VCALENDAR