BEGIN:VCALENDAR
VERSION:2.0
PRODID:-//‍‍‍ POLA I Entdecke das Familienmagazin für Eltern und Kind - ECPv6.15.20//NONSGML v1.0//EN
CALSCALE:GREGORIAN
METHOD:PUBLISH
X-WR-CALNAME:‍‍‍ POLA I Entdecke das Familienmagazin für Eltern und Kind
X-ORIGINAL-URL:https://pola-magazin.de
X-WR-CALDESC:Veranstaltungen für ‍‍‍ POLA I Entdecke das Familienmagazin für Eltern und Kind
REFRESH-INTERVAL;VALUE=DURATION:PT1H
X-Robots-Tag:noindex
X-PUBLISHED-TTL:PT1H
BEGIN:VTIMEZONE
TZID:Europe/Berlin
BEGIN:DAYLIGHT
TZOFFSETFROM:+0100
TZOFFSETTO:+0200
TZNAME:CEST
DTSTART:20250330T010000
END:DAYLIGHT
BEGIN:STANDARD
TZOFFSETFROM:+0200
TZOFFSETTO:+0100
TZNAME:CET
DTSTART:20251026T010000
END:STANDARD
BEGIN:DAYLIGHT
TZOFFSETFROM:+0100
TZOFFSETTO:+0200
TZNAME:CEST
DTSTART:20260329T010000
END:DAYLIGHT
BEGIN:STANDARD
TZOFFSETFROM:+0200
TZOFFSETTO:+0100
TZNAME:CET
DTSTART:20261025T010000
END:STANDARD
BEGIN:DAYLIGHT
TZOFFSETFROM:+0100
TZOFFSETTO:+0200
TZNAME:CEST
DTSTART:20270328T010000
END:DAYLIGHT
BEGIN:STANDARD
TZOFFSETFROM:+0200
TZOFFSETTO:+0100
TZNAME:CET
DTSTART:20271031T010000
END:STANDARD
END:VTIMEZONE
BEGIN:VEVENT
DTSTART;TZID=Europe/Berlin:20260921T190000
DTEND;TZID=Europe/Berlin:20260921T190000
DTSTAMP:20260425T164142
CREATED:20240620T152427Z
LAST-MODIFIED:20260306T142356Z
UID:10006302-1790017200-1790017200@pola-magazin.de
SUMMARY:Themenabend Pubertät
DESCRIPTION:Die Pubertät bringt viele Veränderungen mit sich – für Kinder und für Eltern. Um Eltern in dieser herausfordernden Zeit zu unterstützen\, laden wir herzlich zu unserem Themenabend „Pubertät“ ins EJF Familienzentrum Bisamkiez ein. \nDie Diplom-Psychologin und Elterncoachin Alexandra Fresenborg wird über verschiedene Aspekte der Pubertät sprechen und mit den Teilnehmenden in den Austausch gehen. Themen sind unter anderem: \n\nWas verändert sich bei meinem Kind?\nFamilienleben\nKonflikte zwischen Eltern und Kind\nAblösungsprozesse\nSoziale Entwicklung meines Kindes\n\nHaben Sie ein Kind in der Pubertät und wünschen sich Unterstützung\, Orientierung oder einfach ein offenes Ohr? Dann melden Sie sich gerne zu unserem Pubertätsabend an und kommen Sie vorbei – wir freuen uns auf Sie! oa.familienzentrum-bisamkiez@ejf.de \nAn folgenden Terminen ab 19 Uhr: \n\nDonnerstag\, 16. April\nMontag\, 21. September\nDonnerstag\, 15. Oktober
URL:https://pola-magazin.de/veranstaltung/themenabend-pubertaet/2026-09-21/
LOCATION:EJF Familienzentrum Bisamkiez\, Bisamkiez 26\, Potsdam\, 14478
CATEGORIES:Eintritt frei,Für Eltern
END:VEVENT
BEGIN:VEVENT
DTSTART;TZID=Europe/Berlin:20261015T190000
DTEND;TZID=Europe/Berlin:20261015T190000
DTSTAMP:20260425T164142
CREATED:20240620T152427Z
LAST-MODIFIED:20260306T142356Z
UID:10006303-1792090800-1792090800@pola-magazin.de
SUMMARY:Themenabend Pubertät
DESCRIPTION:Die Pubertät bringt viele Veränderungen mit sich – für Kinder und für Eltern. Um Eltern in dieser herausfordernden Zeit zu unterstützen\, laden wir herzlich zu unserem Themenabend „Pubertät“ ins EJF Familienzentrum Bisamkiez ein. \nDie Diplom-Psychologin und Elterncoachin Alexandra Fresenborg wird über verschiedene Aspekte der Pubertät sprechen und mit den Teilnehmenden in den Austausch gehen. Themen sind unter anderem: \n\nWas verändert sich bei meinem Kind?\nFamilienleben\nKonflikte zwischen Eltern und Kind\nAblösungsprozesse\nSoziale Entwicklung meines Kindes\n\nHaben Sie ein Kind in der Pubertät und wünschen sich Unterstützung\, Orientierung oder einfach ein offenes Ohr? Dann melden Sie sich gerne zu unserem Pubertätsabend an und kommen Sie vorbei – wir freuen uns auf Sie! oa.familienzentrum-bisamkiez@ejf.de \nAn folgenden Terminen ab 19 Uhr: \n\nDonnerstag\, 16. April\nMontag\, 21. September\nDonnerstag\, 15. Oktober
URL:https://pola-magazin.de/veranstaltung/themenabend-pubertaet/2026-10-15/
LOCATION:EJF Familienzentrum Bisamkiez\, Bisamkiez 26\, Potsdam\, 14478
CATEGORIES:Eintritt frei,Für Eltern
END:VEVENT
END:VCALENDAR