BEGIN:VCALENDAR
VERSION:2.0
PRODID:-//‍‍‍ POLA I Entdecke das Familienmagazin für Eltern und Kind - ECPv6.15.20//NONSGML v1.0//EN
CALSCALE:GREGORIAN
METHOD:PUBLISH
X-WR-CALNAME:‍‍‍ POLA I Entdecke das Familienmagazin für Eltern und Kind
X-ORIGINAL-URL:https://pola-magazin.de
X-WR-CALDESC:Veranstaltungen für ‍‍‍ POLA I Entdecke das Familienmagazin für Eltern und Kind
REFRESH-INTERVAL;VALUE=DURATION:PT1H
X-Robots-Tag:noindex
X-PUBLISHED-TTL:PT1H
BEGIN:VTIMEZONE
TZID:Europe/Berlin
BEGIN:DAYLIGHT
TZOFFSETFROM:+0100
TZOFFSETTO:+0200
TZNAME:CEST
DTSTART:20250330T010000
END:DAYLIGHT
BEGIN:STANDARD
TZOFFSETFROM:+0200
TZOFFSETTO:+0100
TZNAME:CET
DTSTART:20251026T010000
END:STANDARD
BEGIN:DAYLIGHT
TZOFFSETFROM:+0100
TZOFFSETTO:+0200
TZNAME:CEST
DTSTART:20260329T010000
END:DAYLIGHT
BEGIN:STANDARD
TZOFFSETFROM:+0200
TZOFFSETTO:+0100
TZNAME:CET
DTSTART:20261025T010000
END:STANDARD
BEGIN:DAYLIGHT
TZOFFSETFROM:+0100
TZOFFSETTO:+0200
TZNAME:CEST
DTSTART:20270328T010000
END:DAYLIGHT
BEGIN:STANDARD
TZOFFSETFROM:+0200
TZOFFSETTO:+0100
TZNAME:CET
DTSTART:20271031T010000
END:STANDARD
BEGIN:DAYLIGHT
TZOFFSETFROM:+0100
TZOFFSETTO:+0200
TZNAME:CEST
DTSTART:20280326T010000
END:DAYLIGHT
BEGIN:STANDARD
TZOFFSETFROM:+0200
TZOFFSETTO:+0100
TZNAME:CET
DTSTART:20281029T010000
END:STANDARD
BEGIN:DAYLIGHT
TZOFFSETFROM:+0100
TZOFFSETTO:+0200
TZNAME:CEST
DTSTART:20290325T010000
END:DAYLIGHT
BEGIN:STANDARD
TZOFFSETFROM:+0200
TZOFFSETTO:+0100
TZNAME:CET
DTSTART:20291028T010000
END:STANDARD
END:VTIMEZONE
BEGIN:VEVENT
DTSTART;VALUE=DATE:20260510
DTEND;VALUE=DATE:20260511
DTSTAMP:20260422T215000
CREATED:20220325T131656Z
LAST-MODIFIED:20240111T142809Z
UID:10003180-1778371200-1778457599@pola-magazin.de
SUMMARY:Muttertag!
DESCRIPTION:Wir gratulieren allen Müttern\, ihr macht das großartig! \nOder seid ihr hier auf der Suche nach Muttertags-Geschenken oder Bastelideen? Hier kommen sie: \n    \n     \n   
URL:https://pola-magazin.de/veranstaltung/muttertag/2026-05-10/
CATEGORIES:Familienfest
ATTACH;FMTTYPE=image/jpeg:https://pola-magazin.de/wp-content/uploads/2020/04/papierblumen-muttertag-diy-pola-magazin-2.jpg
END:VEVENT
BEGIN:VEVENT
DTSTART;VALUE=DATE:20270509
DTEND;VALUE=DATE:20270510
DTSTAMP:20260422T215000
CREATED:20220325T131656Z
LAST-MODIFIED:20240111T142809Z
UID:10003181-1809820800-1809907199@pola-magazin.de
SUMMARY:Muttertag!
DESCRIPTION:Wir gratulieren allen Müttern\, ihr macht das großartig! \nOder seid ihr hier auf der Suche nach Muttertags-Geschenken oder Bastelideen? Hier kommen sie: \n    \n     \n   
URL:https://pola-magazin.de/veranstaltung/muttertag/2027-05-09/
CATEGORIES:Familienfest
ATTACH;FMTTYPE=image/jpeg:https://pola-magazin.de/wp-content/uploads/2020/04/papierblumen-muttertag-diy-pola-magazin-2.jpg
END:VEVENT
BEGIN:VEVENT
DTSTART;VALUE=DATE:20280514
DTEND;VALUE=DATE:20280515
DTSTAMP:20260422T215000
CREATED:20220325T131656Z
LAST-MODIFIED:20240111T142809Z
UID:10003182-1841875200-1841961599@pola-magazin.de
SUMMARY:Muttertag!
DESCRIPTION:Wir gratulieren allen Müttern\, ihr macht das großartig! \nOder seid ihr hier auf der Suche nach Muttertags-Geschenken oder Bastelideen? Hier kommen sie: \n    \n     \n   
URL:https://pola-magazin.de/veranstaltung/muttertag/2028-05-14/
CATEGORIES:Familienfest
ATTACH;FMTTYPE=image/jpeg:https://pola-magazin.de/wp-content/uploads/2020/04/papierblumen-muttertag-diy-pola-magazin-2.jpg
END:VEVENT
END:VCALENDAR