BEGIN:VCALENDAR
VERSION:2.0
PRODID:-//‍‍‍ POLA I Entdecke das Familienmagazin für Eltern und Kind - ECPv6.15.20//NONSGML v1.0//EN
CALSCALE:GREGORIAN
METHOD:PUBLISH
X-WR-CALNAME:‍‍‍ POLA I Entdecke das Familienmagazin für Eltern und Kind
X-ORIGINAL-URL:https://pola-magazin.de
X-WR-CALDESC:Veranstaltungen für ‍‍‍ POLA I Entdecke das Familienmagazin für Eltern und Kind
REFRESH-INTERVAL;VALUE=DURATION:PT1H
X-Robots-Tag:noindex
X-PUBLISHED-TTL:PT1H
BEGIN:VTIMEZONE
TZID:Europe/Berlin
BEGIN:DAYLIGHT
TZOFFSETFROM:+0100
TZOFFSETTO:+0200
TZNAME:CEST
DTSTART:20250330T010000
END:DAYLIGHT
BEGIN:STANDARD
TZOFFSETFROM:+0200
TZOFFSETTO:+0100
TZNAME:CET
DTSTART:20251026T010000
END:STANDARD
BEGIN:DAYLIGHT
TZOFFSETFROM:+0100
TZOFFSETTO:+0200
TZNAME:CEST
DTSTART:20260329T010000
END:DAYLIGHT
BEGIN:STANDARD
TZOFFSETFROM:+0200
TZOFFSETTO:+0100
TZNAME:CET
DTSTART:20261025T010000
END:STANDARD
BEGIN:DAYLIGHT
TZOFFSETFROM:+0100
TZOFFSETTO:+0200
TZNAME:CEST
DTSTART:20270328T010000
END:DAYLIGHT
BEGIN:STANDARD
TZOFFSETFROM:+0200
TZOFFSETTO:+0100
TZNAME:CET
DTSTART:20271031T010000
END:STANDARD
END:VTIMEZONE
BEGIN:VEVENT
DTSTART;TZID=Europe/Berlin:20260510T150000
DTEND;TZID=Europe/Berlin:20260510T180000
DTSTAMP:20260421T171234
CREATED:20221110T120448Z
LAST-MODIFIED:20260113T152354Z
UID:10005637-1778425200-1778436000@pola-magazin.de
SUMMARY:Familienflohmarkt im Lindenpark
DESCRIPTION:Es ist wieder Zeit\, um neue Schätze zu entdecken und Sachen\, die ihr nicht mehr braucht\, weiterzugeben. Denn wegschmeißen war gestern – heute nutzen wir\, was wir haben. Herzlich willkommen zum Familienflohmarkt im Lindenpark! Im Winter im Saal\, im Sommer draußen \nEine Tischreservierung läuft über einen Ticketverkauf über unsere Website unter der jeweiligen Veranstaltung\, die jeweils nach dem vorangegangen Flohmarkt angelegt wird. Jeder Interessierte kann sich dort ein Ticket pro Tisch kaufen (12 €\, max. 2 Tickets/Person)\, solange der Vorrat reicht. Das Ticket beinhaltet je einen Stellplatz mit einem Biertisch 2m x 50cm und einer dazugehörigen Bank. \nKinder können bei den Outdoor-Terminen kostenfrei auf einer mitgebrachten Decke trödeln (mit Anmeldung).  \nLeckereien und zahlreiche Spielmöglichkeiten auf dem Lindenpark-Gelände sorgen für Stärkung und Spaß. \nTipp: Folgt unserem Instagram-Kanal @flohmarkt.potsdam für aktuelle Termine mit Erinnerungsfunktion!
URL:https://pola-magazin.de/veranstaltung/familienflohmarkt-2/2026-05-10/
LOCATION:Lindenpark Potsdam\, Stahnsdorfer Straße 76-78\, Potsdam\, 14482
CATEGORIES:Flohmarkt
END:VEVENT
BEGIN:VEVENT
DTSTART;TZID=Europe/Berlin:20260927T150000
DTEND;TZID=Europe/Berlin:20260927T180000
DTSTAMP:20260421T171234
CREATED:20221110T120448Z
LAST-MODIFIED:20260113T152354Z
UID:10005638-1790521200-1790532000@pola-magazin.de
SUMMARY:Familienflohmarkt im Lindenpark
DESCRIPTION:Es ist wieder Zeit\, um neue Schätze zu entdecken und Sachen\, die ihr nicht mehr braucht\, weiterzugeben. Denn wegschmeißen war gestern – heute nutzen wir\, was wir haben. Herzlich willkommen zum Familienflohmarkt im Lindenpark! Im Winter im Saal\, im Sommer draußen \nEine Tischreservierung läuft über einen Ticketverkauf über unsere Website unter der jeweiligen Veranstaltung\, die jeweils nach dem vorangegangen Flohmarkt angelegt wird. Jeder Interessierte kann sich dort ein Ticket pro Tisch kaufen (12 €\, max. 2 Tickets/Person)\, solange der Vorrat reicht. Das Ticket beinhaltet je einen Stellplatz mit einem Biertisch 2m x 50cm und einer dazugehörigen Bank. \nKinder können bei den Outdoor-Terminen kostenfrei auf einer mitgebrachten Decke trödeln (mit Anmeldung).  \nLeckereien und zahlreiche Spielmöglichkeiten auf dem Lindenpark-Gelände sorgen für Stärkung und Spaß. \nTipp: Folgt unserem Instagram-Kanal @flohmarkt.potsdam für aktuelle Termine mit Erinnerungsfunktion!
URL:https://pola-magazin.de/veranstaltung/familienflohmarkt-2/2026-09-27/
LOCATION:Lindenpark Potsdam\, Stahnsdorfer Straße 76-78\, Potsdam\, 14482
CATEGORIES:Flohmarkt
END:VEVENT
BEGIN:VEVENT
DTSTART;TZID=Europe/Berlin:20261108T150000
DTEND;TZID=Europe/Berlin:20261108T180000
DTSTAMP:20260421T171234
CREATED:20221110T120448Z
LAST-MODIFIED:20260113T152354Z
UID:10005654-1794150000-1794160800@pola-magazin.de
SUMMARY:Familienflohmarkt im Lindenpark
DESCRIPTION:Es ist wieder Zeit\, um neue Schätze zu entdecken und Sachen\, die ihr nicht mehr braucht\, weiterzugeben. Denn wegschmeißen war gestern – heute nutzen wir\, was wir haben. Herzlich willkommen zum Familienflohmarkt im Lindenpark! Im Winter im Saal\, im Sommer draußen \nEine Tischreservierung läuft über einen Ticketverkauf über unsere Website unter der jeweiligen Veranstaltung\, die jeweils nach dem vorangegangen Flohmarkt angelegt wird. Jeder Interessierte kann sich dort ein Ticket pro Tisch kaufen (12 €\, max. 2 Tickets/Person)\, solange der Vorrat reicht. Das Ticket beinhaltet je einen Stellplatz mit einem Biertisch 2m x 50cm und einer dazugehörigen Bank. \nKinder können bei den Outdoor-Terminen kostenfrei auf einer mitgebrachten Decke trödeln (mit Anmeldung).  \nLeckereien und zahlreiche Spielmöglichkeiten auf dem Lindenpark-Gelände sorgen für Stärkung und Spaß. \nTipp: Folgt unserem Instagram-Kanal @flohmarkt.potsdam für aktuelle Termine mit Erinnerungsfunktion!
URL:https://pola-magazin.de/veranstaltung/familienflohmarkt-2/2026-11-08/
LOCATION:Lindenpark Potsdam\, Stahnsdorfer Straße 76-78\, Potsdam\, 14482
CATEGORIES:Flohmarkt
END:VEVENT
END:VCALENDAR