BEGIN:VCALENDAR
VERSION:2.0
PRODID:-//‍‍‍ POLA I Entdecke das Familienmagazin für Eltern und Kind - ECPv6.15.20//NONSGML v1.0//EN
CALSCALE:GREGORIAN
METHOD:PUBLISH
X-WR-CALNAME:‍‍‍ POLA I Entdecke das Familienmagazin für Eltern und Kind
X-ORIGINAL-URL:https://pola-magazin.de
X-WR-CALDESC:Veranstaltungen für ‍‍‍ POLA I Entdecke das Familienmagazin für Eltern und Kind
REFRESH-INTERVAL;VALUE=DURATION:PT1H
X-Robots-Tag:noindex
X-PUBLISHED-TTL:PT1H
BEGIN:VTIMEZONE
TZID:Europe/Berlin
BEGIN:DAYLIGHT
TZOFFSETFROM:+0100
TZOFFSETTO:+0200
TZNAME:CEST
DTSTART:20240331T010000
END:DAYLIGHT
BEGIN:STANDARD
TZOFFSETFROM:+0200
TZOFFSETTO:+0100
TZNAME:CET
DTSTART:20241027T010000
END:STANDARD
BEGIN:DAYLIGHT
TZOFFSETFROM:+0100
TZOFFSETTO:+0200
TZNAME:CEST
DTSTART:20250330T010000
END:DAYLIGHT
BEGIN:STANDARD
TZOFFSETFROM:+0200
TZOFFSETTO:+0100
TZNAME:CET
DTSTART:20251026T010000
END:STANDARD
BEGIN:DAYLIGHT
TZOFFSETFROM:+0100
TZOFFSETTO:+0200
TZNAME:CEST
DTSTART:20260329T010000
END:DAYLIGHT
BEGIN:STANDARD
TZOFFSETFROM:+0200
TZOFFSETTO:+0100
TZNAME:CET
DTSTART:20261025T010000
END:STANDARD
BEGIN:DAYLIGHT
TZOFFSETFROM:+0100
TZOFFSETTO:+0200
TZNAME:CEST
DTSTART:20270328T010000
END:DAYLIGHT
BEGIN:STANDARD
TZOFFSETFROM:+0200
TZOFFSETTO:+0100
TZNAME:CET
DTSTART:20271031T010000
END:STANDARD
END:VTIMEZONE
BEGIN:VEVENT
DTSTART;TZID=Europe/Berlin:20260419T110000
DTEND;TZID=Europe/Berlin:20260419T120000
DTSTAMP:20260421T163624
CREATED:20260415T134046Z
LAST-MODIFIED:20260415T162859Z
UID:10007088-1776596400-1776600000@pola-magazin.de
SUMMARY:Das sprechende Schiff
DESCRIPTION:„Das sprechende Schiff“ ist eine ganz besondere Kinderveranstaltung in Potsdam auf dem Theaterschiff im Tiefen See\, die für die ganze Familie geeignet ist. Sie verbindet eine interaktive Schiffsführung für Kinder mit einem Hörspiel für Kinder. Die Heldin des Hörspieles ist „Hanna“. \nHanna ist „nur“ eine Plötze\, kein Angler hat Interesse an ihr. Und so ist Hanna schon lange die Nachbarin von dem alten Schiff „Sturmvogel“\, was fest vertäut am Steg im Tiefen See der Potsdamer Havel liegt\, ohne dass sich die beiden kennen. In letzter Zeit hört Hanna immer wieder Geräusche\, Töne\, die ihr auf die Nerven gehen. Sie hört genauer zu und macht erstaunliche Entdeckungen… eine Tierfabel über die Auswirkungen der Klimaveränderungen am Tiefen See in Potsdam und die Kraft der Solidarität. \nNach der Schiffsführung zum Anfassen mit spannenden Informationen über den einhundert Jahre alten Lastkahn\, der jetzt das „Theaterschiff Potsdam“ ist\, wird im Schiffsbauch das Hörspiel „Das sprechende Schiff“ über Hannas Entdeckung zu erleben sein. Die Kinder können es sich dabei auf einer Kissenlandschaft gemütlich machen und während sie zuhören auch die Tiere\, die in dem Hörspiel vorkommen\, auf bereit liegenden Malbögen ausmalen. \nDie prominente Schauspielerin und Hörbuchsprecherin Cathlen Gawlich (die Stimme von Sandy Cheeks in „SpongeBob Schwammkopf““ und von Mama Lausemaus aus „Leo Lausemaus“) hat allen im Hörspiel vorkommenden Tieren ihre Stimme gegeben.
URL:https://pola-magazin.de/veranstaltung/das-sprechende-schiff-2/2026-04-19/
LOCATION:Theaterschiff Potsdam\, Schiffbauergasse 9b\, POTSDAM\, 14467\, Deutschland
CATEGORIES:Familienführung,Märchen & Geschichten
END:VEVENT
BEGIN:VEVENT
DTSTART;TZID=Europe/Berlin:20251221T110000
DTEND;TZID=Europe/Berlin:20251221T110000
DTSTAMP:20260421T163624
CREATED:20251111T111543Z
LAST-MODIFIED:20251203T075953Z
UID:10005476-1766314800-1766314800@pola-magazin.de
SUMMARY:Eine Weihnachtsgeschichte
DESCRIPTION:nach Charles Dickens in einer Performance von Cathlen Gawlich \nDie berühmte\, auch verfilmte Weihnachtsgeschichte handelt von dem hartherzigen Ebenezer Scrooge\, der Weihnachten verabscheut. An Heiligabend wird er von drei Geistern besucht\, die ihm seine Vergangenheit\, Gegenwart und mögliche Zukunft zeigen. Das führt zu einer tiefgreifenden Wandlung bei Scrooge\, der sich schließlich als freundlicher\, großzügiger und mitfühlender Mensch zeigt. \nDie Live-Lesung von Cathlen Gawlich ist ein brillantes Feuerwerk. Cathlen Gawlich beherrscht eine einzigartige Stimmkunst\, die es ihr möglich macht\, mit ihrer Stimme zu sein\, wer sie will: Hündchen\, Toaster\, Großmütterchen\, Kinder. Ob Gegenstände\, Geräusche\, Menschen\, Tiere\, alt oder jung\, Cathlen Gawlich spricht sie alle !!! Und so sorgt sie mit ihren Fähigkeiten für eine sehr unterhaltsame\, höchst amüsante Stunde für die ganze Familie mit Kindern ab sieben Jahren. Ihr Motto: „Von Null bis Hundertzehn – alles spricht Cathlen !“\, ihr Anspruch: „Brausepulverim Bauch der Zuhörer verursachen!“ \nInfos & Tickets
URL:https://pola-magazin.de/veranstaltung/eine-weihnachtsgeschichte/2025-12-21/
LOCATION:Theaterschiff Potsdam\, Schiffbauergasse 9b\, POTSDAM\, 14467\, Deutschland
CATEGORIES:Märchen & Geschichten
END:VEVENT
BEGIN:VEVENT
DTSTART;TZID=Europe/Berlin:20251206T150000
DTEND;TZID=Europe/Berlin:20251206T150000
DTSTAMP:20260421T163624
CREATED:20251111T111543Z
LAST-MODIFIED:20251203T075953Z
UID:10005448-1765033200-1765033200@pola-magazin.de
SUMMARY:Eine Weihnachtsgeschichte
DESCRIPTION:nach Charles Dickens in einer Performance von Cathlen Gawlich \nDie berühmte\, auch verfilmte Weihnachtsgeschichte handelt von dem hartherzigen Ebenezer Scrooge\, der Weihnachten verabscheut. An Heiligabend wird er von drei Geistern besucht\, die ihm seine Vergangenheit\, Gegenwart und mögliche Zukunft zeigen. Das führt zu einer tiefgreifenden Wandlung bei Scrooge\, der sich schließlich als freundlicher\, großzügiger und mitfühlender Mensch zeigt. \nDie Live-Lesung von Cathlen Gawlich ist ein brillantes Feuerwerk. Cathlen Gawlich beherrscht eine einzigartige Stimmkunst\, die es ihr möglich macht\, mit ihrer Stimme zu sein\, wer sie will: Hündchen\, Toaster\, Großmütterchen\, Kinder. Ob Gegenstände\, Geräusche\, Menschen\, Tiere\, alt oder jung\, Cathlen Gawlich spricht sie alle !!! Und so sorgt sie mit ihren Fähigkeiten für eine sehr unterhaltsame\, höchst amüsante Stunde für die ganze Familie mit Kindern ab sieben Jahren. Ihr Motto: „Von Null bis Hundertzehn – alles spricht Cathlen !“\, ihr Anspruch: „Brausepulverim Bauch der Zuhörer verursachen!“ \nInfos & Tickets
URL:https://pola-magazin.de/veranstaltung/eine-weihnachtsgeschichte/2025-12-06/
LOCATION:Theaterschiff Potsdam\, Schiffbauergasse 9b\, POTSDAM\, 14467\, Deutschland
CATEGORIES:Märchen & Geschichten
END:VEVENT
BEGIN:VEVENT
DTSTART;TZID=Europe/Berlin:20251129T170000
DTEND;TZID=Europe/Berlin:20251129T170000
DTSTAMP:20260421T163624
CREATED:20251111T111244Z
LAST-MODIFIED:20251111T111244Z
UID:10005447-1764435600-1764435600@pola-magazin.de
SUMMARY:Musik ist ein Wunder - junge NachwuchsmusikerInnen im Konzert
DESCRIPTION:Theaterschiff an Land\, zu Gast in der Französischen Kirche \nIn der von dem „Theaterschiff Potsdam“ initiierten Reihe „Musik ist ein Wunder“ präsentieren sich Kinder und Jugendliche mit ihrem musikalischen Können. Sie spielen in der Französischen Kirche Potsdam Benefizkonzerte für das Kinderhospiz „Pusteblume“ in Burg im Spreewald.\nNach dem erfolgreichen\, mit stehenden Ovationen gefeierten Eröffnungskonzert durch das „Julius-Stern-Institut“ der UdK Berlin\, finden nun zwei weitere Konzerte in dieser Reihe statt: \nam 21.11.2025\, um 17 Uhr bestreitet die städtische Musikschule „Johann Sebastian Bach“ Potsdam das Konzert. Die Eröffnung des Abends wird von „Heartbeat“\, der Showdancegruppe der „Grundschule Niemegk“ unter der Leitung von Marlene Grundt bestritten. \nAm 29.11.2025\, um 17 Uhr ist das „Julius-Stern-Institut“ der UdK Berlin in Anwesenheit von Stefan Lietz\, dem Leiter des Institutes mit einem neuen Konzert zu erleben. Die Moderation dieses Konzertes übernimmt der „rbb-Radio“ („Klassik bis zwei“) Moderator Jens Lehmann. \nDer Eintritt ist für beide Konzerte frei\, um eine Spende zu Gunsten des Kinderhospizes wird gebeten.
URL:https://pola-magazin.de/veranstaltung/musik-ist-ein-wunder-junge-nachwuchsmusikerinnen-im-konzert/2025-11-29/
LOCATION:Französische Kirche\, Charlottenstraße 55-58\, POTSDAM\, 14467\, Deutschland
CATEGORIES:Konzert, Musik & Musical
END:VEVENT
BEGIN:VEVENT
DTSTART;TZID=Europe/Berlin:20251121T170000
DTEND;TZID=Europe/Berlin:20251121T170000
DTSTAMP:20260421T163624
CREATED:20251111T111244Z
LAST-MODIFIED:20251111T111244Z
UID:10005446-1763744400-1763744400@pola-magazin.de
SUMMARY:Musik ist ein Wunder - junge NachwuchsmusikerInnen im Konzert
DESCRIPTION:Theaterschiff an Land\, zu Gast in der Französischen Kirche \nIn der von dem „Theaterschiff Potsdam“ initiierten Reihe „Musik ist ein Wunder“ präsentieren sich Kinder und Jugendliche mit ihrem musikalischen Können. Sie spielen in der Französischen Kirche Potsdam Benefizkonzerte für das Kinderhospiz „Pusteblume“ in Burg im Spreewald.\nNach dem erfolgreichen\, mit stehenden Ovationen gefeierten Eröffnungskonzert durch das „Julius-Stern-Institut“ der UdK Berlin\, finden nun zwei weitere Konzerte in dieser Reihe statt: \nam 21.11.2025\, um 17 Uhr bestreitet die städtische Musikschule „Johann Sebastian Bach“ Potsdam das Konzert. Die Eröffnung des Abends wird von „Heartbeat“\, der Showdancegruppe der „Grundschule Niemegk“ unter der Leitung von Marlene Grundt bestritten. \nAm 29.11.2025\, um 17 Uhr ist das „Julius-Stern-Institut“ der UdK Berlin in Anwesenheit von Stefan Lietz\, dem Leiter des Institutes mit einem neuen Konzert zu erleben. Die Moderation dieses Konzertes übernimmt der „rbb-Radio“ („Klassik bis zwei“) Moderator Jens Lehmann. \nDer Eintritt ist für beide Konzerte frei\, um eine Spende zu Gunsten des Kinderhospizes wird gebeten.
URL:https://pola-magazin.de/veranstaltung/musik-ist-ein-wunder-junge-nachwuchsmusikerinnen-im-konzert/2025-11-21/
LOCATION:Französische Kirche\, Charlottenstraße 55-58\, POTSDAM\, 14467\, Deutschland
CATEGORIES:Konzert, Musik & Musical
END:VEVENT
BEGIN:VEVENT
DTSTART;TZID=Europe/Berlin:20251116T110000
DTEND;TZID=Europe/Berlin:20251116T110000
DTSTAMP:20260421T163624
CREATED:20251111T110903Z
LAST-MODIFIED:20251111T111318Z
UID:10005445-1763290800-1763290800@pola-magazin.de
SUMMARY:Das sprechende Schiff
DESCRIPTION:interaktives Angebot für die ganze Familie \nHanna ist „nur“ eine Plötze\, kein Angler hat Interesse an ihr. Und so ist Hanna schon lange die Nachbarin von dem alten Schiff „Sturmvogel“\, was fest vertäut am Steg im Tiefen See liegt\, ohne dass sich die beiden kennen. In letzter Zeit hört Hanna immer wieder Geräusche\, die ihr auf die Nerven gehen. Sie hört genauer zu und macht erstaunliche Entdeckungen….eine Tierfabel über die Auswirkungen der Klimaveränderungen am Tiefen See in Potsdam und die Kraft der Solidarität. \nNach einer Schiffsführung zum Anfassen mit spannenden Informationen über den einhundert Jahre alten Lastkahn ist im Schiffsbauch das Hörspiel über Hannas Entdeckung zu erleben. Die Kinder können es sich dazu auf einer Kissenlandschaft gemütlich machen und während sie zuhören auch die Tiere\, die in dem Hörspiel vorkommen\, auf bereit liegenden Malbögen ausmalen. \nInfos & Tickets 
URL:https://pola-magazin.de/veranstaltung/das-sprechende-schiff/
LOCATION:Theaterschiff Potsdam\, Schiffbauergasse 9b\, POTSDAM\, 14467\, Deutschland
CATEGORIES:Märchen & Geschichten
END:VEVENT
END:VCALENDAR