BEGIN:VCALENDAR
VERSION:2.0
PRODID:-//‍‍‍ POLA I Entdecke das Familienmagazin für Eltern und Kind - ECPv6.15.20//NONSGML v1.0//EN
CALSCALE:GREGORIAN
METHOD:PUBLISH
X-WR-CALNAME:‍‍‍ POLA I Entdecke das Familienmagazin für Eltern und Kind
X-ORIGINAL-URL:https://pola-magazin.de
X-WR-CALDESC:Veranstaltungen für ‍‍‍ POLA I Entdecke das Familienmagazin für Eltern und Kind
REFRESH-INTERVAL;VALUE=DURATION:PT1H
X-Robots-Tag:noindex
X-PUBLISHED-TTL:PT1H
BEGIN:VTIMEZONE
TZID:Europe/Berlin
BEGIN:DAYLIGHT
TZOFFSETFROM:+0100
TZOFFSETTO:+0200
TZNAME:CEST
DTSTART:20220327T010000
END:DAYLIGHT
BEGIN:STANDARD
TZOFFSETFROM:+0200
TZOFFSETTO:+0100
TZNAME:CET
DTSTART:20221030T010000
END:STANDARD
BEGIN:DAYLIGHT
TZOFFSETFROM:+0100
TZOFFSETTO:+0200
TZNAME:CEST
DTSTART:20230326T010000
END:DAYLIGHT
BEGIN:STANDARD
TZOFFSETFROM:+0200
TZOFFSETTO:+0100
TZNAME:CET
DTSTART:20231029T010000
END:STANDARD
BEGIN:DAYLIGHT
TZOFFSETFROM:+0100
TZOFFSETTO:+0200
TZNAME:CEST
DTSTART:20240331T010000
END:DAYLIGHT
BEGIN:STANDARD
TZOFFSETFROM:+0200
TZOFFSETTO:+0100
TZNAME:CET
DTSTART:20241027T010000
END:STANDARD
END:VTIMEZONE
BEGIN:VEVENT
DTSTART;VALUE=DATE:20230219
DTEND;VALUE=DATE:20230220
DTSTAMP:20260424T081122
CREATED:20221109T110922Z
LAST-MODIFIED:20221109T110952Z
UID:10002210-1676764800-1676851199@pola-magazin.de
SUMMARY:Musical: Das Dschungelbuch
DESCRIPTION:11 & 15 Uhr / ab 4 J. \nMit großem Herz und viel Temperament setzt das Theater Liberi den zeitlosen Bestseller von Rudyard Kipling über das mutige Findelkind und den Dschungelbuch-Liebling Balu neu in Szene. Ein beeindruckendes Bühnenbild\, farbenfrohe Kostüme und bestens ausgebildete Musicaldarsteller hauchen dem Dschungel Leben ein. Musikalisch wird dem Publikum einiges geboten: eine groovende Affenbande\, Shir Khan als König des Rock ‘n’ Roll und ein funkiges Finale – abgerundet durch rasante Choreografien. \nDauer: 120 Minuten inkl. Pause \nAltersempfehlung: ab 4 Jahren
URL:https://pola-magazin.de/veranstaltung/musical-das-dschungelbuch/
LOCATION:Nikolaisaal Potsdam\, Wilhelm-Staab-Str. 10/11\, Potsdam\, 14467
CATEGORIES:Konzert, Musik & Musical
END:VEVENT
END:VCALENDAR