BEGIN:VCALENDAR
VERSION:2.0
PRODID:-//‍‍‍ POLA I Entdecke das Familienmagazin für Eltern und Kind - ECPv6.15.20//NONSGML v1.0//EN
CALSCALE:GREGORIAN
METHOD:PUBLISH
X-WR-CALNAME:‍‍‍ POLA I Entdecke das Familienmagazin für Eltern und Kind
X-ORIGINAL-URL:https://pola-magazin.de
X-WR-CALDESC:Veranstaltungen für ‍‍‍ POLA I Entdecke das Familienmagazin für Eltern und Kind
REFRESH-INTERVAL;VALUE=DURATION:PT1H
X-Robots-Tag:noindex
X-PUBLISHED-TTL:PT1H
BEGIN:VTIMEZONE
TZID:Europe/Berlin
BEGIN:DAYLIGHT
TZOFFSETFROM:+0100
TZOFFSETTO:+0200
TZNAME:CEST
DTSTART:20220327T010000
END:DAYLIGHT
BEGIN:STANDARD
TZOFFSETFROM:+0200
TZOFFSETTO:+0100
TZNAME:CET
DTSTART:20221030T010000
END:STANDARD
BEGIN:DAYLIGHT
TZOFFSETFROM:+0100
TZOFFSETTO:+0200
TZNAME:CEST
DTSTART:20230326T010000
END:DAYLIGHT
BEGIN:STANDARD
TZOFFSETFROM:+0200
TZOFFSETTO:+0100
TZNAME:CET
DTSTART:20231029T010000
END:STANDARD
BEGIN:DAYLIGHT
TZOFFSETFROM:+0100
TZOFFSETTO:+0200
TZNAME:CEST
DTSTART:20240331T010000
END:DAYLIGHT
BEGIN:STANDARD
TZOFFSETFROM:+0200
TZOFFSETTO:+0100
TZNAME:CET
DTSTART:20241027T010000
END:STANDARD
BEGIN:DAYLIGHT
TZOFFSETFROM:+0100
TZOFFSETTO:+0200
TZNAME:CEST
DTSTART:20250330T010000
END:DAYLIGHT
BEGIN:STANDARD
TZOFFSETFROM:+0200
TZOFFSETTO:+0100
TZNAME:CET
DTSTART:20251026T010000
END:STANDARD
END:VTIMEZONE
BEGIN:VEVENT
DTSTART;TZID=Europe/Berlin:20240829T100000
DTEND;TZID=Europe/Berlin:20240829T100000
DTSTAMP:20260426T042802
CREATED:20240605T133837Z
LAST-MODIFIED:20240605T133837Z
UID:10003723-1724925600-1724925600@pola-magazin.de
SUMMARY:Die Regentrude (ab 5)
DESCRIPTION:Einen so heißen Sommer hat es seit hundert Jahren nicht mehr gegeben. Kein Grün ist mehr zu sehen. Der Feuermann treibt seinen Schabernack mit Mensch und Tier und versengt die Erde. Da erinnert sich Mutter Stine an ein Feenwesen: die Regentrude\, die ihre Urgroßmutter in alten Zeiten mit einem Zauberspruch geweckt und somit den Regen wieder in die Welt gebracht hatte. Doch wo lebt die Regentrude und wie hieß doch gleich das Sprüchlein? Mit sinnlichen Theaterbildern\, Masken und viel Livemusik wird das Märchen von mutigen Veränderungen und der Nähe zur Natur erzählt. \nDas Theater NADI ist ein Ensemble aus TänzerInnen und SchauspielerInnen und wurde 2004 von dem Pantomimen und Schauspieler Steffen Findeisen sowie der japanischen Schauspielerin Noriko Seki gegründet. In ihren Arbeiten verbinden sie poetische Gesten und rituelle Masken mit tänzerischen Elementen. Für „Die Regentrude“ arbeitete das Ensemble erstmals mit der Potsdamer Puppenspielerin Nora Raetsch zusammen. Mit dem T-Werk verbindet das Theater eine langjährige Zusammenarbeit.
URL:https://pola-magazin.de/veranstaltung/die-regentrude-ab-5-2/
LOCATION:T-Werk\, Schiffbauergasse 4E\, Potsdam\, 14467
CATEGORIES:Ferienprogramm,Märchen & Geschichten,Theater
END:VEVENT
BEGIN:VEVENT
DTSTART;TZID=Europe/Berlin:20240828T100000
DTEND;TZID=Europe/Berlin:20240828T100000
DTSTAMP:20260426T042802
CREATED:20240605T133814Z
LAST-MODIFIED:20240605T133814Z
UID:10003722-1724839200-1724839200@pola-magazin.de
SUMMARY:Die Regentrude (ab 5)
DESCRIPTION:Einen so heißen Sommer hat es seit hundert Jahren nicht mehr gegeben. Kein Grün ist mehr zu sehen. Der Feuermann treibt seinen Schabernack mit Mensch und Tier und versengt die Erde. Da erinnert sich Mutter Stine an ein Feenwesen: die Regentrude\, die ihre Urgroßmutter in alten Zeiten mit einem Zauberspruch geweckt und somit den Regen wieder in die Welt gebracht hatte. Doch wo lebt die Regentrude und wie hieß doch gleich das Sprüchlein? Mit sinnlichen Theaterbildern\, Masken und viel Livemusik wird das Märchen von mutigen Veränderungen und der Nähe zur Natur erzählt. \nDas Theater NADI ist ein Ensemble aus TänzerInnen und SchauspielerInnen und wurde 2004 von dem Pantomimen und Schauspieler Steffen Findeisen sowie der japanischen Schauspielerin Noriko Seki gegründet. In ihren Arbeiten verbinden sie poetische Gesten und rituelle Masken mit tänzerischen Elementen. Für „Die Regentrude“ arbeitete das Ensemble erstmals mit der Potsdamer Puppenspielerin Nora Raetsch zusammen. Mit dem T-Werk verbindet das Theater eine langjährige Zusammenarbeit.
URL:https://pola-magazin.de/veranstaltung/die-regentrude-ab-5/
LOCATION:T-Werk\, Schiffbauergasse 4E\, Potsdam\, 14467
CATEGORIES:Ferienprogramm,Märchen & Geschichten,Theater
END:VEVENT
BEGIN:VEVENT
DTSTART;TZID=Europe/Berlin:20230611T110000
DTEND;TZID=Europe/Berlin:20230611T110000
DTSTAMP:20260426T042802
CREATED:20230327T152924Z
LAST-MODIFIED:20230327T152924Z
UID:10002553-1686481200-1686481200@pola-magazin.de
SUMMARY:Die Regentrude
DESCRIPTION:Ab 5 J.  Einen so heißen Sommer hat es seit hundert Jahren nicht mehr gegeben. Kein Grün ist mehr zu sehen. Der Feuermann treibt seinen Schabernack mit Mensch und Tier und versengt die Erde. Da erinnert sich Mutter Stine an ein Feenwesen: die Regentrude\, die ihre Urgroßmutter in alten Zeiten mit einem Zauberspruch geweckt und somit den Regen wieder in die Welt gebracht hatte. Doch wo lebt die Regentrude und wie hieß doch gleich das Sprüchlein? Mit sinnlichen Theaterbildern\, Masken und viel Livemusik wird das Märchen von mutigen Veränderungen und der Nähe zur Natur erzählt. \nDas Theater NADI ist ein Ensemble aus Tänzern und Schauspielern und wurde 2004 von dem Pantomimen und Schauspieler Steffen Findeisen sowie der japanischen Schauspielerin Noriko Seki gegründet. In ihren Arbeiten verbinden sie poetische Gesten und rituelle Masken mit tänzerischen Elementen. Für „Die Regentrude“ arbeitete das Ensemble erstmals mit der Potsdamer Puppenspielerin Nora Raetsch zusammen. Mit dem T-Werk verbindet das Theater eine langjährige Zusammenarbeit.
URL:https://pola-magazin.de/veranstaltung/die-regentrude-8/
LOCATION:T-Werk\, Schiffbauergasse 4E\, Potsdam\, 14467
CATEGORIES:Märchen & Geschichten,Theater
END:VEVENT
END:VCALENDAR