BEGIN:VCALENDAR
VERSION:2.0
PRODID:-//‍‍‍ POLA I Entdecke das Familienmagazin für Eltern und Kind - ECPv6.15.20//NONSGML v1.0//EN
CALSCALE:GREGORIAN
METHOD:PUBLISH
X-ORIGINAL-URL:https://pola-magazin.de
X-WR-CALDESC:Veranstaltungen für ‍‍‍ POLA I Entdecke das Familienmagazin für Eltern und Kind
REFRESH-INTERVAL;VALUE=DURATION:PT1H
X-Robots-Tag:noindex
X-PUBLISHED-TTL:PT1H
BEGIN:VTIMEZONE
TZID:Europe/Berlin
BEGIN:DAYLIGHT
TZOFFSETFROM:+0100
TZOFFSETTO:+0200
TZNAME:CEST
DTSTART:20230326T010000
END:DAYLIGHT
BEGIN:STANDARD
TZOFFSETFROM:+0200
TZOFFSETTO:+0100
TZNAME:CET
DTSTART:20231029T010000
END:STANDARD
BEGIN:DAYLIGHT
TZOFFSETFROM:+0100
TZOFFSETTO:+0200
TZNAME:CEST
DTSTART:20240331T010000
END:DAYLIGHT
BEGIN:STANDARD
TZOFFSETFROM:+0200
TZOFFSETTO:+0100
TZNAME:CET
DTSTART:20241027T010000
END:STANDARD
BEGIN:DAYLIGHT
TZOFFSETFROM:+0100
TZOFFSETTO:+0200
TZNAME:CEST
DTSTART:20250330T010000
END:DAYLIGHT
BEGIN:STANDARD
TZOFFSETFROM:+0200
TZOFFSETTO:+0100
TZNAME:CET
DTSTART:20251026T010000
END:STANDARD
END:VTIMEZONE
BEGIN:VEVENT
DTSTART;TZID=Europe/Berlin:20240319T123000
DTEND;TZID=Europe/Berlin:20240319T183000
DTSTAMP:20260424T105215
CREATED:20240228T150203Z
LAST-MODIFIED:20240228T150203Z
UID:10003326-1710851400-1710873000@pola-magazin.de
SUMMARY:Beratungsangebot: ENDLICH! Kinderzuschlag beantragen
DESCRIPTION:Hast du für dein Kind/ deine Kinder schon den Kinderzuschlag beantragt? Du steigst nicht durch\, Anträge nerven und sind zeitraubend? Und wer erhält den Kinderzuschlag überhaupt? Beantrage heute zusammen mit Fachkräften der Familienkasse den Kinderzuschlag. \nDer Kinderzuschlag unterstützt Familien finanziell und steht für Kinder bis zum Alter von 25 Jahren zur Verfügung\, sofern sie unverheiratet sind\, im Haushalt leben und für sie Kindergeld bezogen wird. Das Mindesteinkommen für Alleinerziehende liegt bei 600 Euro\, für Paare bei 900 Euro brutto monatlich. Auch Selbstständige können diesen Zuschlag erhalten\, der mit 292 Euro pro Monat und zusätzlichen Leistungen für Bildung und Teilhabe\, wie unter anderem Übernahme von Kosten für Klassenfahrten\, Mittagessen\, Schulmaterialien und Freizeitaktivitäten\, einen erheblichen Mehrwert bietet. \nSo weit\, so einfach- oder eben doch nicht? \nSocial Impact lädt euch ein mit guter Laune\, Sekt\, Selters und Kopierer zum Themennachmittag “Endlich! Kinderzuschlag beantragen”. Um den Prozess zu vereinfachen\, erhaltet ihr professionelle Unterstützung durch Fachkräfte der Familienkasse. Diese prüfen direkt vor Ort eure Unterlagen und helfen beim Ausfüllen der Anträge\, die ihr dann gleich einreichen könnt. Die Aktion dauert von mittags bis abends\, um sicherzustellen\, dass alle nötigen Dokumente vervollständigt werden können. \nBitte bringt\, wenn möglich\, bereits kopierte Dokumente mit\, um Wartezeiten am Kopierer zu vermeiden und eine effiziente Bearbeitung für alle zu gewährleisten. Eine Checkliste für den Kinderzuschlag findet ihr hier: \nWo: Potsdam Lab\, WIS im Bildungsforum\, Am Kanal 47\, 14467 Potsdam\, oberstes Stockwerk- mit Fahrstuhl/Barrierefrei \nEine Anmeldung ist nicht notwendig. Kommt einfach vorbei!
URL:https://pola-magazin.de/veranstaltung/beratungsangebot-endlich-kinderzuschlag-beantragen/
LOCATION:Potsdam Lab\, Am Kanal 47\, Potsdam\, 14467
CATEGORIES:Eintritt frei,Für Eltern
END:VEVENT
END:VCALENDAR