BEGIN:VCALENDAR
VERSION:2.0
PRODID:-//‍‍‍ POLA I Entdecke das Familienmagazin für Eltern und Kind - ECPv6.15.20//NONSGML v1.0//EN
CALSCALE:GREGORIAN
METHOD:PUBLISH
X-ORIGINAL-URL:https://pola-magazin.de
X-WR-CALDESC:Veranstaltungen für ‍‍‍ POLA I Entdecke das Familienmagazin für Eltern und Kind
REFRESH-INTERVAL;VALUE=DURATION:PT1H
X-Robots-Tag:noindex
X-PUBLISHED-TTL:PT1H
BEGIN:VTIMEZONE
TZID:Europe/Berlin
BEGIN:DAYLIGHT
TZOFFSETFROM:+0100
TZOFFSETTO:+0200
TZNAME:CEST
DTSTART:20210328T010000
END:DAYLIGHT
BEGIN:STANDARD
TZOFFSETFROM:+0200
TZOFFSETTO:+0100
TZNAME:CET
DTSTART:20211031T010000
END:STANDARD
BEGIN:DAYLIGHT
TZOFFSETFROM:+0100
TZOFFSETTO:+0200
TZNAME:CEST
DTSTART:20220327T010000
END:DAYLIGHT
BEGIN:STANDARD
TZOFFSETFROM:+0200
TZOFFSETTO:+0100
TZNAME:CET
DTSTART:20221030T010000
END:STANDARD
BEGIN:DAYLIGHT
TZOFFSETFROM:+0100
TZOFFSETTO:+0200
TZNAME:CEST
DTSTART:20230326T010000
END:DAYLIGHT
BEGIN:STANDARD
TZOFFSETFROM:+0200
TZOFFSETTO:+0100
TZNAME:CET
DTSTART:20231029T010000
END:STANDARD
END:VTIMEZONE
BEGIN:VEVENT
DTSTART;TZID=Europe/Berlin:20221217T160000
DTEND;TZID=Europe/Berlin:20221217T160000
DTSTAMP:20260424T075408
CREATED:20221115T154930Z
LAST-MODIFIED:20221115T154930Z
UID:10002292-1671292800-1671292800@pola-magazin.de
SUMMARY:Jolkafest "DIE KATZE UND IHR SCHOCKIERENDES GEHEIMNIS"
DESCRIPTION:Die Schule der Künste inteGrazia spielt das Theaterstück “DIE KATZE UND IHR SCHOCKIERENDES GEHEIMNIS”\, basierend auf dem Märchen von Samuil Jakowlewitsch Marschak “Das Katzenhaus”. \nDas Theaterstück verspricht ein echtes Theatererlebnis zu werden. Ein tolles Bühnenbild\, spektakuläre Kostüme\, aufwändige Choreographien\, Rhythmen der 20er Jahre und emotionale Lieder bringen uns die Goldenen Zeiten nahe und lassen uns mitfiebern. \nDas ist eine Geschichte in Reimen dramaturgisch bearbeitet von Regisseurin Alice Keiler\, nicht nur über Stolz\, Heuchelei\, Falschheit\, Grausamkeit\, Zynismus\, sondern auch über wahre Freundschaft\, Freundlichkeit\, Mitleid\, Vergebung – die wahren Werte im Leben – ist einer der Klassiker der Kinderliteratur. \nINHALT: \nDie Kultusministerin\, die Katze hat ihre Türen nur für wohlhabende Gäste offen: Signore Don Bocco und Signora Zigello\, Fräulein Schwein und noch ein Schwein\, Graf von Hahn und seine dumme Gräfin Henne. \nGerade in dem Moment\, in dem sie ein üppiges Festmahl feierten\, klopften an das Tor zwei arme Waisenkätzchen\, die Neffen von der Ministerin. Die Katze befahl ihrem arroganten Butler-Kater die Kätzchen raus zu schmeißen. \nEine Stunde später zerstörte ein Feuer das prächtige Schloss. Die Ministerin und der Butler sind gezwungen\, bei ihren vermeintlichen Freunden Zuflucht zu suchen\, aber ohne Erfolg. Frierend klopfen sie an die Tür von zwei Kätzchen – und werden herzlich willkommen geheißen. \nDie Vorstellung wird in 2 Teilen zu je 45 Minuten aufgeführt. \nTickethotline: 0163-3395798 \nEintritt: Kinder bis 14 Jahre: 6\,00 €; Erwachsene:12\,00 €/ ermäß.10\,00 €; Familienticket: 30\,00 €
URL:https://pola-magazin.de/veranstaltung/jolkafest-die-katze-und-ihr-schockierendes-geheimnis/
LOCATION:Treffpunkt Freizeit\, Am Neuen Garten 64\, Potsdam\, 14469
CATEGORIES:Theater
ORGANIZER;CN="Schule der K%C3%BCnste inteGrazia e.V.":MAILTO:semljaki-ev@list.ru
END:VEVENT
END:VCALENDAR