BEGIN:VCALENDAR
VERSION:2.0
PRODID:-//‍‍‍ POLA I Entdecke das Familienmagazin für Eltern und Kind - ECPv6.15.20//NONSGML v1.0//EN
CALSCALE:GREGORIAN
METHOD:PUBLISH
X-ORIGINAL-URL:https://pola-magazin.de
X-WR-CALDESC:Veranstaltungen für ‍‍‍ POLA I Entdecke das Familienmagazin für Eltern und Kind
REFRESH-INTERVAL;VALUE=DURATION:PT1H
X-Robots-Tag:noindex
X-PUBLISHED-TTL:PT1H
BEGIN:VTIMEZONE
TZID:Europe/Berlin
BEGIN:DAYLIGHT
TZOFFSETFROM:+0100
TZOFFSETTO:+0200
TZNAME:CEST
DTSTART:20250330T010000
END:DAYLIGHT
BEGIN:STANDARD
TZOFFSETFROM:+0200
TZOFFSETTO:+0100
TZNAME:CET
DTSTART:20251026T010000
END:STANDARD
BEGIN:DAYLIGHT
TZOFFSETFROM:+0100
TZOFFSETTO:+0200
TZNAME:CEST
DTSTART:20260329T010000
END:DAYLIGHT
BEGIN:STANDARD
TZOFFSETFROM:+0200
TZOFFSETTO:+0100
TZNAME:CET
DTSTART:20261025T010000
END:STANDARD
BEGIN:DAYLIGHT
TZOFFSETFROM:+0100
TZOFFSETTO:+0200
TZNAME:CEST
DTSTART:20270328T010000
END:DAYLIGHT
BEGIN:STANDARD
TZOFFSETFROM:+0200
TZOFFSETTO:+0100
TZNAME:CET
DTSTART:20271031T010000
END:STANDARD
END:VTIMEZONE
BEGIN:VEVENT
DTSTART;TZID=Europe/Berlin:20260621T110000
DTEND;TZID=Europe/Berlin:20260621T170000
DTSTAMP:20260423T164842
CREATED:20260415T134015Z
LAST-MODIFIED:20260415T134037Z
UID:10006929-1782039600-1782061200@pola-magazin.de
SUMMARY:Musikfestspiele: Fahrradkonzert Märchenkompass
DESCRIPTION:Die familienfreundliche Strecke von 12 km \nProgramm\nStationen u.a.: Start Wilhelm-Staab-Straße / Russische Kolonie / Schloss Cecilienhof / Villa Schöningen / Rotkäppchen-Statue / Ziel: Jagdschloss Stern / Finale: Nikolaikirche \nMitwirkende\nKünstler:Innen u.a. \nSAX PUPPETS zum Check-In\nTiny Bridges\nMareike Greb\, Christoph Sommer\, Martin Erhardt\, Barocktanz\nSchattentheater mit Maik Zöllner \nTour 3 ist wieder ganz auf unser junges Publikum zugeschnitten. Schon beim Check-in treffen wir die SAX PUPPETS\, die uns musikalisch in Schwung bringen. Mit dem Ensemble TINY BRIDGES überqueren wir Brücken in andere Länder\, am Schloss Cecilienhof schwingen wir das Tanzbein mit Elfen und Sonnentänzern\, und zwischendurch helfen wir dem Rotkäppchen\, mit dem Wolf klarzukommen. Vielleicht verfolgen wir ihn sogar bis zum Jagdschloss Stern – immer dem Hörnerklang der LIPPENTHRILLER nach! Zur Stärkung gibt es frisch gebackenes Brot aus dem Holzofen. Wer nach dieser wilden Jagd noch Kraft in den Beinen hat\, kann gemeinsam mit den Radler:innen der Touren 1 & 2 den längsten Tag des Jahres in der Nikolaikirche ausklingen lassen. \nCheck-in: 11–11.45 Uhr \nStart: Wilhelm-Staab-Straße.\nHier tauschen Sie Ihr Ticket gegen den Tagesausweis und Ihre persönlichen Reiseunterlagen. Erst dann haben Sie freien Zutritt zu allen Veranstaltungen. In den historischen Parkanlagen ist der Fahrradverkehr nur auf den dafür freigegebenen Wegstrecken unter Einhaltung der StVO erlaubt.
URL:https://pola-magazin.de/veranstaltung/fahrradkonzert-maerchenkompass/
LOCATION:Potsdamer Mitte\, vom Naturkundemuseum bis zum Neuen Markt
CATEGORIES:Konzert, Musik & Musical,Kreatives & Workshops,Märchen & Geschichten,Sport & Spielen
ORGANIZER;CN="Musikfestspiele Sanssouci und Nikolaisaal Potsdam gGmbH":MAILTO:service@nikolaisaal.de
END:VEVENT
BEGIN:VEVENT
DTSTART;TZID=Europe/Berlin:20260627T100000
DTEND;TZID=Europe/Berlin:20260627T180000
DTSTAMP:20260423T164842
CREATED:20260415T134026Z
LAST-MODIFIED:20260415T134026Z
UID:10006924-1782554400-1782583200@pola-magazin.de
SUMMARY:Musikfestspiele: Action\, Fun & Music
DESCRIPTION:Das älteste Großatelier-Filmstudio der Welt steht nicht in Hollywood\, sondern in Babelsberg. Im Filmpark gleich neben der Traumfabrik kann man die Magie des Filmemachens hautnah erleben und im Nu von einer Filmwelt in die andere reisen\, aus 1001 Nacht in den Wilden Westen oder in Janoschs Panama. Wir rollen Ihnen zum Empfang den Roten Teppich aus – denn bei uns sind Sie die Stars und wer sich traut\, bekommt beim Film-Kostümwettbewerb seinen großen Auftritt: Werfen Sie sich also gern in Schale – die besten Kreationen werden prämiert! Mit dem speziellen Live-Soundtrack der Musikfestspiele und den vielfältigen Angeboten des Filmparks gehen Sie dann auf Ihre ganz persönliche Entdeckungstour. Die Reiseroute stellen Sie sich aus den meist ca. 30-minütigen Acts selbst zusammen. Und – Action! \nFür den kleinen Appetit und den großen Hunger hält der Filmpark ein reichhaltiges Catering-Angebot bereit: u.a. laden der Film Foodcourt\, der Westerngrill Hudson Bay oder das Tigerentenrestaurant zur Einkehr ein. \n€ 40\nKinder- und Junges Festspielticket: 15 €
URL:https://pola-magazin.de/veranstaltung/musikfestspiele-action-fun-music/
LOCATION:Filmpark Babelsberg\, Großbeerenstraße 200\, Potsdam\, 14482
CATEGORIES:Familienfest,Für Eltern,Konzert, Musik & Musical
ORGANIZER;CN="Musikfestspiele Sanssouci und Nikolaisaal Potsdam gGmbH":MAILTO:service@nikolaisaal.de
END:VEVENT
END:VCALENDAR