BEGIN:VCALENDAR
VERSION:2.0
PRODID:-//‍‍‍ POLA I Entdecke das Familienmagazin für Eltern und Kind - ECPv6.15.20//NONSGML v1.0//EN
CALSCALE:GREGORIAN
METHOD:PUBLISH
X-ORIGINAL-URL:https://pola-magazin.de
X-WR-CALDESC:Veranstaltungen für ‍‍‍ POLA I Entdecke das Familienmagazin für Eltern und Kind
REFRESH-INTERVAL;VALUE=DURATION:PT1H
X-Robots-Tag:noindex
X-PUBLISHED-TTL:PT1H
BEGIN:VTIMEZONE
TZID:Europe/Berlin
BEGIN:DAYLIGHT
TZOFFSETFROM:+0100
TZOFFSETTO:+0200
TZNAME:CEST
DTSTART:20210328T010000
END:DAYLIGHT
BEGIN:STANDARD
TZOFFSETFROM:+0200
TZOFFSETTO:+0100
TZNAME:CET
DTSTART:20211031T010000
END:STANDARD
BEGIN:DAYLIGHT
TZOFFSETFROM:+0100
TZOFFSETTO:+0200
TZNAME:CEST
DTSTART:20220327T010000
END:DAYLIGHT
BEGIN:STANDARD
TZOFFSETFROM:+0200
TZOFFSETTO:+0100
TZNAME:CET
DTSTART:20221030T010000
END:STANDARD
BEGIN:DAYLIGHT
TZOFFSETFROM:+0100
TZOFFSETTO:+0200
TZNAME:CEST
DTSTART:20230326T010000
END:DAYLIGHT
BEGIN:STANDARD
TZOFFSETFROM:+0200
TZOFFSETTO:+0100
TZNAME:CET
DTSTART:20231029T010000
END:STANDARD
BEGIN:DAYLIGHT
TZOFFSETFROM:+0100
TZOFFSETTO:+0200
TZNAME:CEST
DTSTART:20240331T010000
END:DAYLIGHT
BEGIN:STANDARD
TZOFFSETFROM:+0200
TZOFFSETTO:+0100
TZNAME:CET
DTSTART:20241027T010000
END:STANDARD
BEGIN:DAYLIGHT
TZOFFSETFROM:+0100
TZOFFSETTO:+0200
TZNAME:CEST
DTSTART:20250330T010000
END:DAYLIGHT
BEGIN:STANDARD
TZOFFSETFROM:+0200
TZOFFSETTO:+0100
TZNAME:CET
DTSTART:20251026T010000
END:STANDARD
BEGIN:DAYLIGHT
TZOFFSETFROM:+0100
TZOFFSETTO:+0200
TZNAME:CEST
DTSTART:20260329T010000
END:DAYLIGHT
BEGIN:STANDARD
TZOFFSETFROM:+0200
TZOFFSETTO:+0100
TZNAME:CET
DTSTART:20261025T010000
END:STANDARD
END:VTIMEZONE
BEGIN:VEVENT
DTSTART;TZID=Europe/Berlin:20250628T103000
DTEND;TZID=Europe/Berlin:20250628T120000
DTSTAMP:20260423T182011
CREATED:20250312T131406Z
LAST-MODIFIED:20250312T131406Z
UID:10004517-1751106600-1751112000@pola-magazin.de
SUMMARY:Feuervogel verleiht Flügel: Familienkonzert
DESCRIPTION:Pfeifen\, Zwitschern\, Tirilier’n mit den Weltreisenden der Lüfte bei der musikalischen Vogelschau für Familien mit Kindern von 4 bis 7 in der Pflanzenhalle Orangerie Neuer Garten \nRund zwei Milliarden Vögel ziehen jedes Jahr aus Europa in den Süden: mehr als Touristen\, und ganz ohne Flugbenzin! Zugvögel legen unfassbare Entfernungen zurück\, eine Schnepfe hält mit 12.000 km Nonstop-Flug den Weltrekord. Überhaupt sind Vögel unglaubliche Geschöpfe: Mauersegler kommen nicht einmal zum Schlafen wieder runter. Und Lerchen tirilieren hoch in der Luft! Vier Flötist:innen zwitschern mit ihnen um die Wette und locken sogar den magischen Feuervogel aus seinem Zauberwald in die Orangerie. Alle selbstgebastelten bunten Vögel sind schon da! \nEinlass 10.15 Uhr \nDauer: ca. 90 min \nZum Basteln empfiehlt sich bequeme\, unempfindliche Kleidung. Eigene Kissen und Kuscheldecken dürfen gern mitgebracht werden. \n10.30 Uhr\nFlugwesen basteln mit Jacqueline Koschnitzki-Pflanz \n11.30 Uhr\nMitmachkonzert \nMitwirkende\nENSEMBLE FEUERVOGEL\nNura Natour\, Tabea Popien\,\nFelix Schlenker\, Mathis Wolfer Blockflöten\nMin-Tzu Lee Perkussion \n 
URL:https://pola-magazin.de/veranstaltung/feuervogel-verleiht-fluegel-familienkonzert/
LOCATION:Orangerie Park Sanssouci
CATEGORIES:Konzert, Musik & Musical,Kreatives & Workshops
ORGANIZER;CN="Musikfestspiele Sanssouci und Nikolaisaal Potsdam gGmbH":MAILTO:service@nikolaisaal.de
END:VEVENT
BEGIN:VEVENT
DTSTART;TZID=Europe/Berlin:20250622T110000
DTEND;TZID=Europe/Berlin:20250622T110000
DTSTAMP:20260423T182011
CREATED:20250312T131115Z
LAST-MODIFIED:20250313T145815Z
UID:10004516-1750590000-1750590000@pola-magazin.de
SUMMARY:Musikfestspiele Potsdam Sanssouci: Fahrradkonzert: Grand Tour 3 - Weißes Trikot – familienfreundliche 10 km
DESCRIPTION:Auf gemütlichen 10 km können auch die Kleinsten ums weiße Trikot mitfahren. Unterwegs gibt es nicht nur musikalische Programme\, die ganz speziell auf die Kinder zugeschnitten sind\, zum Abschluss kommen sogar in einem Mitmachkonzert alle Fahrradklingeln zum Einsatz. Die Fahrradwege sind auch mit einem Anhänger oder Lastenfahrrad gut passierbar. \nSTATIONEN\nu. a.: Start Wilhelm-Staab-Straße / Urania Planetarium / Waschhaus Schiffbauergasse / Schloss Babelsberg / Klein- Glienicker Kapelle / Ziel: Belvedere am Pfingstberg \nNicht nur die kürzere Strecke macht die Familientour aus\, sondern vor allem das Programm. Da reisen wir im Planetarium zu den Sternen\, die Landratten sorgen für viel Aufregung und wir treffen im Schloss Babelsberg auf Ritter Rost. Dieser hat direkt seinen Erfinder Jörg Hilbert im Gepäck\, der selbst auf der Laute echte Rittermusik aus dem Mittelalter spielt. Und beim großen Finale auf dem Pfingstberg gibt es nicht nur eine kleine Bergankunft zu feiern\, mit seinem beeindruckenden Panorama und seiner Architektur\, bildet das Schloss das passende Ambiente für den krönenden Abschluss der Familientour. Der Beatboxer Paul Brenning bringt uns noch einmal richtig in Fahrt und lädt uns ein mit all unseren Fahrradklingeln eine eigene Komposition zu kreieren. Neben den musikalischen Höhepunkten gibt es auch noch weitere Mitmachaktionen die diese Tour unvergesslich machen. \nMitwirkende\nMaximilian Ehrhardt Virtuos auf 50 Saiten / PasParTouT »Landratten« – Ein tierisch vergnüglicher Landgang – mit Tiefgang. / Uwe Mayer »Die Laufmaschine« – Erzähltheater auf Rädern! / Pepe und Speedy ziehen mit ihrem humorvollen und energiegeladenen Auftritt das Publikum in ihren Bann / Jörg Hilbert & Dominik Schneider machen mit Laute & Blockflöten Musik für Ritter Rost / Giulio BonettoViel Wind und klingende Pfeifen / Philipp Alexander Marguerre beherrscht die Kunst\, mit Glas zu spielen / Paul Brenning Beat Boxer par excellence \nStart: Wilhelm-Staab-Straße. Hier tauschen Sie Ihr Ticket gegen den Tagesausweis und Ihre persönlichen Reiseunterlagen. Erst dann haben Sie freien Zutritt zu allen Veranstaltungen. In den historischen Parkanlagen ist der Fahrradverkehr nur auf den dafür freigegebenen Wegstrecken unter Einhaltung der StVO erlaubt. Infos
URL:https://pola-magazin.de/veranstaltung/fahrradkonzert-grand-tour-3-weisses-trikot-familienfreundliche-10-km/
CATEGORIES:Konzert, Musik & Musical,Sport & Spielen
ORGANIZER;CN="Musikfestspiele Sanssouci und Nikolaisaal Potsdam gGmbH":MAILTO:service@nikolaisaal.de
END:VEVENT
BEGIN:VEVENT
DTSTART;TZID=Europe/Berlin:20230513T160000
DTEND;TZID=Europe/Berlin:20230513T160000
DTSTAMP:20260423T182011
CREATED:20230120T124107Z
LAST-MODIFIED:20230120T124107Z
UID:10002477-1683993600-1683993600@pola-magazin.de
SUMMARY:Der Klang der Bäume
DESCRIPTION:Alma Mahler | Sieben Lieder für mittlere Stimme und Orchester (Auszüge) \nDas Wetter ist herrlich – lasst uns raus in den Garten gehen! Oder zieht es euch eher in den Wald? In diesem Konzert könnt ihr mit ein bisschen Fantasie und gespitzten Ohren beides erleben. In den Liedern\, die Alma Mahler vor etwa 110 Jahren komponiert hat\, ist das Rauschen der Apfelbäume\, das leise Wispern der Blätter\, die geheimnisvolle Stimmung einer lauen Sommernacht in Tönen eingefangen. Viele Instrumente\, die ihr heute auf der Bühne entdecken werdet\, waren einmal Bäume. Hier werden sie wieder ganz lebendig und erzählen fantastische Geschichten\, die euch in eine Welt der Träume entführen. \nEmpfohlen für Kinder ab 4 Jahren \nDauer: 45 Minuten \nAb 15.00 Uhr kreative Aktion im Foyer
URL:https://pola-magazin.de/veranstaltung/der-klang-der-baeume/
LOCATION:Nikolaisaal Potsdam\, Wilhelm-Staab-Str. 10/11\, Potsdam\, 14467
CATEGORIES:Konzert, Musik & Musical
ORGANIZER;CN="Musikfestspiele Sanssouci und Nikolaisaal Potsdam gGmbH":MAILTO:service@nikolaisaal.de
END:VEVENT
BEGIN:VEVENT
DTSTART;TZID=Europe/Berlin:20230226T110000
DTEND;TZID=Europe/Berlin:20230226T110000
DTSTAMP:20260423T182011
CREATED:20221109T111115Z
LAST-MODIFIED:20221109T111115Z
UID:10002211-1677409200-1677409200@pola-magazin.de
SUMMARY:Familienkonzert: Bilder einer Ausstellung
DESCRIPTION:Es ist\, als ob du ins Bild hineingesprungen wärst\, so bildlich ist die Musik von Mussorgskys »Bilder einer Ausstellung«. In dem interaktiven Konzert geht es darum\, sich auf einen live gezeichneten Spaziergang durch die Bildwelt des russischen Komponisten zu begeben. Durch Projektionen von Bildern und Zitaten spannt sich ein Bogen von der eigenen Fantasie zu den wahrgenommenen Klängen. Die bildhafte Musik macht es dabei ganz leicht\, alle Sinne zu stimulieren. Mit Bodypercussion und Mitmachaktionen wird das Publikum Teil eines unvergesslichen Familien-Konzerts. \nEmpfohlen für Familien mit Kindern ab 4 Jahren
URL:https://pola-magazin.de/veranstaltung/familienkonzert-bilder-einer-ausstellung/
LOCATION:Nikolaisaal Potsdam\, Wilhelm-Staab-Str. 10/11\, Potsdam\, 14467
CATEGORIES:Konzert, Musik & Musical
ORGANIZER;CN="Musikfestspiele Sanssouci und Nikolaisaal Potsdam gGmbH":MAILTO:service@nikolaisaal.de
END:VEVENT
BEGIN:VEVENT
DTSTART;TZID=Europe/Berlin:20221225T160000
DTEND;TZID=Europe/Berlin:20221225T160000
DTSTAMP:20260423T182011
CREATED:20221109T101645Z
LAST-MODIFIED:20221109T101645Z
UID:10002201-1671984000-1671984000@pola-magazin.de
SUMMARY:Feiertagskonzert: Nikolai Gogol: „Die Nacht vor Weihnachten“
DESCRIPTION:Eine stimmungsvolle Konzertlesung mit Musik von Peter I. Tschaikowsky und Nikolai Rimsky Korsakow \nIn der Nacht vor Weihnachten soll nach russischem Volksglauben der Teufel eine besondere Macht über die Menschen ausüben: Er erfüllt geheime Wünsche\, fordert aber zugleich ihre Seelen. Diesmal hat er es auf den Schmied Wakula abgesehen\, mit dem er noch eine Rechnung offen hat. Wakula möchte die schöne Oxana erobern\, doch sie verlangt einen unerhörten Preis: Die Pantoffeln der Zarin! Für den Teufel scheint die Stunde gekommen … Nikolai Gogols märchenhaft-fantastische Erzählung\, gelesen vom beliebten HOT-Schauspieler Joachim Berger\, wurde gleich zweimal für die Opernbühne adaptiert. Auszüge aus der selten zu hörenden Musik von Peter Tschaikowsky und Nikolai Rimsky Korsakow ergänzen diesen Familiennachmittag. \nEmpfohlen für Kinder ab 9 Jahren
URL:https://pola-magazin.de/veranstaltung/feiertagskonzert-nikolai-gogol-die-nacht-vor-weihnachten/
LOCATION:Nikolaisaal Potsdam\, Wilhelm-Staab-Str. 10/11\, Potsdam\, 14467
CATEGORIES:Konzert, Musik & Musical
ORGANIZER;CN="Musikfestspiele Sanssouci und Nikolaisaal Potsdam gGmbH":MAILTO:service@nikolaisaal.de
END:VEVENT
END:VCALENDAR