BEGIN:VCALENDAR
VERSION:2.0
PRODID:-//‍‍‍ POLA I Entdecke das Familienmagazin für Eltern und Kind - ECPv6.15.20//NONSGML v1.0//EN
CALSCALE:GREGORIAN
METHOD:PUBLISH
X-WR-CALNAME:‍‍‍ POLA I Entdecke das Familienmagazin für Eltern und Kind
X-ORIGINAL-URL:https://pola-magazin.de
X-WR-CALDESC:Veranstaltungen für ‍‍‍ POLA I Entdecke das Familienmagazin für Eltern und Kind
REFRESH-INTERVAL;VALUE=DURATION:PT1H
X-Robots-Tag:noindex
X-PUBLISHED-TTL:PT1H
BEGIN:VTIMEZONE
TZID:Europe/Berlin
BEGIN:DAYLIGHT
TZOFFSETFROM:+0100
TZOFFSETTO:+0200
TZNAME:CEST
DTSTART:20250330T010000
END:DAYLIGHT
BEGIN:STANDARD
TZOFFSETFROM:+0200
TZOFFSETTO:+0100
TZNAME:CET
DTSTART:20251026T010000
END:STANDARD
BEGIN:DAYLIGHT
TZOFFSETFROM:+0100
TZOFFSETTO:+0200
TZNAME:CEST
DTSTART:20260329T010000
END:DAYLIGHT
BEGIN:STANDARD
TZOFFSETFROM:+0200
TZOFFSETTO:+0100
TZNAME:CET
DTSTART:20261025T010000
END:STANDARD
BEGIN:DAYLIGHT
TZOFFSETFROM:+0100
TZOFFSETTO:+0200
TZNAME:CEST
DTSTART:20270328T010000
END:DAYLIGHT
BEGIN:STANDARD
TZOFFSETFROM:+0200
TZOFFSETTO:+0100
TZNAME:CET
DTSTART:20271031T010000
END:STANDARD
END:VTIMEZONE
BEGIN:VEVENT
DTSTART;TZID=Europe/Berlin:20260530T140000
DTEND;TZID=Europe/Berlin:20260530T180000
DTSTAMP:20260422T165838
CREATED:20260413T103822Z
LAST-MODIFIED:20260413T103822Z
UID:10006387-1780149600-1780164000@pola-magazin.de
SUMMARY:Familienfestival Kinderkonzert mit herrH
DESCRIPTION:Das KinderMitmachKonzert für die ganze Familie – mit herrH! \nAm 30. Mai 2026 verwandelt sich der Lustgarten Potsdam in ein riesiges\, buntes Familienparadies – voller Musik\, Bewegung\, Mitmachaktionen und strahlender Kinderaugen! \nWir feiern unser großes Familienfestival unter freiem Himmel – und ihr seid mittendrin! \nSpecial: herrH live auf unserer Festivalbühne! \nEr ist der Soundtrack vieler Familien – jetzt kommt er nach Potsdam! \nherrH\, der Mann hinter „Neue Deutsche Kindermusik“\, lässt kleine und große Herzen gleichermaßen höher schlagen. Wenn Kinder und Eltern gemeinsam hüpfen\, lachen\, tanzen\, mitsingen und der ganze Lustgarten bebt\, dann ist klar: \nDas KinderMitmachKonzert macht richtig Alarm – und zwar im allerbesten Sinne! \nMit Hits wie „Emma\, die Ente“\, „Raffi\, die Giraffe“ oder „Ich bin ein Pinguin“ entsteht ein echtes XXL-Familienkonzert mit Wow-Faktor – viel Bewegung\, viel Nähe\, viel Herz. Ein Konzert\, bei dem auch Eltern kurz wieder Kind sein dürfen. \nTickets
URL:https://pola-magazin.de/veranstaltung/familienfestival-kinderkonzert-mit-herrh/
LOCATION:Neuer Lustgarten\, Henning-von-Tresckow-Straße 13\, Potsdam\, 14467
CATEGORIES:Familienfest,Konzert, Musik & Musical,Party & Disco für Kids
END:VEVENT
END:VCALENDAR