BEGIN:VCALENDAR
VERSION:2.0
PRODID:-//‍‍‍ POLA I Entdecke das Familienmagazin für Eltern und Kind - ECPv6.15.20//NONSGML v1.0//EN
CALSCALE:GREGORIAN
METHOD:PUBLISH
X-ORIGINAL-URL:https://pola-magazin.de
X-WR-CALDESC:Veranstaltungen für ‍‍‍ POLA I Entdecke das Familienmagazin für Eltern und Kind
REFRESH-INTERVAL;VALUE=DURATION:PT1H
X-Robots-Tag:noindex
X-PUBLISHED-TTL:PT1H
BEGIN:VTIMEZONE
TZID:Europe/Berlin
BEGIN:DAYLIGHT
TZOFFSETFROM:+0100
TZOFFSETTO:+0200
TZNAME:CEST
DTSTART:20240331T010000
END:DAYLIGHT
BEGIN:STANDARD
TZOFFSETFROM:+0200
TZOFFSETTO:+0100
TZNAME:CET
DTSTART:20241027T010000
END:STANDARD
BEGIN:DAYLIGHT
TZOFFSETFROM:+0100
TZOFFSETTO:+0200
TZNAME:CEST
DTSTART:20250330T010000
END:DAYLIGHT
BEGIN:STANDARD
TZOFFSETFROM:+0200
TZOFFSETTO:+0100
TZNAME:CET
DTSTART:20251026T010000
END:STANDARD
BEGIN:DAYLIGHT
TZOFFSETFROM:+0100
TZOFFSETTO:+0200
TZNAME:CEST
DTSTART:20260329T010000
END:DAYLIGHT
BEGIN:STANDARD
TZOFFSETFROM:+0200
TZOFFSETTO:+0100
TZNAME:CET
DTSTART:20261025T010000
END:STANDARD
END:VTIMEZONE
BEGIN:VEVENT
DTSTART;TZID=Europe/Berlin:20250518T140000
DTEND;TZID=Europe/Berlin:20250518T170000
DTSTAMP:20260421T054411
CREATED:20250307T085456Z
LAST-MODIFIED:20250307T172027Z
UID:10004400-1747576800-1747587600@pola-magazin.de
SUMMARY:Familiennachmittag am Jagdschloss
DESCRIPTION:Ein Nachmittag am Schloss mit Spielangeboten für Kinder\nDas Jagdschloss ist geöffnet für Besucher*innen\, ebenso die Ausstellungen im Schafstall\nImker\, Schäfer und Bäcker zeigen ihr Handwerk\nKaffee und selbstgebackener Kuchen im Kastellanhausgarten\nLeckeres aus dem historischen Backofen\n\nEintritt frei\, Spenden erbeten \n 
URL:https://pola-magazin.de/veranstaltung/familiennachmittag-am-jagdschloss/
LOCATION:Jagdschloss Stern\, Jagdhausstraße 32\, Potsdam\, 14480\, Deutschland
CATEGORIES:Ausstellung & Museum,Familienfest
END:VEVENT
END:VCALENDAR