BEGIN:VCALENDAR
VERSION:2.0
PRODID:-//‍‍‍ POLA I Entdecke das Familienmagazin für Eltern und Kind - ECPv6.15.20//NONSGML v1.0//EN
CALSCALE:GREGORIAN
METHOD:PUBLISH
X-ORIGINAL-URL:https://pola-magazin.de
X-WR-CALDESC:Veranstaltungen für ‍‍‍ POLA I Entdecke das Familienmagazin für Eltern und Kind
REFRESH-INTERVAL;VALUE=DURATION:PT1H
X-Robots-Tag:noindex
X-PUBLISHED-TTL:PT1H
BEGIN:VTIMEZONE
TZID:Europe/Berlin
BEGIN:DAYLIGHT
TZOFFSETFROM:+0100
TZOFFSETTO:+0200
TZNAME:CEST
DTSTART:20240331T010000
END:DAYLIGHT
BEGIN:STANDARD
TZOFFSETFROM:+0200
TZOFFSETTO:+0100
TZNAME:CET
DTSTART:20241027T010000
END:STANDARD
BEGIN:DAYLIGHT
TZOFFSETFROM:+0100
TZOFFSETTO:+0200
TZNAME:CEST
DTSTART:20250330T010000
END:DAYLIGHT
BEGIN:STANDARD
TZOFFSETFROM:+0200
TZOFFSETTO:+0100
TZNAME:CET
DTSTART:20251026T010000
END:STANDARD
BEGIN:DAYLIGHT
TZOFFSETFROM:+0100
TZOFFSETTO:+0200
TZNAME:CEST
DTSTART:20260329T010000
END:DAYLIGHT
BEGIN:STANDARD
TZOFFSETFROM:+0200
TZOFFSETTO:+0100
TZNAME:CET
DTSTART:20261025T010000
END:STANDARD
END:VTIMEZONE
BEGIN:VEVENT
DTSTART;TZID=Europe/Berlin:20251005T163000
DTEND;TZID=Europe/Berlin:20251005T163000
DTSTAMP:20260424T115552
CREATED:20240822T140717Z
LAST-MODIFIED:20250902T123708Z
UID:10003809-1759681800-1759681800@pola-magazin.de
SUMMARY:Professor(a) Bummbastic "KNALLEGRA" - Die interaktive Wissenschaftsshow
DESCRIPTION:«KNALLEGRA» ist eine spektakuläre\, lehrreiche und witzige Wissenschaftsshow für die ganze Familie. Umrahmt werden die Experimente aus Physik und Chemie mit ästhetischen Showeinlagen und das Publikum erlebt\, wie unterhaltsam Naturwissenschaft sein kann. \nDurch die Show führen Profesor(a) Bummbastic und ein Assistent\, ein humanoider Roboter\, der spätestens dann das Herz der Kinder erobert\, wenn er anfängt zu singen und zu tanzen. \n13 & 16:30 Uhr \n\n\n→ Tickets \n\nDiese Veranstaltung ist barrierefrei zugänglich \nFoto: Hotz’n’plotz Entertainment
URL:https://pola-magazin.de/veranstaltung/professor-bummbastic-knallegra-die-interaktive-wissenschaftsshow/2025-10-05/2/
LOCATION:Waschhaus Potsdam\, Schiffbauergasse 6\, Potsdam\, 14467
CATEGORIES:Wissen & Forschen
ATTACH;FMTTYPE=image/jpeg:https://pola-magazin.de/wp-content/uploads/2024/08/prof-bummbastic-potsdam-show-c-hotznplotz-entertainment.jpg
END:VEVENT
BEGIN:VEVENT
DTSTART;TZID=Europe/Berlin:20251005T130000
DTEND;TZID=Europe/Berlin:20251005T130000
DTSTAMP:20260424T115552
CREATED:20240822T140717Z
LAST-MODIFIED:20250902T123708Z
UID:10005036-1759669200-1759669200@pola-magazin.de
SUMMARY:Professor(a) Bummbastic "KNALLEGRA" - Die interaktive Wissenschaftsshow
DESCRIPTION:«KNALLEGRA» ist eine spektakuläre\, lehrreiche und witzige Wissenschaftsshow für die ganze Familie. Umrahmt werden die Experimente aus Physik und Chemie mit ästhetischen Showeinlagen und das Publikum erlebt\, wie unterhaltsam Naturwissenschaft sein kann. \nDurch die Show führen Profesor(a) Bummbastic und ein Assistent\, ein humanoider Roboter\, der spätestens dann das Herz der Kinder erobert\, wenn er anfängt zu singen und zu tanzen. \n13 & 16:30 Uhr \n\n\n→ Tickets \n\nDiese Veranstaltung ist barrierefrei zugänglich \nFoto: Hotz’n’plotz Entertainment
URL:https://pola-magazin.de/veranstaltung/professor-bummbastic-knallegra-die-interaktive-wissenschaftsshow/2025-10-05/1/
LOCATION:Waschhaus Potsdam\, Schiffbauergasse 6\, Potsdam\, 14467
CATEGORIES:Wissen & Forschen
ATTACH;FMTTYPE=image/jpeg:https://pola-magazin.de/wp-content/uploads/2024/08/prof-bummbastic-potsdam-show-c-hotznplotz-entertainment.jpg
END:VEVENT
END:VCALENDAR