BEGIN:VCALENDAR
VERSION:2.0
PRODID:-//‍‍‍ POLA I Entdecke das Familienmagazin für Eltern und Kind - ECPv6.15.20//NONSGML v1.0//EN
CALSCALE:GREGORIAN
METHOD:PUBLISH
X-WR-CALNAME:‍‍‍ POLA I Entdecke das Familienmagazin für Eltern und Kind
X-ORIGINAL-URL:https://pola-magazin.de
X-WR-CALDESC:Veranstaltungen für ‍‍‍ POLA I Entdecke das Familienmagazin für Eltern und Kind
REFRESH-INTERVAL;VALUE=DURATION:PT1H
X-Robots-Tag:noindex
X-PUBLISHED-TTL:PT1H
BEGIN:VTIMEZONE
TZID:Europe/Berlin
BEGIN:DAYLIGHT
TZOFFSETFROM:+0100
TZOFFSETTO:+0200
TZNAME:CEST
DTSTART:20250330T010000
END:DAYLIGHT
BEGIN:STANDARD
TZOFFSETFROM:+0200
TZOFFSETTO:+0100
TZNAME:CET
DTSTART:20251026T010000
END:STANDARD
BEGIN:DAYLIGHT
TZOFFSETFROM:+0100
TZOFFSETTO:+0200
TZNAME:CEST
DTSTART:20260329T010000
END:DAYLIGHT
BEGIN:STANDARD
TZOFFSETFROM:+0200
TZOFFSETTO:+0100
TZNAME:CET
DTSTART:20261025T010000
END:STANDARD
BEGIN:DAYLIGHT
TZOFFSETFROM:+0100
TZOFFSETTO:+0200
TZNAME:CEST
DTSTART:20270328T010000
END:DAYLIGHT
BEGIN:STANDARD
TZOFFSETFROM:+0200
TZOFFSETTO:+0100
TZNAME:CET
DTSTART:20271031T010000
END:STANDARD
END:VTIMEZONE
BEGIN:VEVENT
DTSTART;TZID=Europe/Berlin:20260509T180000
DTEND;TZID=Europe/Berlin:20260509T230000
DTSTAMP:20260423T205324
CREATED:20260423T121332Z
LAST-MODIFIED:20260423T121332Z
UID:10007269-1778349600-1778367600@pola-magazin.de
SUMMARY:Lange Nacht der Gospelchöre
DESCRIPTION:Von Sonnenuntergang bis tief in die Nacht: Musik für die Seele bis in die Fußspitzen.\nIn der Langen Nacht der Gospelchöre am 9. Mai wird die Inselkirche von kraftvollen und leisen Gospelklängen erfüllt\, die bis tief in die Nacht hinein nachhallen. Verschiedene Chöre gestalten jeweils ein halbstündiges Programm auf ganz eigene musikalische Weise. Zum Abschluss vereinen sich alle Stimmen in einem Friedenssong.\nEintritt: 15\,- €\, Kinder bis 8 Jahre freier Eintritt / Vorbestellungen unter 0171/4071517
URL:https://pola-magazin.de/veranstaltung/lange-nacht-der-gospelchoere/
LOCATION:Inselkirche Hermannswerder\, Potsdam\, 14473
CATEGORIES:Konzert, Musik & Musical
END:VEVENT
BEGIN:VEVENT
DTSTART;TZID=Europe/Berlin:20260521T183000
DTEND;TZID=Europe/Berlin:20260521T183000
DTSTAMP:20260423T205324
CREATED:20260423T121218Z
LAST-MODIFIED:20260423T121218Z
UID:10007275-1779388200-1779388200@pola-magazin.de
SUMMARY:Die Damen mit dem grünen Daumen – poetische Lesung im Grünen
DESCRIPTION:Die renommierte Kulturjournalistin Christa Hasselhorst erzählt einfühlsam von faszinierenden Frauen und ihrer Leidenschaft für Gärten und Gartenkultur. Mit journalistischer Expertise und lebendiger Erzählkunst spürt sie den verborgenen Geschichten hinter Hecken\, Rosen und alten Parkanlagen nach. Lassen Sie sich unter freiem Himmel verzaubern – und begegnen Sie der Autorin im Anschluss bei einer persönlichen Signierstunde.\nHenny Lisanne Hoffmann wird diesen Abend musikalisch mit Flötenklängen untermalen.\nEine Veranstaltung im Rahmen der Hermannswerderaner Abende im Garten des Evangelischen Gymnasiums Hermannswerder.
URL:https://pola-magazin.de/veranstaltung/die-damen-mit-dem-gruenen-daumen-poetische-lesung-im-gruenen/
LOCATION:Insel Hermannswerder\, Potsdam\, 14473
CATEGORIES:Eintritt frei,Märchen & Geschichten,Natur, Pflanzen & Tiere
END:VEVENT
BEGIN:VEVENT
DTSTART;TZID=Europe/Berlin:20260629T083000
DTEND;TZID=Europe/Berlin:20260703T170000
DTSTAMP:20260423T205324
CREATED:20260413T122149Z
LAST-MODIFIED:20260413T122149Z
UID:10006398-1782721800-1783098000@pola-magazin.de
SUMMARY:Wasserwoche auf Hermannswerder
DESCRIPTION:Am Evangelischen Gymnasium Hermannswerder findet auch in diesem Jahr wieder die Wasserwoche Hermannswerder statt. Vom 29.06. bis 03.07.2026 gibt es wieder spannende Mitmachangebote für Schüler*innen ab der 3. Klasse\, Jugendliche\, Erwachsene und Familien rund um das Thema “Wasser”.\nVormittags können Grundschüler*innen von Klasse 3 bis 5 das Wasser erkunden: Im „Acqua Lab“ geht es um naturwissenschaftliche Experimente und Feldforschungen. Im „Lingua Lab” um die Sprachen Englisch\, Französisch\, Latein und Griechisch. Und im „Musalab” darum\, sich künstlerisch\, musikalisch und in Form von Theater mit dem Wasser auseinanderzusetzen. Die Anmeldung zu den Vormittags-Veranstaltungen für die Schulklassen 3 − 5 erfolgt über das Evangelische Gymnasium: gymnasium-hermannswerder@hoffbauer-bildung.de\nNachmittags finden ausgerichtet vom Wasser- und Sport-Zentrum Hermannswerder weitere Workshops und Vorträge statt\, die sich auch an Jugendliche und Erwachsene richten.
URL:https://pola-magazin.de/veranstaltung/wasserwoche-auf-hermannswerder/
LOCATION:Insel Hermannswerder\, Potsdam\, 14473
CATEGORIES:Eintritt frei,Kreatives & Workshops
END:VEVENT
END:VCALENDAR