BEGIN:VCALENDAR
VERSION:2.0
PRODID:-//‍‍‍ POLA I Entdecke das Familienmagazin für Eltern und Kind - ECPv6.15.20//NONSGML v1.0//EN
CALSCALE:GREGORIAN
METHOD:PUBLISH
X-ORIGINAL-URL:https://pola-magazin.de
X-WR-CALDESC:Veranstaltungen für ‍‍‍ POLA I Entdecke das Familienmagazin für Eltern und Kind
REFRESH-INTERVAL;VALUE=DURATION:PT1H
X-Robots-Tag:noindex
X-PUBLISHED-TTL:PT1H
BEGIN:VTIMEZONE
TZID:Europe/Berlin
BEGIN:DAYLIGHT
TZOFFSETFROM:+0100
TZOFFSETTO:+0200
TZNAME:CEST
DTSTART:20230326T010000
END:DAYLIGHT
BEGIN:STANDARD
TZOFFSETFROM:+0200
TZOFFSETTO:+0100
TZNAME:CET
DTSTART:20231029T010000
END:STANDARD
BEGIN:DAYLIGHT
TZOFFSETFROM:+0100
TZOFFSETTO:+0200
TZNAME:CEST
DTSTART:20240331T010000
END:DAYLIGHT
BEGIN:STANDARD
TZOFFSETFROM:+0200
TZOFFSETTO:+0100
TZNAME:CET
DTSTART:20241027T010000
END:STANDARD
BEGIN:DAYLIGHT
TZOFFSETFROM:+0100
TZOFFSETTO:+0200
TZNAME:CEST
DTSTART:20250330T010000
END:DAYLIGHT
BEGIN:STANDARD
TZOFFSETFROM:+0200
TZOFFSETTO:+0100
TZNAME:CET
DTSTART:20251026T010000
END:STANDARD
BEGIN:DAYLIGHT
TZOFFSETFROM:+0100
TZOFFSETTO:+0200
TZNAME:CEST
DTSTART:20260329T010000
END:DAYLIGHT
BEGIN:STANDARD
TZOFFSETFROM:+0200
TZOFFSETTO:+0100
TZNAME:CET
DTSTART:20261025T010000
END:STANDARD
BEGIN:DAYLIGHT
TZOFFSETFROM:+0100
TZOFFSETTO:+0200
TZNAME:CEST
DTSTART:20270328T010000
END:DAYLIGHT
BEGIN:STANDARD
TZOFFSETFROM:+0200
TZOFFSETTO:+0100
TZNAME:CET
DTSTART:20271031T010000
END:STANDARD
END:VTIMEZONE
BEGIN:VEVENT
DTSTART;TZID=Europe/Berlin:20260213T200000
DTEND;TZID=Europe/Berlin:20260213T200000
DTSTAMP:20260425T184248
CREATED:20260112T162412Z
LAST-MODIFIED:20260112T162412Z
UID:10005655-1771012800-1771012800@pola-magazin.de
SUMMARY:Azubi-Party 2026 im Parkdeck! (auch für Schüler:innen)
DESCRIPTION:Lust mal wieder richtig abzufeiern? Dann komm zur Azubi-Party 2026 mit den besten Beats. \nDu bist Azubi oder Schüler*in und hast Lust auf gute Leute und tanzbare Musik? Dann sei dabei\, egal aus welchem Ausbildungsberuf oder aus welcher Schule. Packt eure Leute ein und sichert euch Karten! Der Vorverkauf hat bereits begonnen. Eine Veranstaltung der Hoffbauer-Stiftung in Kooperation mit dem Parkdeck Potsdam. Mit dabei sind unter anderem die Azubis des Gesundheitscampus Potsdam und der Beruflichen Schulen Hermannswerder. \nEintritt: 6 € (Vorverkauf)/8 € (Abendkasse)
URL:https://pola-magazin.de/veranstaltung/azubi-party-2026-im-parkdeck-auch-fuer-schuelerinnen/
LOCATION:Parkdeck Eventlocation\, Großbeerenstraße 125-135\, Potsdam\, 14482
CATEGORIES:Party & Disco für Kids
END:VEVENT
BEGIN:VEVENT
DTSTART;TZID=Europe/Berlin:20251207T140000
DTEND;TZID=Europe/Berlin:20251207T180000
DTSTAMP:20260425T184248
CREATED:20231108T135034Z
LAST-MODIFIED:20251105T121416Z
UID:10002952-1765116000-1765130400@pola-magazin.de
SUMMARY:Adventsmarkt Hermannswerder
DESCRIPTION:Auf der Insel Hermannswerder\, fern vom vorweihnachtlichen Trubel und doch mitten in Potsdam\, zeigt sich der Advent von seiner besinnlichen Seite. Am 7. Dezember lädt die Hoffbauer-Stiftung wieder zum beliebten Adventsmarkt ein. Der stimmungsvolle Markt beginnt mit dem musikalischen Gottesdienst um 14:00 Uhr in der kerzenbeleuchteten Inselkirche. Zum gemeinsamen Singen treffen sich Jung und Alt um 16:00 Uhr am Feuer. Und um 17:30 Uhr laden die Chöre des Evangelischen Gymnasiums Hermannswerder zum Konzert in die Kirche ein.
URL:https://pola-magazin.de/veranstaltung/adventsmarkt-hermannswerder/
LOCATION:Insel Hermannswerder\, Potsdam\, 14473
CATEGORIES:Eintritt frei,Weihnachtsmarkt
ATTACH;FMTTYPE=image/jpeg:https://pola-magazin.de/wp-content/uploads/2023/11/Adventsmarkt-Hermannswerder.jpg
END:VEVENT
BEGIN:VEVENT
DTSTART;TZID=Europe/Berlin:20251108T100000
DTEND;TZID=Europe/Berlin:20251108T130000
DTSTAMP:20260425T184248
CREATED:20250922T084237Z
LAST-MODIFIED:20250922T084237Z
UID:10005169-1762596000-1762606800@pola-magazin.de
SUMMARY:Tag der offenen Tür: Evangelische Grundschule Babelsberg
DESCRIPTION:Willkommen zum Tag der offenen Tür! Heute können Sie mit Ihren Kindern unsere Schule\, die Lehrkräfte und alle Angebote genauer kennenlernen. \nMehr über die Evangelische Grundschule Babelsberg erfahren
URL:https://pola-magazin.de/veranstaltung/tag-der-offenen-tuer-evangelische-grundschule-babelsberg/
CATEGORIES:Tag der offenen Tür
ATTACH;FMTTYPE=image/jpeg:https://pola-magazin.de/wp-content/uploads/2025/09/tag-der-offenen-tuer-hoffbauer.jpg
END:VEVENT
BEGIN:VEVENT
DTSTART;TZID=Europe/Berlin:20251011T100000
DTEND;TZID=Europe/Berlin:20251011T130000
DTSTAMP:20260425T184248
CREATED:20250922T083730Z
LAST-MODIFIED:20250922T083730Z
UID:10005168-1760176800-1760187600@pola-magazin.de
SUMMARY:Tag der offenen Tür: Evangelische Grundschule Potsdam
DESCRIPTION:Wir freuen uns\, Sie am 11. Oktober auf dem Gelände des Gelben Hauses begrüßen zu dürfen. Auf dem Freigelände informieren wir Sie an Info-Ständen zu zentralen pädagogischen Themen. Lehrkräfte\, Ganztagspädagoginnen und -pädagogen und auch Eltern stehen Ihnen als Gesprächspartner zur Verfügung. \nUnsere Informationsveranstaltungen im Blauen Haus finden um 10:15 Uhr\, 11.15 Uhr und 12:15 Uhr statt. \nEs ist möglich\, einige Unterrichtsräume im „Gelben Haus“\, dem Schulgebäude der jahrgangsgemischten Klassen 1 bis 3\, zu besichtigen. \nIm Anmeldebüro im Blauen Haus können Sie Ihr Kind anmelden oder diesbezügliche Fragen stellen. \nWir bieten ein Eltern-Café an. Auch der Evangelische Schulverein und unser Unterstützungsprojekt „Rubinas 400Kinder e.V.“ sowie die Musikschule Bertheau & Morgenstern werden mit Ständen präsent sein. \nACHTUNG: Anmeldungen für das Schuljahr 2026/2027 nehmen wir bis zum 15. Dezember entgegen. \nWir freuen uns auf Sie! \nMehr über die Evangelische Grundschule Potsdam erfahren
URL:https://pola-magazin.de/veranstaltung/tag-der-offenen-tuer-evangelische-grundschule-potsdam/
CATEGORIES:Tag der offenen Tür
ATTACH;FMTTYPE=image/jpeg:https://pola-magazin.de/wp-content/uploads/2025/09/tag-der-offenen-tuer-hoffbauer.jpg
END:VEVENT
BEGIN:VEVENT
DTSTART;TZID=Europe/Berlin:20250114T190000
DTEND;TZID=Europe/Berlin:20250114T200000
DTSTAMP:20260425T184248
CREATED:20241121T111729Z
LAST-MODIFIED:20241121T111920Z
UID:10004181-1736881200-1736884800@pola-magazin.de
SUMMARY:Evangelisches Gymnasium Hermannswerder: Informationsabend für Eltern (Ü5\, Ü7\, Quereinstieg)
DESCRIPTION:An diesem Abend wird die Schule durch den Schulleiter und ein Pädagogenteam des Evangelischen Gymnasiums vorgestellt. In einer Präsentation erhalten Sie wichtige Informationen zur Einrichtung\, wie z.B. über das Leitbild\, das Profil\, verschiedene Konzepte und die Aufnahme am Ev. Gymnasium Hermannswerder. Anschließend besteht die Möglichkeit allgemeine und individuelle Fragen zu stellen. → mehr erfahren \nOrt: Ev. Gymnasium Hermannswerder | Hermannswerder 18 | 14473 Potsdam
URL:https://pola-magazin.de/veranstaltung/evangelisches-gymnasium-hermannswerder-informationsabend-fuer-eltern-ue5-ue7-quereinstieg/
LOCATION:Insel Hermannswerder\, Potsdam\, 14473
CATEGORIES:Für Eltern,Tag der offenen Tür
ATTACH;FMTTYPE=image/jpeg:https://pola-magazin.de/wp-content/uploads/2023/11/gymnasium-hermannswerder-ue7.jpg
END:VEVENT
BEGIN:VEVENT
DTSTART;TZID=Europe/Berlin:20241221T180000
DTEND;TZID=Europe/Berlin:20241221T180000
DTSTAMP:20260425T184248
CREATED:20241210T112413Z
LAST-MODIFIED:20241210T112635Z
UID:10004189-1734804000-1734804000@pola-magazin.de
SUMMARY:Do You Hear What I Hear? Weihnachtskonzert mit Popchor und Band
DESCRIPTION:Ein vorweihnachtlicher Abend voller Musik mit dem 25-köpfigen Popchor\, begleitet von Bass\, Schlagzeug und eigenen Solisten! Lassen Sie sich mit dem Programm auf Weihnachten einstimmen\, das von Michael Jackson bis Gershwin reicht – von modernen Klassikern wie “All Around the World Tonight” bis zu festlichen Liedern wie “Do You Hear What I Hear”. \nFreuen Sie sich auf eine stimmungsvolle Atmosphäre! Und das Schönste: Sie sind herzlich eingeladen\, bei ausgewählten Stücken mitzusingen.\nLeitung: Kantorin Christina Schütz \nEintritt frei \n→ mehr erfahren
URL:https://pola-magazin.de/veranstaltung/weihnachtskonzert-hermannswerder-popchor/
LOCATION:Inselkirche Hermannswerder\, Potsdam\, 14473
CATEGORIES:Eintritt frei,Konzert, Musik & Musical
ATTACH;FMTTYPE=image/jpeg:https://pola-magazin.de/wp-content/uploads/2024/12/weihnachtskonzert-inselkirche-hermannswerder-hoffbauer.jpg
END:VEVENT
BEGIN:VEVENT
DTSTART;TZID=Europe/Berlin:20241208T173000
DTEND;TZID=Europe/Berlin:20241208T190000
DTSTAMP:20260425T184248
CREATED:20241121T111243Z
LAST-MODIFIED:20241121T112858Z
UID:10004180-1733679000-1733684400@pola-magazin.de
SUMMARY:Weihnachtsoratorium
DESCRIPTION:Die in unseren Breiten wohl bekannteste und beliebteste Vertonung der Weihnachtgeschichte nach dem Evangelisten Lukas hat Johann Sebastian Bach uns hinterlassen. \nAm 2. Advent führen namhafte Solisten\, die Junge Kantorei Hermannswerder und die Camerata Vocale Potsdam ungekürzt die Kantaten I+V+VI aus dem Weihnachtsoratorium von Bach in der Inselkirche Hermannswerder auf. Die Leitung hat Matthias Salge. Tickets gibt es im Sekretariat des Ev. Gymnasiums Hermannswerder. \nEintritt: 18\,-€ / 12\,-€ ermäßigt \nTipp: Tagsüber findet von 14-18 Uhr der Adventsmarkt auf Hermannswerder statt!
URL:https://pola-magazin.de/veranstaltung/weihnachtsoratorium/
LOCATION:Inselkirche Hermannswerder\, Potsdam\, 14473
CATEGORIES:Konzert, Musik & Musical
ATTACH;FMTTYPE=image/jpeg:https://pola-magazin.de/wp-content/uploads/2023/11/Weihnachtsoratorium-hoffbauer-hermannswerder.jpg
END:VEVENT
BEGIN:VEVENT
DTSTART;TZID=Europe/Berlin:20241207T170000
DTEND;TZID=Europe/Berlin:20241207T170000
DTSTAMP:20260425T184248
CREATED:20241121T113206Z
LAST-MODIFIED:20241121T113206Z
UID:10004182-1733590800-1733590800@pola-magazin.de
SUMMARY:Weihnachtsoratorium für Kinder
DESCRIPTION:Die Figurenspielerin Adeline Rüss gestaltet eine besondere Aufführung für Kinder und Erwachsene zusammen mit den Chören des Evangelischen Gymnasiums und dem Orchester der Potsdamer Orchesterwoche. Dabei bearbeitete Adeline Rüss die Textfassung von Kaspar von Erffa für das Figurentheater. Kleine und große Zuschauer und Zuschauerinnen dürfen sich auf eine spannende Aufführung mit vielen Überraschungen freuen. \n→ mehr erfahren \nEintritt frei!
URL:https://pola-magazin.de/veranstaltung/weihnachtsoratorium-fuer-kinder/
LOCATION:Inselkirche Hermannswerder\, Potsdam\, 14473
CATEGORIES:Eintritt frei,Konzert, Musik & Musical
ATTACH;FMTTYPE=image/jpeg:https://pola-magazin.de/wp-content/uploads/2024/11/Weihnachtsoratorium-kinder-hoffbauer-hermannswerder.jpg
END:VEVENT
BEGIN:VEVENT
DTSTART;TZID=Europe/Berlin:20241109T100000
DTEND;TZID=Europe/Berlin:20241109T130000
DTSTAMP:20260425T184248
CREATED:20240926T133730Z
LAST-MODIFIED:20240926T133730Z
UID:10003969-1731146400-1731157200@pola-magazin.de
SUMMARY:Tag der offenen Tür in der Evangelischen Grundschule Babelsberg
DESCRIPTION:Das Team der Evangelischen Grundschule Babelsberg Potsdam lädt alle interessierten Kinder und Eltern herzlich zum Tag der offenen Tür am Samstag\, den 9. November von 10 bis 13 Uhr ein! \nLehrkräfte und Pädagog*innen freuen sich auf neugierige Fragen und führen durch die Schule. Die Evangelische Grundschule Babelsberg ist eine öffentliche Schule in Trägerschaft der Hoffbauer gGmbH Potsdam. Sie bietet u.a. Unterricht in jahrgangsgemischten Klassen an. Mehr hierzu und zu weiteren pädagogischen Themen sowie dem Konzept und Leitbild der Schule erfahren Sie vor Ort. Kommen Sie vorbei! Wir freuen uns auf Sie! \nOrt: Evangelische Grundschule Babelsberg\, Rudolf-Breitscheid-Straße 21\, 14482 Potsdam \nDatum: Samstag\, 9. November\nUhrzeit: 10 – 13 Uhr \nEintritt: frei
URL:https://pola-magazin.de/veranstaltung/tag-der-offenen-tuer-in-der-evangelischen-grundschule-babelsberg/
CATEGORIES:Für Eltern
ATTACH;FMTTYPE=image/jpeg:https://pola-magazin.de/wp-content/uploads/2024/09/evangelische-grundschule-babelsberg-tag-der-offenen-tuer.jpg
END:VEVENT
BEGIN:VEVENT
DTSTART;TZID=Europe/Berlin:20241012T100000
DTEND;TZID=Europe/Berlin:20241012T130000
DTSTAMP:20260425T184248
CREATED:20240926T133359Z
LAST-MODIFIED:20240926T133359Z
UID:10003968-1728727200-1728738000@pola-magazin.de
SUMMARY:Tag der offenen Tür in der Evangelischen Grundschule Potsdam
DESCRIPTION:Das Team der Evangelischen Grundschule Potsdam lädt alle interessierten Kinder und Eltern herzlich zum Tag der offenen Tür am Samstag\, den 12. Oktober von 10 bis 13 Uhr ein! \nAn Ständen gibt es Informationen zu zentralen pädagogischen Themen. Lehrkräfte\, Pädagog*innen und auch Eltern stehen für Fragen zur Verfügung. Informationsveranstaltungen finden um 10:15 Uhr\, 11:15 Uhr und 12:15 Uhr statt. Unterrichtsräume sind geöffnet und im Eltern-Café ist Zeit und Raum für Begegnung und Austausch. \nDie Evangelische Grundschule Potsdam ist eine öffentliche Schule in Trägerschaft der Hoffbauer gGmbH Potsdam. Sie ist zweizügig\, bietet jahrgangsübergreifendes Lernen an und hat einen musisch-künstlerischen Schwerpunkt. \nOrt: Evangelische Grundschule Potsdam\, Große Weinmeisterstraße 18\, 14469 Potsdam \nDatum: Samstag\, 12. Oktober\nUhrzeit: 10 – 13 Uhr \nEintritt: frei
URL:https://pola-magazin.de/veranstaltung/tag-der-offenen-tuer-in-der-evangelischen-grundschule-potsdam/
CATEGORIES:Für Eltern
ATTACH;FMTTYPE=image/jpeg:https://pola-magazin.de/wp-content/uploads/2024/09/evangelische-Grundschule-Potsdam-tag-der-offenen-tuer.jpg
END:VEVENT
BEGIN:VEVENT
DTSTART;TZID=Europe/Berlin:20240914T120000
DTEND;TZID=Europe/Berlin:20240914T180000
DTSTAMP:20260425T184248
CREATED:20240909T091613Z
LAST-MODIFIED:20240909T091613Z
UID:10003911-1726315200-1726336800@pola-magazin.de
SUMMARY:Inselfest Hermannswerder
DESCRIPTION:Verbringt einen Nachmittag mit Familie oder Freunden auf der Insel Hermannswerder und lernt die Angebote der Hoffbauer-Einrichtungen kennen! Ob ihr paddeln\, auf der Hüpfburg springen\, schlemmen\, Musik lauschen\, tanzen oder kreativ werden wollt: Für alle ist etwas dabei! Neugierige Fragen sind bei den offenen Türen und Rundgängen ausdrücklich erwünscht: Die Kita Hermannswerder\, das Evangelische Gymnasium\, die Beruflichen Schulen Hermannswerder\, die Schule für ATA/OTA und die Hochschule Döpfer öffnen ihre Türen. \nNeu in diesem Jahr ist ein Flohmarkt auf dem Parkplatz am Gymnasium. Um 16 Uhr findet ein Bambini-Lauf für Kinder im Kitaalter statt. Eine Anmeldung ist nicht nötig. \nZeit: Samstag\, 14. September\, 12-18 Uhr \nOrt: Wiese vor dem Hoffbauer-Tagungshaus\, Hermannswerder 23\, 14473 Potsdam. \nWeitere Hinweise: Der Eintritt ist frei. Wir empfehlen die Anreise mit öffentlichen Verkehrsmitteln. \n→ mehr erfahren \n 
URL:https://pola-magazin.de/veranstaltung/inselfest-hermannswerder/
LOCATION:Insel Hermannswerder\, Potsdam\, 14473
CATEGORIES:Eintritt frei,Familienfest,Flohmarkt
ATTACH;FMTTYPE=image/jpeg:https://pola-magazin.de/wp-content/uploads/2024/09/inselfest-hermannswerder-hoffbauer-2024.jpg
END:VEVENT
END:VCALENDAR