BEGIN:VCALENDAR
VERSION:2.0
PRODID:-//‍‍‍ POLA I Entdecke das Familienmagazin für Eltern und Kind - ECPv6.15.20//NONSGML v1.0//EN
CALSCALE:GREGORIAN
METHOD:PUBLISH
X-ORIGINAL-URL:https://pola-magazin.de
X-WR-CALDESC:Veranstaltungen für ‍‍‍ POLA I Entdecke das Familienmagazin für Eltern und Kind
REFRESH-INTERVAL;VALUE=DURATION:PT1H
X-Robots-Tag:noindex
X-PUBLISHED-TTL:PT1H
BEGIN:VTIMEZONE
TZID:Europe/Berlin
BEGIN:DAYLIGHT
TZOFFSETFROM:+0100
TZOFFSETTO:+0200
TZNAME:CEST
DTSTART:20220327T010000
END:DAYLIGHT
BEGIN:STANDARD
TZOFFSETFROM:+0200
TZOFFSETTO:+0100
TZNAME:CET
DTSTART:20221030T010000
END:STANDARD
BEGIN:DAYLIGHT
TZOFFSETFROM:+0100
TZOFFSETTO:+0200
TZNAME:CEST
DTSTART:20230326T010000
END:DAYLIGHT
BEGIN:STANDARD
TZOFFSETFROM:+0200
TZOFFSETTO:+0100
TZNAME:CET
DTSTART:20231029T010000
END:STANDARD
BEGIN:DAYLIGHT
TZOFFSETFROM:+0100
TZOFFSETTO:+0200
TZNAME:CEST
DTSTART:20240331T010000
END:DAYLIGHT
BEGIN:STANDARD
TZOFFSETFROM:+0200
TZOFFSETTO:+0100
TZNAME:CET
DTSTART:20241027T010000
END:STANDARD
BEGIN:DAYLIGHT
TZOFFSETFROM:+0100
TZOFFSETTO:+0200
TZNAME:CEST
DTSTART:20250330T010000
END:DAYLIGHT
BEGIN:STANDARD
TZOFFSETFROM:+0200
TZOFFSETTO:+0100
TZNAME:CET
DTSTART:20251026T010000
END:STANDARD
END:VTIMEZONE
BEGIN:VEVENT
DTSTART;TZID=Europe/Berlin:20241201T160000
DTEND;TZID=Europe/Berlin:20241201T160000
DTSTAMP:20260424T060722
CREATED:20240904T093310Z
LAST-MODIFIED:20240904T093310Z
UID:10003830-1733068800-1733068800@pola-magazin.de
SUMMARY:Wer Wie Was Weihnachten (ab 4)
DESCRIPTION:Wie immer halten die beiden Trollmädchen Frieda und Mey Winterschlaf. Doch in diesem Jahr werden sie von Hörnchen geweckt: „Weihnachten steht vor der Tür und ich brauche dringend DAS Geschenk“. „Wer ist denn Weihnachten und was könnte er denn gut gebrauchen?“\, fragt Frieda. Aber da ist Hörnchen schon über alle Berge. Daraufhin machen sich Frieda und Mey viele Gedanken\, wie sie Weihnachten erfreuen können. Eine heitere Fabel über Trolle\, die Weihnachten auf besondere Art für sich entdecken. \nUte Kahmann spielt seit 1987 professionell Figurentheater für Kinder und Erwachsene. Neben verschiedenen Regieaufträgen arbeitet sie als Gastdozentin an der Hochschule für Schauspielkunst Ernst Busch in Berlin. Mit ihren unverwechselbaren Inszenierungen ist sie regelmäßig bundesweit auf Gastspielreise und wurde bereits zu diversen Festivals eingeladen.
URL:https://pola-magazin.de/veranstaltung/wer-wie-was-weihnachten-ab-4-2/
LOCATION:T-Werk\, Schiffbauergasse 4E\, Potsdam\, 14467
CATEGORIES:Märchen & Geschichten,Puppentheater,Theater
END:VEVENT
BEGIN:VEVENT
DTSTART;TZID=Europe/Berlin:20241130T160000
DTEND;TZID=Europe/Berlin:20241130T160000
DTSTAMP:20260424T060722
CREATED:20240904T093305Z
LAST-MODIFIED:20240904T093305Z
UID:10003829-1732982400-1732982400@pola-magazin.de
SUMMARY:Wer Wie Was Weihnachten (ab 4)
DESCRIPTION:Wie immer halten die beiden Trollmädchen Frieda und Mey Winterschlaf. Doch in diesem Jahr werden sie von Hörnchen geweckt: „Weihnachten steht vor der Tür und ich brauche dringend DAS Geschenk“. „Wer ist denn Weihnachten und was könnte er denn gut gebrauchen?“\, fragt Frieda. Aber da ist Hörnchen schon über alle Berge. Daraufhin machen sich Frieda und Mey viele Gedanken\, wie sie Weihnachten erfreuen können. Eine heitere Fabel über Trolle\, die Weihnachten auf besondere Art für sich entdecken. \nUte Kahmann spielt seit 1987 professionell Figurentheater für Kinder und Erwachsene. Neben verschiedenen Regieaufträgen arbeitet sie als Gastdozentin an der Hochschule für Schauspielkunst Ernst Busch in Berlin. Mit ihren unverwechselbaren Inszenierungen ist sie regelmäßig bundesweit auf Gastspielreise und wurde bereits zu diversen Festivals eingeladen.
URL:https://pola-magazin.de/veranstaltung/wer-wie-was-weihnachten-ab-4/
LOCATION:T-Werk\, Schiffbauergasse 4E\, Potsdam\, 14467
CATEGORIES:Märchen & Geschichten,Puppentheater,Theater
END:VEVENT
BEGIN:VEVENT
DTSTART;TZID=Europe/Berlin:20240225T160000
DTEND;TZID=Europe/Berlin:20240225T160000
DTSTAMP:20260424T060722
CREATED:20231108T152824Z
LAST-MODIFIED:20231108T152824Z
UID:10002987-1708876800-1708876800@pola-magazin.de
SUMMARY:Der kleine Eisbär
DESCRIPTION:Ab 4 J. Lars\, der kleine Eisbär\, sehnt sich nach den Abenteuern in der weiten Welt. Als er neugierig eine Kiste erkunden will\, ist er plötzlich gefangen. Im Bauch eines Flugzeuges gelingt es ihm\, sich zu befreien\, und er findet in den anderen Kisten seinen Freund\, das Walross\, und auch Lea\, das Braunbärenmädchen. Bei einer Zwischenlandung können sie fliehen und gelangen auf abenteuerliche Weise wieder an den Nordpol zurück. Und Lars hat nun eine neue Bärenfreundin. \nUte Kahmann spielt seit 1987 professionell Figurentheater für Kinder und Erwachsene. Neben verschiedenen Regieaufträgen ist sie Gastdozentin an der Schauspielschule Ernst Busch in Berlin. Mit ihrer unverwechselbaren Art zu spielen hat sie nicht nur in Berlin\, sondern auch bundesweit\, sowie auf Festivals begeisterte Freunde gefunden. Im T-Werk ist Ute Kahmann seit vielen Jahren ein regelmäßiger und gern gesehener Gast.
URL:https://pola-magazin.de/veranstaltung/der-kleine-eisbaer/
LOCATION:T-Werk\, Schiffbauergasse 4E\, Potsdam\, 14467
CATEGORIES:Märchen & Geschichten,Puppentheater,Theater
END:VEVENT
BEGIN:VEVENT
DTSTART;TZID=Europe/Berlin:20231209T160000
DTEND;TZID=Europe/Berlin:20231209T170000
DTSTAMP:20260424T060722
CREATED:20231109T130930Z
LAST-MODIFIED:20231109T130930Z
UID:10003058-1702137600-1702141200@pola-magazin.de
SUMMARY:Sterntaler
DESCRIPTION:Puppentheater nach dem Märchen der Brüder Grimm (4+)\nEs war einmal ein kleines Mädchen\, dem waren Vater und Mutter gestorben und es hatte nichts mehr als die Kleider auf dem Leib und ein Stück Brot in der Hand. Da ging es hinaus in den Wald und verschenkte nach und nach alles\, was es noch besaß: zuerst das Brot\, dann das Mützchen und auch noch das Röckchen. Und als es dunkle Nacht wurde und es so stand und gar nichts mehr hatte\, als ein Hemdchen am Leib\, da fielen auf einmal die Sterne vom Himmel … \nUte Kahmann spielt seit 1987 professionell Figurentheater für Kinder und Erwachsene. Neben verschiedenen Regieaufträgen arbeitet sie als Gastdozentin an der „Hochschule für Schauspielkunst Ernst Busch“ in Berlin. Mit ihren unverwechselbaren Inszenierungen ist sie regelmäßig bundesweit auf Gastspielreise und wurde bereits zu diversen Festivals eingeladen.
URL:https://pola-magazin.de/veranstaltung/sterntaler/
LOCATION:T-Werk\, Schiffbauergasse 4E\, Potsdam\, 14467
CATEGORIES:Puppentheater
END:VEVENT
END:VCALENDAR