BEGIN:VCALENDAR
VERSION:2.0
PRODID:-//‍‍‍ POLA I Entdecke das Familienmagazin für Eltern und Kind - ECPv6.15.20//NONSGML v1.0//EN
CALSCALE:GREGORIAN
METHOD:PUBLISH
X-WR-CALNAME:‍‍‍ POLA I Entdecke das Familienmagazin für Eltern und Kind
X-ORIGINAL-URL:https://pola-magazin.de
X-WR-CALDESC:Veranstaltungen für ‍‍‍ POLA I Entdecke das Familienmagazin für Eltern und Kind
REFRESH-INTERVAL;VALUE=DURATION:PT1H
X-Robots-Tag:noindex
X-PUBLISHED-TTL:PT1H
BEGIN:VTIMEZONE
TZID:Europe/Berlin
BEGIN:DAYLIGHT
TZOFFSETFROM:+0100
TZOFFSETTO:+0200
TZNAME:CEST
DTSTART:20230326T010000
END:DAYLIGHT
BEGIN:STANDARD
TZOFFSETFROM:+0200
TZOFFSETTO:+0100
TZNAME:CET
DTSTART:20231029T010000
END:STANDARD
BEGIN:DAYLIGHT
TZOFFSETFROM:+0100
TZOFFSETTO:+0200
TZNAME:CEST
DTSTART:20240331T010000
END:DAYLIGHT
BEGIN:STANDARD
TZOFFSETFROM:+0200
TZOFFSETTO:+0100
TZNAME:CET
DTSTART:20241027T010000
END:STANDARD
BEGIN:DAYLIGHT
TZOFFSETFROM:+0100
TZOFFSETTO:+0200
TZNAME:CEST
DTSTART:20250330T010000
END:DAYLIGHT
BEGIN:STANDARD
TZOFFSETFROM:+0200
TZOFFSETTO:+0100
TZNAME:CET
DTSTART:20251026T010000
END:STANDARD
END:VTIMEZONE
BEGIN:VEVENT
DTSTART;TZID=Europe/Berlin:20240618T190000
DTEND;TZID=Europe/Berlin:20240618T203000
DTSTAMP:20260420T023711
CREATED:20240410T101347Z
LAST-MODIFIED:20240410T101347Z
UID:10003459-1718737200-1718742600@pola-magazin.de
SUMMARY:Bindungs- und beziehungsorientierte Begleitung bei Kindern
DESCRIPTION:​​​​​​Wenn wir neue Wege gehen und unsere Kinder Bindungs- und Beziehungsorientiert begleiten\, kommen wir oft an unsere Grenzen. Viele Fragen tuen sich auf und oft sind wir verunsichert\, wie diese Begleitung anders geht. \nWir haben Raum für Fragen und werden uns diesen Themen widmen: \nWas ist Bindungs- und Beziehungsorientiert überhaupt?\nUm welche Bedürfnisse geht es dabei?\nWie zeige ich mich in meinen Grenzen?\nWie setze ich eine Bindungs- und Beziehungsorientiert Begleitung im Alltag um? \nDer gemeinsame Austausch findet als Online-Veranstaltung am 18.06.2024 statt. Die Zugangsdaten erhalten Sie nach erfolgreicher Anmeldung.
URL:https://pola-magazin.de/veranstaltung/bindungs-und-beziehungsorientierte-begleitung-bei-kindern/
LOCATION:online
CATEGORIES:Eintritt frei,Für Eltern
END:VEVENT
BEGIN:VEVENT
DTSTART;TZID=Europe/Berlin:20240423T190000
DTEND;TZID=Europe/Berlin:20240423T203000
DTSTAMP:20260420T023711
CREATED:20240410T100257Z
LAST-MODIFIED:20240410T100257Z
UID:10003456-1713898800-1713904200@pola-magazin.de
SUMMARY:Medien in der frühen Kindheit
DESCRIPTION:Kinder werden in die digitale Welt geboren. Vom 1. Tag an sind sie umgeben von diversen Medien\, die unseren Alltag prägen. Mit zunehmenden Alter wächst schnell die Faszination für Smartphone\, Tablet & TV. \nWir haben Raum für Fragen und werden uns diesen Themen widmen: \nWas macht das Umgebensein von Medien mit den Jüngsten und worauf sollten wir als Eltern achten?\nWieviel Nutzung ist ok? Wo finde ich gute Angebote?\nUnd wie lässt sich die Mediennutzung gut gemeinsam regeln? \nDer gemeinsame Austausch findet als Online-Veranstaltung am 23.04.2024 statt. Die Zugangsdaten erhalten Sie nach erfolgreicher Anmeldung.
URL:https://pola-magazin.de/veranstaltung/medien-in-der-fruehen-kindheit/
LOCATION:online
CATEGORIES:Für Eltern
END:VEVENT
END:VCALENDAR