BEGIN:VCALENDAR
VERSION:2.0
PRODID:-//‍‍‍ POLA I Entdecke das Familienmagazin für Eltern und Kind - ECPv6.15.20//NONSGML v1.0//EN
CALSCALE:GREGORIAN
METHOD:PUBLISH
X-WR-CALNAME:‍‍‍ POLA I Entdecke das Familienmagazin für Eltern und Kind
X-ORIGINAL-URL:https://pola-magazin.de
X-WR-CALDESC:Veranstaltungen für ‍‍‍ POLA I Entdecke das Familienmagazin für Eltern und Kind
REFRESH-INTERVAL;VALUE=DURATION:PT1H
X-Robots-Tag:noindex
X-PUBLISHED-TTL:PT1H
BEGIN:VTIMEZONE
TZID:Europe/Berlin
BEGIN:DAYLIGHT
TZOFFSETFROM:+0100
TZOFFSETTO:+0200
TZNAME:CEST
DTSTART:20250330T010000
END:DAYLIGHT
BEGIN:STANDARD
TZOFFSETFROM:+0200
TZOFFSETTO:+0100
TZNAME:CET
DTSTART:20251026T010000
END:STANDARD
BEGIN:DAYLIGHT
TZOFFSETFROM:+0100
TZOFFSETTO:+0200
TZNAME:CEST
DTSTART:20260329T010000
END:DAYLIGHT
BEGIN:STANDARD
TZOFFSETFROM:+0200
TZOFFSETTO:+0100
TZNAME:CET
DTSTART:20261025T010000
END:STANDARD
BEGIN:DAYLIGHT
TZOFFSETFROM:+0100
TZOFFSETTO:+0200
TZNAME:CEST
DTSTART:20270328T010000
END:DAYLIGHT
BEGIN:STANDARD
TZOFFSETFROM:+0200
TZOFFSETTO:+0100
TZNAME:CET
DTSTART:20271031T010000
END:STANDARD
END:VTIMEZONE
BEGIN:VEVENT
DTSTART;TZID=Europe/Berlin:20260607T110000
DTEND;TZID=Europe/Berlin:20260607T120000
DTSTAMP:20260421T011407
CREATED:20260410T072603Z
LAST-MODIFIED:20260410T072603Z
UID:10006368-1780830000-1780833600@pola-magazin.de
SUMMARY:Potsdamer Tanztage 2026 – THINGS at the End of the Wolrd (3+)
DESCRIPTION:Zwei Performer*innen bewegen sich zwischen geheimnisvollen Objekten\, die an Steine und Fragmente einer Landschaft erinnern. Umgeben vom Publikum beginnt sich dieses seltsame Terrain langsam zu verändern. In THINGS at the End of the World entwirft Alfredo Zinola einen poetischen Spielraum zwischen Tanz\, Objekt-Theater und Fantasie. \nSteine werden verschoben\, Abstand entsteht und löst sich wieder auf\, während unerwartete Elemente auftauchen – ein unruhiger\, erdähnlicher Ball\, schimmernder Schleim und kleine Steine\, die sich scheinbar von selbst bewegen. Mit zartem Humor und Neugier lädt das Stück Kinder und Erwachsene dazu ein\, die lebendige Präsenz der Dinge neu zu entdecken – und sich dem Geheimnis der Natur mit Staunen und Aufmerksamkeit zu nähern.
URL:https://pola-magazin.de/veranstaltung/potsdamer-tanztage-2026-things-at-the-end-of-the-wolrd-3/
LOCATION:fabrik Potsdam\, Schiffbauergasse 10\, Potsdam\, 14467
CATEGORIES:Baby & Kleinkind,Tanz & Ballett
END:VEVENT
END:VCALENDAR