BEGIN:VCALENDAR
VERSION:2.0
PRODID:-//‍‍‍ POLA I Entdecke das Familienmagazin für Eltern und Kind - ECPv6.15.20//NONSGML v1.0//EN
CALSCALE:GREGORIAN
METHOD:PUBLISH
X-WR-CALNAME:‍‍‍ POLA I Entdecke das Familienmagazin für Eltern und Kind
X-ORIGINAL-URL:https://pola-magazin.de
X-WR-CALDESC:Veranstaltungen für ‍‍‍ POLA I Entdecke das Familienmagazin für Eltern und Kind
REFRESH-INTERVAL;VALUE=DURATION:PT1H
X-Robots-Tag:noindex
X-PUBLISHED-TTL:PT1H
BEGIN:VTIMEZONE
TZID:Europe/Berlin
BEGIN:DAYLIGHT
TZOFFSETFROM:+0100
TZOFFSETTO:+0200
TZNAME:CEST
DTSTART:20220327T010000
END:DAYLIGHT
BEGIN:STANDARD
TZOFFSETFROM:+0200
TZOFFSETTO:+0100
TZNAME:CET
DTSTART:20221030T010000
END:STANDARD
BEGIN:DAYLIGHT
TZOFFSETFROM:+0100
TZOFFSETTO:+0200
TZNAME:CEST
DTSTART:20230326T010000
END:DAYLIGHT
BEGIN:STANDARD
TZOFFSETFROM:+0200
TZOFFSETTO:+0100
TZNAME:CET
DTSTART:20231029T010000
END:STANDARD
BEGIN:DAYLIGHT
TZOFFSETFROM:+0100
TZOFFSETTO:+0200
TZNAME:CEST
DTSTART:20240331T010000
END:DAYLIGHT
BEGIN:STANDARD
TZOFFSETFROM:+0200
TZOFFSETTO:+0100
TZNAME:CET
DTSTART:20241027T010000
END:STANDARD
BEGIN:DAYLIGHT
TZOFFSETFROM:+0100
TZOFFSETTO:+0200
TZNAME:CEST
DTSTART:20250330T010000
END:DAYLIGHT
BEGIN:STANDARD
TZOFFSETFROM:+0200
TZOFFSETTO:+0100
TZNAME:CET
DTSTART:20251026T010000
END:STANDARD
BEGIN:DAYLIGHT
TZOFFSETFROM:+0100
TZOFFSETTO:+0200
TZNAME:CEST
DTSTART:20260329T010000
END:DAYLIGHT
BEGIN:STANDARD
TZOFFSETFROM:+0200
TZOFFSETTO:+0100
TZNAME:CET
DTSTART:20261025T010000
END:STANDARD
BEGIN:DAYLIGHT
TZOFFSETFROM:+0100
TZOFFSETTO:+0200
TZNAME:CEST
DTSTART:20270328T010000
END:DAYLIGHT
BEGIN:STANDARD
TZOFFSETFROM:+0200
TZOFFSETTO:+0100
TZNAME:CET
DTSTART:20271031T010000
END:STANDARD
END:VTIMEZONE
BEGIN:VEVENT
DTSTART;TZID=Europe/Berlin:20260409T080000
DTEND;TZID=Europe/Berlin:20260409T170000
DTSTAMP:20260421T023957
CREATED:20260410T072607Z
LAST-MODIFIED:20260410T072607Z
UID:10006369-1775721600-1775754000@pola-magazin.de
SUMMARY:Potsdamer Tanztage 2026 – THINGS at the End of the Wolrd (3+)
DESCRIPTION:Zwei Performer*innen bewegen sich zwischen geheimnisvollen Objekten\, die an Steine und Fragmente einer Landschaft erinnern. Umgeben vom Publikum beginnt sich dieses seltsame Terrain langsam zu verändern. In THINGS at the End of the World entwirft Alfredo Zinola einen poetischen Spielraum zwischen Tanz\, Objekt-Theater und Fantasie. \nSteine werden verschoben\, Abstand entsteht und löst sich wieder auf\, während unerwartete Elemente auftauchen – ein unruhiger\, erdähnlicher Ball\, schimmernder Schleim und kleine Steine\, die sich scheinbar von selbst bewegen. Mit zartem Humor und Neugier lädt das Stück Kinder und Erwachsene dazu ein\, die lebendige Präsenz der Dinge neu zu entdecken – und sich dem Geheimnis der Natur mit Staunen und Aufmerksamkeit zu nähern.
URL:https://pola-magazin.de/veranstaltung/potsdamer-tanztage-2026-things-at-the-end-of-the-wolrd-3-2/
LOCATION:fabrik Potsdam\, Schiffbauergasse 10\, Potsdam\, 14467
CATEGORIES:Baby & Kleinkind,Tanz & Ballett
END:VEVENT
BEGIN:VEVENT
DTSTART;TZID=Europe/Berlin:20250119T110000
DTEND;TZID=Europe/Berlin:20250119T114000
DTSTAMP:20260421T023957
CREATED:20240827T135155Z
LAST-MODIFIED:20250116T094212Z
UID:10004263-1737284400-1737286800@pola-magazin.de
SUMMARY:Kosmokörper (6+)
DESCRIPTION:KOSMOKÖRPER lädt das Publikum auf eine kosmisch-anatomische Reise durch das Innere des menschlichen Körpers ein. Es ist eine Suche nach einem Tanz der Organe und Körpersysteme und ihren Prozessen wie das Atmen\, das Verdauen\, das Ausscheiden\, Krank sein\, Heilen\, Träumen\, Altern\, Sterben. \nWas passiert\, wenn wir in diesem dynamischen Tanz von innen nach außen auf Organe treffen\, die mit Pflanzen und Tieren verschmolzen sind oder auf Atemzüge\, die die Form von Wolken oder Wirbelstürmen annehmen? Gibt es in uns Hohlräume\, die schwarzen Löchern im Weltall ähneln oder Flüssigkeiten\, die wie Flüsse fließen? Sehen wir dort auch Müll\, Plastik\, Abfälle? \nKOSMOKÖRPER regt an\, die Verbindungen zwischen Innen und Außen\, Teil und Ganzem\, Körper und Kosmos neu zu überdenken und nach einer Erfahrung von Ökologie zu suchen\, die in uns selbst stattfindet. \nIm Kunstraum / Waschhaus
URL:https://pola-magazin.de/veranstaltung/kosmokoerper-6-im-rahmen-vom-festival-explore-dance-5/2025-01-19/
LOCATION:Waschhaus Potsdam\, Schiffbauergasse 6\, Potsdam\, 14467
CATEGORIES:Tanz & Ballett
END:VEVENT
BEGIN:VEVENT
DTSTART;TZID=Europe/Berlin:20250118T173000
DTEND;TZID=Europe/Berlin:20250118T182000
DTSTAMP:20260421T023957
CREATED:20240827T135155Z
LAST-MODIFIED:20250116T094212Z
UID:10004262-1737221400-1737224400@pola-magazin.de
SUMMARY:Kosmokörper (6+)
DESCRIPTION:KOSMOKÖRPER lädt das Publikum auf eine kosmisch-anatomische Reise durch das Innere des menschlichen Körpers ein. Es ist eine Suche nach einem Tanz der Organe und Körpersysteme und ihren Prozessen wie das Atmen\, das Verdauen\, das Ausscheiden\, Krank sein\, Heilen\, Träumen\, Altern\, Sterben. \nWas passiert\, wenn wir in diesem dynamischen Tanz von innen nach außen auf Organe treffen\, die mit Pflanzen und Tieren verschmolzen sind oder auf Atemzüge\, die die Form von Wolken oder Wirbelstürmen annehmen? Gibt es in uns Hohlräume\, die schwarzen Löchern im Weltall ähneln oder Flüssigkeiten\, die wie Flüsse fließen? Sehen wir dort auch Müll\, Plastik\, Abfälle? \nKOSMOKÖRPER regt an\, die Verbindungen zwischen Innen und Außen\, Teil und Ganzem\, Körper und Kosmos neu zu überdenken und nach einer Erfahrung von Ökologie zu suchen\, die in uns selbst stattfindet. \nIm Kunstraum / Waschhaus
URL:https://pola-magazin.de/veranstaltung/kosmokoerper-6-im-rahmen-vom-festival-explore-dance-5/2025-01-18/
LOCATION:Waschhaus Potsdam\, Schiffbauergasse 6\, Potsdam\, 14467
CATEGORIES:Tanz & Ballett
END:VEVENT
BEGIN:VEVENT
DTSTART;TZID=Europe/Berlin:20240922T160000
DTEND;TZID=Europe/Berlin:20240922T165000
DTSTAMP:20260421T023957
CREATED:20240827T135826Z
LAST-MODIFIED:20240905T121559Z
UID:10003816-1727020800-1727023800@pola-magazin.de
SUMMARY:Suite (4+) im Rahmen vom Festival explore dance #5
DESCRIPTION:Musik kribbelt in den Beinen und schüttelt die Bäuche. Musik lässt Menschen springen\, stampfen\, sich wiegen und drehen. Musik findet die Ohren\, fließt durch den Körper\, füllt ihn bis in die Haarspitzen. Musik ist laut und leise. Musik ist da\, auch wenn sie weg ist. Musik ist schnell. Musik ist langsam. Unsere Körper tanzen mit Musik\, zur Musik. Unsere Körper tanzen ohne Musik. Unsere Körper machen Musik. \nIn Suite laden zwei Tänzer*innen und eine Cellistin Kinder ein\, mit ihnen zusammen Musik zu erleben\, zu ertanzen und zu genießen. Sie öffnen sich dabei den Geschichten\, Bildern und Emotionen\, die Musik im tanzenden Körper auslösen kann. Zu hören sind die berühmten Cello-Suiten von Johann Sebastian Bach. \nmehr erfahren
URL:https://pola-magazin.de/veranstaltung/suite-4-im-rahmen-vom-festival-explore-dance-5/
LOCATION:fabrik Potsdam\, Schiffbauergasse 10\, Potsdam\, 14467
CATEGORIES:Tanz & Ballett
END:VEVENT
BEGIN:VEVENT
DTSTART;VALUE=DATE:20240920
DTEND;VALUE=DATE:20240927
DTSTAMP:20260421T023957
CREATED:20230919T124154Z
LAST-MODIFIED:20240905T122500Z
UID:10002909-1726790400-1727395199@pola-magazin.de
SUMMARY:FESTIVAL explore dance: Tanz für junges Publikum
DESCRIPTION:Explosiv und kraftvoll\, verletzlich und zart\, irritierend und verzaubernd – all das und noch viel mehr kann Tanz! Das Festival explore dance #5 lädt Kinder\, Jugendliche\, Familien\, Schulklassen und Lehrer*innen ein\, den Tanz in fünf unterschiedlichen Tanzstücken zu begegnen. Erlebt werden kann dies auf der Bühne der fabrik\, in Schulräumen\, Turnhallen und soziokulturellen Zentren in Potsdam und dem Land Brandenburg. Zudem ist das Festival gerahmt durch ein Jugendaustauschprogramm zwischen Jugendtanzgruppen aus Potsdam und Brandenburg\, einem Tanzworkshop für Lehrkräfte\, Austauschtreff en zwischen explore dance Choreograf*innen und einem kulturpolitischen Panel. \nWir freuen uns auf viele neugierige kleine und große Zuschauer:innen! → zum Programm
URL:https://pola-magazin.de/veranstaltung/festival-explore-dance-tanz-fuer-junges-publikum/
LOCATION:fabrik Potsdam\, Schiffbauergasse 10\, Potsdam\, 14467
CATEGORIES:Tanz & Ballett
ATTACH;FMTTYPE=image/png:https://pola-magazin.de/wp-content/uploads/2023/09/Trailer.png
END:VEVENT
BEGIN:VEVENT
DTSTART;TZID=Europe/Berlin:20230924T110000
DTEND;TZID=Europe/Berlin:20230924T110000
DTSTAMP:20260421T023957
CREATED:20230830T133952Z
LAST-MODIFIED:20230830T133952Z
UID:10002870-1695553200-1695553200@pola-magazin.de
SUMMARY:FESTIVAL EXPLORE DANCE #4: Horace (6+)
DESCRIPTION:„Mein Vater schenkte mir zu meinem zweiten Geburtstag einen Krokodilschädel. Ich habe ihn Horace genannt. Horace war einst ein 4\,5 Meter langes Krokodil\, das an der Nordküste Australiens lebte. Als er alt war\, schwamm er in den Mangrovensumpf\, um friedlich zur Erde zurückzukehren\, und dort fand ihn mein Vater.“ \nHorace ist ein Duett zwischen Renae Shadler und einem Krokodilschädel. Das Pop Up thematisiert den regenerativen Zyklus des Lebens und basiert auf Renaes wahrer Geschichte über ihre lebenslange Freundschaft mit dem Knochen und ihre vielen gemeinsamen Abenteuer. Die Zuschauer:innen bewegen sich durch Welten voller Unterwasserkreaturen\, werden zu Horaces Beute und versuchen ihm zu entkommen\, schwimmen im bodenlosen Ozean mit all seinen Geheimnissen und Schönheiten und werden am Ende selbst zum Krokodil. Horace wirft die Frage auf\, wie wir mit tierischen Gefährten und ihrer Umgebung koexistieren und mit den Lebewesen befreundet sein können\, lange nachdem sie gestorben sind. \nRenae Shadler (Berlin)\nSo 24. Sep\, 11:00\, Biosphäre Potsdam\nDi 26. Sep\, 13:30\, Treffpunkt Freizeit (Schulaufführung)
URL:https://pola-magazin.de/veranstaltung/festival-explore-dance-4-horace-6/
LOCATION:Biosphäre Potsdam\, Georg-Hermann-Allee 99\, Potsdam\, 14469
CATEGORIES:Tanz & Ballett
END:VEVENT
END:VCALENDAR