BEGIN:VCALENDAR
VERSION:2.0
PRODID:-//‍‍‍ POLA I Entdecke das Familienmagazin für Eltern und Kind - ECPv6.15.20//NONSGML v1.0//EN
CALSCALE:GREGORIAN
METHOD:PUBLISH
X-WR-CALNAME:‍‍‍ POLA I Entdecke das Familienmagazin für Eltern und Kind
X-ORIGINAL-URL:https://pola-magazin.de
X-WR-CALDESC:Veranstaltungen für ‍‍‍ POLA I Entdecke das Familienmagazin für Eltern und Kind
REFRESH-INTERVAL;VALUE=DURATION:PT1H
X-Robots-Tag:noindex
X-PUBLISHED-TTL:PT1H
BEGIN:VTIMEZONE
TZID:Europe/Berlin
BEGIN:DAYLIGHT
TZOFFSETFROM:+0100
TZOFFSETTO:+0200
TZNAME:CEST
DTSTART:20220327T010000
END:DAYLIGHT
BEGIN:STANDARD
TZOFFSETFROM:+0200
TZOFFSETTO:+0100
TZNAME:CET
DTSTART:20221030T010000
END:STANDARD
BEGIN:DAYLIGHT
TZOFFSETFROM:+0100
TZOFFSETTO:+0200
TZNAME:CEST
DTSTART:20230326T010000
END:DAYLIGHT
BEGIN:STANDARD
TZOFFSETFROM:+0200
TZOFFSETTO:+0100
TZNAME:CET
DTSTART:20231029T010000
END:STANDARD
BEGIN:DAYLIGHT
TZOFFSETFROM:+0100
TZOFFSETTO:+0200
TZNAME:CEST
DTSTART:20240331T010000
END:DAYLIGHT
BEGIN:STANDARD
TZOFFSETFROM:+0200
TZOFFSETTO:+0100
TZNAME:CET
DTSTART:20241027T010000
END:STANDARD
END:VTIMEZONE
BEGIN:VEVENT
DTSTART;TZID=Europe/Berlin:20230521T160000
DTEND;TZID=Europe/Berlin:20230521T170000
DTSTAMP:20260423T224715
CREATED:20230120T104212Z
LAST-MODIFIED:20230120T104212Z
UID:10002461-1684684800-1684688400@pola-magazin.de
SUMMARY:Der himmlische Zirkus (3-10 J.)
DESCRIPTION:Zwei Engel machen unverhofft eine derbe Bruchlandung auf der Erde. Um die Gunst von „ganz Oben“ zu bekommen begeistern sie die Erdenbewohner mit poetischer und anmutiger Artistik\, originellen Ideen\, Witz und Charme. Neid und Missgunst machen aber auch vor einem Engel nicht Halt und so entspinnt sich eine „himmlische“ Komödie um die Beiden\, wobei die Botschaft „einander zu helfen“ als wichtige Erkenntnis gewonnen wird. \nGroßer Zirkus- und Theaterspaß für die ganze Familie!\nPointenreich und doppeldeutig hält das Stück auch einige Überraschungen auch für die Eltern bereit.
URL:https://pola-magazin.de/veranstaltung/der-himmlische-zirkus-3-10-j/
LOCATION:Lindenpark Potsdam\, Stahnsdorfer Straße 76-78\, Potsdam\, 14482
CATEGORIES:Theater
END:VEVENT
BEGIN:VEVENT
DTSTART;TZID=Europe/Berlin:20230312T160000
DTEND;TZID=Europe/Berlin:20230312T170000
DTSTAMP:20260423T224715
CREATED:20230120T103910Z
LAST-MODIFIED:20230120T103910Z
UID:10002459-1678636800-1678640400@pola-magazin.de
SUMMARY:Die fabelhafte Zauberwelt von Polly und Dolly (3-10 J.)
DESCRIPTION:Die Zauberin Polly wünscht sich eine Assistentin und beschließt ein ebenbürtiges Abbild von sich hervorzuzaubern\, eine echte Zwillingsschwester. Kann die frisch gezauberte Zwillingsschwester Dolly die Hoffnungen ihrer Schwester Polly erfüllen?\nIn diesem fröhlichen und turbulenten Theaterstück wird sehr zur Freude der Kinder kräftig gezaubert und zirzensisch getrickst.\nDie Sprecherstimme dürfte dabei vielen bekannt sein. Sie stammt von dem Sänger Thomas Pigor (Stammkünstler der Bar jeder Vernunft)
URL:https://pola-magazin.de/veranstaltung/die-fabelhafte-zauberwelt-von-polly-und-dolly-3-10-j/
LOCATION:Lindenpark Potsdam\, Stahnsdorfer Straße 76-78\, Potsdam\, 14482
CATEGORIES:Theater
END:VEVENT
BEGIN:VEVENT
DTSTART;TZID=Europe/Berlin:20230305T160000
DTEND;TZID=Europe/Berlin:20230305T170000
DTSTAMP:20260423T224715
CREATED:20230120T103800Z
LAST-MODIFIED:20230120T103800Z
UID:10002458-1678032000-1678035600@pola-magazin.de
SUMMARY:„Zirkusdirektor sucht Zirkus“ (3-10 J.)
DESCRIPTION:Ein Zirkusdirektor hat seinen Zirkus verloren. Das Zelt\, die Tiere\, die Artisten – weg. Die Clowns\, die Akrobaten\, die Musiker – Alle sind weg! Übrig geblieben sind lediglich Instrumente und Zaubertricks. Was tun? Der Zirkusdirektor träumt davon\, seinen Zirkus zurückzubekommen\, nur wie? Der Zirkusdirektor schwelgt in Erinnerungen und greift tief in den bunten Haufen von Erinnerungsstücken\, Geschenken und Sachen\, die von den Zauberern\, Clowns\, Artisten und Tieren übrig geblieben sind. Er hat keine Wahl\, er muss es tun! Er muss ALLES alleine machen. Er ist der Ein-Mann-Zirkus\, sozusagen die All-in-one-Lösung. Und er ist fest entschlossen eine unglaubliche unvergessliche nie dagewesene Zirkusvorstellung auf die Bühne zu bringen.
URL:https://pola-magazin.de/veranstaltung/zirkusdirektor-sucht-zirkus-3-10-j/
LOCATION:Lindenpark Potsdam\, Stahnsdorfer Straße 76-78\, Potsdam\, 14482
CATEGORIES:Theater,Zirkus & Zaubershow
END:VEVENT
END:VCALENDAR